From mboxrd@z Thu Jan 1 00:00:00 1970 Return-Path: Received: from mails.dpdk.org (mails.dpdk.org [217.70.189.124]) by inbox.dpdk.org (Postfix) with ESMTP id 8CCD146664 for ; Fri, 2 May 2025 02:03:36 +0200 (CEST) Received: from mails.dpdk.org (localhost [127.0.0.1]) by mails.dpdk.org (Postfix) with ESMTP id 57AAB402A8; Fri, 2 May 2025 02:03:36 +0200 (CEST) Received: from mail-yb1-f225.google.com (mail-yb1-f225.google.com [209.85.219.225]) by mails.dpdk.org (Postfix) with ESMTP id 06BC9402A4 for ; Fri, 2 May 2025 02:03:35 +0200 (CEST) Received: by mail-yb1-f225.google.com with SMTP id 3f1490d57ef6-e732fa4e2f1so1509887276.0 for ; Thu, 01 May 2025 17:03:34 -0700 (PDT) DKIM-Signature: v=1; a=rsa-sha256; c=relaxed/relaxed; d=iol.unh.edu; s=unh-iol; t=1746144214; x=1746749014; darn=dpdk.org; h=references:in-reply-to:cc:to:from:subject:message-id:date:from:to :cc:subject:date:message-id:reply-to; bh=mrSWZqAb3O79Rz/lZIj1TY5wqDopiQXUX29hOmvjnck=; b=UacXWOGo4fLHPAz05sfNhFhS4ppE3BNlaIZiGT202LIqsqLWQAwx08qJSxJeADDBra hgEzEZsKwoql0IKrO7acCixbO4RyivEgKEYw6MBcp9/fV6ULe/wGbNgvYixf4yC8dUQl vDqRxmgDZwn6og1ooLzGEUArL4mKHJL7nxqVY= X-Google-DKIM-Signature: v=1; a=rsa-sha256; c=relaxed/relaxed; d=1e100.net; s=20230601; t=1746144214; x=1746749014; h=references:in-reply-to:cc:to:from:subject:message-id:date :x-gm-message-state:from:to:cc:subject:date:message-id:reply-to; bh=mrSWZqAb3O79Rz/lZIj1TY5wqDopiQXUX29hOmvjnck=; b=e0z+bJslNb/OtSXYGGFyeiIh0btDKhvijUmHhtiHIxlMVM414iKIgULVbkOown2hkb VMVYqbEdghb75xpoGwJXnwoZo2hLEWdOHisS9ZO9w+dEeJp2lVnHldfqSqSIFV9NJvrm mZMv0WbxhZ9xkqDYQS269oyjKF7r8fAtrLNh9hC7lKEz14F68cXWmaz2NV6DdDWzai0k Te4fSwuD4jrdLXi/eEMP8O+ChgNe+Jruc3DCoHst4kU5i7/qYUqvOAq1mg/pxawSsgra yyRAbD5/BKuLJaQZIJMB9Xo9q3QKl4/m05+0znGiFWVLoJFd0F3GTGgggUa8JAQzmrZh fHWg== X-Gm-Message-State: AOJu0Yz/EtDOIy93I7y3Z4nfe1SPXL3KIQ+hYBNs59Iv3ql7BvNOo4O9 fbeZBxKdWdhMGDYrWbNVoIxIwc+GwwcrQj6L6QChQln6OXXelMI0eY+OqfNQttvCZAORMTUErIH 0gxCQRQFqLESV57IyL0Tte3K/wsW4LAnsiCXEN4Ms X-Gm-Gg: ASbGncteV7403w6x2d8zwRIKvLcZKDiIQnrm8oCrP5OEJnoNIzUxzM32mbEaerG5M3q sy4ksNC3FA2z2b7xlXCafvrCN6izJUeKWyYKiXILmHM5LMldKKqUp2uNKYR2TfEfSfarpT/zLTm TM6sttWSV7DLOvxejCOk/yyf2d98BKx6i8m51ncC9kFHU+7D1QxdjtxS8BX8YDSpvOzq9BbbnvB lJrFzaQPiczxGmHNnueD5vwvkg7XacY5YQN1aPYlcE0FhR8972kQhjCL3kcUFhXnMiaT2zeEnE2 h4EtM1EuAAm3eyAmdVdOeoETge9H3qtVuotK X-Google-Smtp-Source: AGHT+IE62dlWoYBjneTWHMCEPntn37GKa8f43NhQTrurWc4q+fYmESSudI1L62+Ch7O1tBQtbLSYz6ym/Izb X-Received: by 2002:a05:6902:1501:b0:e75:6019:3648 with SMTP id 3f1490d57ef6-e7565627506mr1371779276.38.1746144214215; Thu, 01 May 2025 17:03:34 -0700 (PDT) Received: from postal.iol.unh.edu (postal.iol.unh.edu. [132.177.123.84]) by smtp-relay.gmail.com with ESMTPS id 3f1490d57ef6-e755e716c04sm349798276.18.2025.05.01.17.03.34 (version=TLS1_2 cipher=ECDHE-ECDSA-AES128-GCM-SHA256 bits=128/128); Thu, 01 May 2025 17:03:34 -0700 (PDT) X-Relaying-Domain: iol.unh.edu Date: Thu, 01 May 2025 17:03:34 -0700 (PDT) Message-ID: <68140bd6.250a0220.afee5.62a8SMTPIN_ADDED_MISSING@mx.google.com> Received: from [172.17.0.5] (unknown [172.18.0.74]) by postal.iol.unh.edu (Postfix) with ESMTP id A173E6052471; Thu, 1 May 2025 20:03:33 -0400 (EDT) Subject: |SUCCESS| pw153221 [PATCH] [v1,1/1] bbdev: fix possible null pointer From: dpdklab@iol.unh.edu To: Test Report Cc: dpdk-test-reports@iol.unh.edu In-Reply-To: <20250501221031.4569-2-nicolas.chautru@intel.com> References: <20250501221031.4569-2-nicolas.chautru@intel.com> Content-Type: text/plain X-BeenThere: test-report@dpdk.org X-Mailman-Version: 2.1.29 Precedence: list List-Id: automatic DPDK test reports List-Unsubscribe: , List-Archive: List-Post: List-Help: List-Subscribe: , Errors-To: test-report-bounces@dpdk.org Test-Label: iol-unit-arm64-testing Test-Status: SUCCESS http://dpdk.org/patch/153221 _Testing PASS_ Submitter: Nicolas Chautru Date: Thursday, May 01 2025 22:10:31 DPDK git baseline: Repo:dpdk Branch: master CommitID:4029c5e3f2c6e950e8579be2401dab12e4209d53 153221 --> testing pass Upstream job id: Generic-Unit-Test-DPDK#334658 Test environment and result as below: +-----------------------------+---------------------------+------------------------------+--------------+----------------+ | Environment | cryptodev_sw_zuc_autotest | cryptodev_sw_snow3g_autotest | lpm_autotest | dpdk_unit_test | +=============================+===========================+==============================+==============+================+ | Debian 12 (arm) | PASS | PASS | SKIPPED | PASS | +-----------------------------+---------------------------+------------------------------+--------------+----------------+ | Ubuntu 20.04 ARM SVE | SKIPPED | SKIPPED | PASS | SKIPPED | +-----------------------------+---------------------------+------------------------------+--------------+----------------+ | CentOS Stream 9 (ARM) | SKIPPED | SKIPPED | SKIPPED | PASS | +-----------------------------+---------------------------+------------------------------+--------------+----------------+ | RHEL9 (ARM) | SKIPPED | SKIPPED | SKIPPED | PASS | +-----------------------------+---------------------------+------------------------------+--------------+----------------+ | Ubuntu 22.04 (ARM) | SKIPPED | SKIPPED | SKIPPED | PASS | +-----------------------------+---------------------------+------------------------------+--------------+----------------+ | Ubuntu 20.04 (ARM) | SKIPPED | SKIPPED | SKIPPED | PASS | +-----------------------------+---------------------------+------------------------------+--------------+----------------+ | Fedora 40 (ARM Clang) | SKIPPED | SKIPPED | SKIPPED | PASS | +-----------------------------+---------------------------+------------------------------+--------------+----------------+ | CentOS Stream 10 (ARM) | SKIPPED | SKIPPED | SKIPPED | PASS | +-----------------------------+---------------------------+------------------------------+--------------+----------------+ | Fedora 40 (ARM) | SKIPPED | SKIPPED | SKIPPED | PASS | +-----------------------------+---------------------------+------------------------------+--------------+----------------+ | Ubuntu 24.04 (ARM) | SKIPPED | SKIPPED | SKIPPED | PASS | +-----------------------------+---------------------------+------------------------------+--------------+----------------+ | Fedora 41 (ARM Clang) | SKIPPED | SKIPPED | SKIPPED | PASS | +-----------------------------+---------------------------+------------------------------+--------------+----------------+ | Fedora 41 (ARM) | SKIPPED | SKIPPED | SKIPPED | PASS | +-----------------------------+---------------------------+------------------------------+--------------+----------------+ | 32-bit Ubuntu 22.04.4 (ARM) | SKIPPED | SKIPPED | SKIPPED | PASS | +-----------------------------+---------------------------+------------------------------+--------------+----------------+ Debian 12 (arm) Kernel: Depends on container host Compiler: gcc (Debian 12.2.0-14) 12.2.0 Ubuntu 20.04 ARM SVE Kernel: Depends on container host Compiler: gcc (Ubuntu 10.5.0-1ubuntu1~20.04) 10.5.0 CentOS Stream 9 (ARM) Kernel: Depends on container host Compiler: gcc 11.5.0 20240719 (Red Hat 11.5.0-2) RHEL9 (ARM) Kernel: Depends on container host Compiler: gcc 11.5.0 20240719 (Red Hat 11.5.0-2) Ubuntu 22.04 (ARM) Kernel: Depends on container host Compiler: gcc (Ubuntu 11.4.0-1ubuntu1~22.04) 11.4.0 Ubuntu 20.04 (ARM) Kernel: Depends on container host Compiler: gcc (Ubuntu 9.4.0-1ubuntu1~20.04.2) 9.4.0 Fedora 40 (ARM Clang) Kernel: Depends on container host Compiler: clang 18.1.8 (Fedora 18.1.8-1.fc40) CentOS Stream 10 (ARM) Kernel: Depends on container host Compiler: gcc 14.2.1 20241104 (Red Hat 14.2.1-6) Fedora 40 (ARM) Kernel: Depends on container host Compiler: gcc 14.2.1 20240912 (Red Hat 14.2.1-3) Ubuntu 24.04 (ARM) Kernel: Depends on container host Compiler: gcc (Ubuntu 13.3.0-6ubuntu2~24.04) 13.3.0 Fedora 41 (ARM Clang) Kernel: Depends on container host Compiler: clang 19.1.5 (Fedora 19.1.5-1.fc41) Fedora 41 (ARM) Kernel: Depends on container host Compiler: gcc 14.2.1 20240912 (Red Hat 14.2.1-3) 32-bit Ubuntu 22.04.4 (ARM) Kernel: 5.15.83+ aarch64 Compiler: gcc (Ubuntu 11.4.0-1ubuntu1~22.04) 11.4.0 To view detailed results, visit: https://lab.dpdk.org/results/dashboard/patchsets/33094/ UNH-IOL DPDK Community Lab To manage your email subscriptions, visit: https://lab.dpdk.org/results/dashboard/preferences/subscriptions/