From mboxrd@z Thu Jan 1 00:00:00 1970 Return-Path: Received: from mails.dpdk.org (mails.dpdk.org [217.70.189.124]) by inbox.dpdk.org (Postfix) with ESMTP id 867D646664 for ; Fri, 2 May 2025 02:22:58 +0200 (CEST) Received: from mails.dpdk.org (localhost [127.0.0.1]) by mails.dpdk.org (Postfix) with ESMTP id 5CA5D402A4; Fri, 2 May 2025 02:22:58 +0200 (CEST) Received: from mail-io1-f97.google.com (mail-io1-f97.google.com [209.85.166.97]) by mails.dpdk.org (Postfix) with ESMTP id 5578F402A4 for ; Fri, 2 May 2025 02:22:57 +0200 (CEST) Received: by mail-io1-f97.google.com with SMTP id ca18e2360f4ac-8647a81e683so51421539f.1 for ; Thu, 01 May 2025 17:22:57 -0700 (PDT) DKIM-Signature: v=1; a=rsa-sha256; c=relaxed/relaxed; d=iol.unh.edu; s=unh-iol; t=1746145376; x=1746750176; darn=dpdk.org; h=references:in-reply-to:cc:to:from:subject:message-id:date:from:to :cc:subject:date:message-id:reply-to; bh=saYvA9zFOhlnNQvKfN3EdyhfZv51pHQtsc2l81PqpKc=; b=cTBbi3ugZRYm8+zw9ucX2jVwgjXBj5hU36coiscQBoetBLzOCorqXAH+u4ijLljVb5 5OaNV+Gvcj0xlQInwzN4mvTdWJrCGB6E7MBTvuYkMLJmSnR1DHVAjkdinciAP+RKELKF MJ4Oyu7lv0efS5YHDwsrFVar8uc1XqNnngKpk= X-Google-DKIM-Signature: v=1; a=rsa-sha256; c=relaxed/relaxed; d=1e100.net; s=20230601; t=1746145376; x=1746750176; h=references:in-reply-to:cc:to:from:subject:message-id:date :x-gm-message-state:from:to:cc:subject:date:message-id:reply-to; bh=saYvA9zFOhlnNQvKfN3EdyhfZv51pHQtsc2l81PqpKc=; b=avZpSAASkYAdknExw3LczZJeOltQt6DS6Y5FgovNDbGesO8zQh9WbVnmU68Iz4fscr h5E6Z0ph3Py1R9XfBkrl/xOK1JTqKuEaEO7kT/ZgiREWYnIGsxnRttSTvCzV2oP2tPPH 0rvcA4+NeooRoaQqzV4/tDWeM4V+EWzLl7vi8NfIs6mdHSgDoX2ZTiIFPer8kJpYW03d /L33tSseiEaZxQBlOj4bN2qA0HZ0FQPtvZGJjhOkysxi3FydisFar1K7sMv9LYEZTbu5 kil7vPp6KjmMaafq9n2zY9UV0ulmdiWpr70gwnfT16xXkc5ghrbeGgcXUjyCAjJBXilY uipg== X-Gm-Message-State: AOJu0YyPOVjtik8ojQDUq33mjN5sq7PvTMd1SGUo9Ev7IYhawiXP/nQC xSg1rGFh3EKp1qNH5TTxfyYQRkVlc8Au2MHTs8ZvA8f1tAHlJg9BC0RjVNVnjtJxQ2w1cwJQ09f r2a452JjiI76bpy81QpsLkkGddfPj0JkDDXlv1hXy/oya6uB4IldiKxL4 X-Gm-Gg: ASbGncv1/YKM/1/AqQzcJCYYS4zycHFAxC1r+raXONM9y3grOaujIIssw9P7/DSF/F+ iiDRVdLKexLbvWvMqNWFcXcrdQIhW81ZrhA05ToYQUOkriJl8+HLCroNafl9HZCDUmnp0/ceQ0H Gou++HoZHaIYzcgBg2BDeSh2sS8+am0XtIw+dc3MQxSpsbKiCW89wFuiRTudb1f4tZBfbqz6IlF E2g3FL+bDSjBMXgUPVYzBrGjoyMGoH3BQrl7WZlkA4/5WIHik6p5xhuiZOGanOWnyMRKBuqthMa 4cB3vo8dPtTtZAmAQEFagyggfbwsmZBzmRKHaT4sNYGTAaPu X-Google-Smtp-Source: AGHT+IEEfSHQIPRshiZreP0UyJJj8RVFYPvq6J9LEAbu53VJs7cwJIh6k2sxwN7Vbw4ROe6mP7s3HuhoObVB X-Received: by 2002:a05:6602:3a15:b0:85e:1879:c708 with SMTP id ca18e2360f4ac-8669fb07f5emr149391639f.1.1746145376590; Thu, 01 May 2025 17:22:56 -0700 (PDT) Received: from postal.iol.unh.edu (postal.iol.unh.edu. [2606:4100:3880:1234::84]) by smtp-relay.gmail.com with ESMTPS id ca18e2360f4ac-864aa332698sm36230739f.14.2025.05.01.17.22.56 (version=TLS1_2 cipher=ECDHE-ECDSA-AES128-GCM-SHA256 bits=128/128); Thu, 01 May 2025 17:22:56 -0700 (PDT) X-Relaying-Domain: iol.unh.edu Date: Thu, 01 May 2025 17:22:56 -0700 (PDT) Message-ID: <68141060.050a0220.1b622d.32f0SMTPIN_ADDED_MISSING@mx.google.com> Received: from [172.21.0.5] (unknown [172.18.0.240]) by postal.iol.unh.edu (Postfix) with ESMTP id 1A2656052471; Thu, 1 May 2025 20:22:56 -0400 (EDT) Subject: |SUCCESS| pw153221 [PATCH] [v1,1/1] bbdev: fix possible null pointer From: dpdklab@iol.unh.edu To: Test Report Cc: dpdk-test-reports@iol.unh.edu In-Reply-To: <20250501221031.4569-2-nicolas.chautru@intel.com> References: <20250501221031.4569-2-nicolas.chautru@intel.com> Content-Type: text/plain X-BeenThere: test-report@dpdk.org X-Mailman-Version: 2.1.29 Precedence: list List-Id: automatic DPDK test reports List-Unsubscribe: , List-Archive: List-Post: List-Help: List-Subscribe: , Errors-To: test-report-bounces@dpdk.org Test-Label: iol-sample-apps-testing Test-Status: SUCCESS http://dpdk.org/patch/153221 _Testing PASS_ Submitter: Nicolas Chautru Date: Thursday, May 01 2025 22:10:31 DPDK git baseline: Repo:dpdk Branch: master CommitID:4029c5e3f2c6e950e8579be2401dab12e4209d53 153221 --> testing pass Upstream job id: ACVP-FIPS-testing#9685 Test environment and result as below: +--------------------+----------------------+----------------------+ | Environment | compressdev_zlib_pmd | dpdk_fips_validation | +====================+======================+======================+ | Ubuntu 22.04 (ARM) | PASS | SKIPPED | +--------------------+----------------------+----------------------+ | Ubuntu 22.04 | PASS | SKIPPED | +--------------------+----------------------+----------------------+ | Ubuntu 20.04 | SKIPPED | PASS | +--------------------+----------------------+----------------------+ Ubuntu 22.04 (ARM) Kernel: 5.15.0-97-generic Compiler: gcc gcc (Ubuntu 11.4.0-1ubuntu1~22.04) 11.4.0 Ubuntu 22.04 Kernel: 5.15.0-100-generic Compiler: gcc gcc (Ubuntu 11.4.0-1ubuntu1~22.04) 11.4.0 Ubuntu 20.04 Kernel: Depends on container host Compiler: gcc (Ubuntu 9.4.0-1ubuntu1~20.04.2) 9.4.0 To view detailed results, visit: https://lab.dpdk.org/results/dashboard/patchsets/33094/ UNH-IOL DPDK Community Lab To manage your email subscriptions, visit: https://lab.dpdk.org/results/dashboard/preferences/subscriptions/