From mboxrd@z Thu Jan 1 00:00:00 1970 Return-Path: Received: from mails.dpdk.org (mails.dpdk.org [217.70.189.124]) by inbox.dpdk.org (Postfix) with ESMTP id D5D7046664 for ; Fri, 2 May 2025 02:30:26 +0200 (CEST) Received: from mails.dpdk.org (localhost [127.0.0.1]) by mails.dpdk.org (Postfix) with ESMTP id CA428402A4; Fri, 2 May 2025 02:30:26 +0200 (CEST) Received: from mail-il1-f225.google.com (mail-il1-f225.google.com [209.85.166.225]) by mails.dpdk.org (Postfix) with ESMTP id 2BA3B4029E for ; Fri, 2 May 2025 02:30:26 +0200 (CEST) Received: by mail-il1-f225.google.com with SMTP id e9e14a558f8ab-3d9327d0720so11325205ab.3 for ; Thu, 01 May 2025 17:30:26 -0700 (PDT) DKIM-Signature: v=1; a=rsa-sha256; c=relaxed/relaxed; d=iol.unh.edu; s=unh-iol; t=1746145825; x=1746750625; darn=dpdk.org; h=references:in-reply-to:cc:to:from:subject:message-id:date:from:to :cc:subject:date:message-id:reply-to; bh=3oM053PkCXfFquFHejw+QMPHUplR72hNhRc6NKqW/gE=; b=WGYQgUAE8T2rgzR3cJGgXmACksyVMhbokTgcC3Tx31F5LuOfiiRtYgr4zVZD4PeO7J YsLmtJidYHOelHcu7vQCSGnNvjM5AyXGmvOya2bb0wjB0WUCxWc9pyCbMLmOQbJhbqdx /Zb6wsvE6DHzY2/vj4wTRZ2Fqwd/wXy5nuNNk= X-Google-DKIM-Signature: v=1; a=rsa-sha256; c=relaxed/relaxed; d=1e100.net; s=20230601; t=1746145825; x=1746750625; h=references:in-reply-to:cc:to:from:subject:message-id:date :x-gm-message-state:from:to:cc:subject:date:message-id:reply-to; bh=3oM053PkCXfFquFHejw+QMPHUplR72hNhRc6NKqW/gE=; b=hB95C1PyHWlTZaUgTNNbznQke1nIElIfXG/7YJ9qHpbKwCZpAos17UE8N7RoT0bWDp LovyHAjK1KYlmxXQxRj0TuV7Gd6QTw4pzZSfnnCEnPTqLNtfE5/LLcxu0D7221Cvo6ml yIGXEXPIc/A8JcdJc4PHl7ciEmZ7eJdJQa2MAnc+10G2fTxDbLKP41fAY5F93UKCRTPe 56PvWQdUy6nbFC3npJVzNW910HDIHbX/dvm87se3C9kZwhhQs5JanBxz+lnB3gXXU3u6 KS3l6cExAbgrMQ1bVPjRchvAQi5YW+kJ0VK3sFVgWgdEwJJT6QLBImpRBxeuyBSgpI34 fkzA== X-Gm-Message-State: AOJu0YyIVCWhPVhxOfJ9pTIgjVXu//+0lpjFsH7XRWSSMI6Y37u1LF4Q fZr5mfrsfSvNzxyfN24v6bOpsErVl9kbc7L32oLVbLWjaa3s4AF7Vi6JcwuMsCUzPyq+msG+k3X DwgWRyiXEB2OgMl1v4F95i7CTEcdwBkdJ05TN9CGL X-Gm-Gg: ASbGncvd6GFnSefBwetesO9zSsYofkjhdzs6SlN13O/wPQ7nIm0k7eZCIyFMaqgU6Oi UXHrgbfM3amDBA4GPo4nT2PjIqhKpsE9WrM5dVY9bMWhy95qolEHdhmqqG5z+7V9t3AAJVi5ti6 NmbYKwZWaphM8FyKUxK419V+KIRkcAP8WZzNRbCiq1opbv0/qw/JCKDoRj4KSmj7LDKGDDIfIgw SgJxVOUb5Oh9bqr0C07cVAJHVb12Jxx9ITE8p++bDMkZ9urolNvEOp8L1qA7RvY/qQsVie2FGY0 OhXCz19NERVaggOtjBfkZQidYXQsm6UMLdGR X-Google-Smtp-Source: AGHT+IHjjHtWTpl84EQ67WinHsbIPvnR7hAcOhMD0tiVwEZhokAsDKB8M2qcU0th5YPaIxG8pkHYta3MmW8u X-Received: by 2002:a05:6e02:b46:b0:3d9:43fe:8e49 with SMTP id e9e14a558f8ab-3d97c1ade2bmr11763345ab.8.1746145825329; Thu, 01 May 2025 17:30:25 -0700 (PDT) Received: from postal.iol.unh.edu (postal.iol.unh.edu. [132.177.123.84]) by smtp-relay.gmail.com with ESMTPS id e9e14a558f8ab-3d975e34c17sm4209625ab.2.2025.05.01.17.30.25 (version=TLS1_2 cipher=ECDHE-ECDSA-AES128-GCM-SHA256 bits=128/128); Thu, 01 May 2025 17:30:25 -0700 (PDT) X-Relaying-Domain: iol.unh.edu Date: Thu, 01 May 2025 17:30:25 -0700 (PDT) Message-ID: <68141221.050a0220.302dd1.3f14SMTPIN_ADDED_MISSING@mx.google.com> Received: from [172.21.0.5] (unknown [172.18.0.240]) by postal.iol.unh.edu (Postfix) with ESMTP id F14CE6052471; Thu, 1 May 2025 20:30:24 -0400 (EDT) Subject: |SUCCESS| pw153221 [PATCH] [v1,1/1] bbdev: fix possible null pointer From: dpdklab@iol.unh.edu To: Test Report Cc: dpdk-test-reports@iol.unh.edu In-Reply-To: <20250501221031.4569-2-nicolas.chautru@intel.com> References: <20250501221031.4569-2-nicolas.chautru@intel.com> Content-Type: text/plain X-BeenThere: test-report@dpdk.org X-Mailman-Version: 2.1.29 Precedence: list List-Id: automatic DPDK test reports List-Unsubscribe: , List-Archive: List-Post: List-Help: List-Subscribe: , Errors-To: test-report-bounces@dpdk.org Test-Label: iol-abi-testing Test-Status: SUCCESS http://dpdk.org/patch/153221 _Testing PASS_ Submitter: Nicolas Chautru Date: Thursday, May 01 2025 22:10:31 DPDK git baseline: Repo:dpdk Branch: master CommitID:4029c5e3f2c6e950e8579be2401dab12e4209d53 153221 --> testing pass Upstream job id: Generic-DPDK-Compile-ABI#124945 Test environment and result as below: +-------------------+----------+ | Environment | abi_test | +===================+==========+ | Debian 12 | PASS | +-------------------+----------+ | CentOS Stream 10 | PASS | +-------------------+----------+ | CentOS Stream 9 | PASS | +-------------------+----------+ | Fedora 41 (Clang) | PASS | +-------------------+----------+ | Fedora 41 | PASS | +-------------------+----------+ | Ubuntu 22.04 | PASS | +-------------------+----------+ | RHEL8 | PASS | +-------------------+----------+ | Ubuntu 24.04 | PASS | +-------------------+----------+ | Fedora 40 | PASS | +-------------------+----------+ | RHEL9 | PASS | +-------------------+----------+ | openSUSE Leap 15 | PASS | +-------------------+----------+ | Fedora 40 (Clang) | PASS | +-------------------+----------+ Debian 12 Kernel: Depends on container host Compiler: gcc (Debian 12.2.0-14) 12.2.0 CentOS Stream 10 Kernel: Depends on container host Compiler: gcc 14.2.1 20241104 (Red Hat 14.2.1-6) CentOS Stream 9 Kernel: Depends on container host Compiler: gcc 11.5.0 20240719 (Red Hat 11.5.0-2) Fedora 41 (Clang) Kernel: Depends on container host Compiler: clang 19.1.5 (Fedora 19.1.5-1.fc41) Fedora 41 Kernel: Depends on container host Compiler: gcc 14.2.1 20240912 (Red Hat 14.2.1-3) Ubuntu 22.04 Kernel: Depends on container host Compiler: gcc (Ubuntu 11.4.0-1ubuntu1~22.04) 11.4.0 RHEL8 Kernel: Depends on container host Compiler: gcc 8.5.0 20210514 (Red Hat 8.5.0-22) Ubuntu 24.04 Kernel: Depends on container host Compiler: gcc (Ubuntu 13.3.0-6ubuntu2~24.04) 13.3.0 Fedora 40 Kernel: Depends on container host Compiler: gcc 14.2.1 20240912 (Red Hat 14.2.1-3) RHEL9 Kernel: Depends on container host Compiler: gcc 11.5.0 20240719 (Red Hat 11.5.0-2) openSUSE Leap 15 Kernel: Depends on container host Compiler: gcc (SUSE Linux) 7.5.0 Fedora 40 (Clang) Kernel: Depends on container host Compiler: clang 18.1.8 (Fedora 18.1.8-1.fc40) To view detailed results, visit: https://lab.dpdk.org/results/dashboard/patchsets/33094/ UNH-IOL DPDK Community Lab To manage your email subscriptions, visit: https://lab.dpdk.org/results/dashboard/preferences/subscriptions/