From mboxrd@z Thu Jan 1 00:00:00 1970 Return-Path: Received: from mails.dpdk.org (mails.dpdk.org [217.70.189.124]) by inbox.dpdk.org (Postfix) with ESMTP id CE1DA46664 for ; Fri, 2 May 2025 03:31:22 +0200 (CEST) Received: from mails.dpdk.org (localhost [127.0.0.1]) by mails.dpdk.org (Postfix) with ESMTP id 9F175402A4; Fri, 2 May 2025 03:31:22 +0200 (CEST) Received: from mail-il1-f226.google.com (mail-il1-f226.google.com [209.85.166.226]) by mails.dpdk.org (Postfix) with ESMTP id C2C494029E for ; Fri, 2 May 2025 03:31:20 +0200 (CEST) Received: by mail-il1-f226.google.com with SMTP id e9e14a558f8ab-3d8020ba858so17516125ab.0 for ; Thu, 01 May 2025 18:31:20 -0700 (PDT) DKIM-Signature: v=1; a=rsa-sha256; c=relaxed/relaxed; d=iol.unh.edu; s=unh-iol; t=1746149480; x=1746754280; darn=dpdk.org; h=references:in-reply-to:cc:to:from:subject:message-id:date:from:to :cc:subject:date:message-id:reply-to; bh=z3PUYmD48pbHWFs5EhdQawoUMfaN8FXEOKjG5REHhzo=; b=Y6YHs90IjP0gk0TEnqAfo3C61lLRkglyxZztiYNP1WYGoVvnlsFdC0LZiC9snIs8/z Tp0Nwj1Ro0oBi8dFuJBVyMJjh71cqngtQVQo1ptAOezYip6f8mRcaFlVWifz9fiHDgUQ Nbp758InQAKb4upeP34Gew/1voqytFcjUPPn0= X-Google-DKIM-Signature: v=1; a=rsa-sha256; c=relaxed/relaxed; d=1e100.net; s=20230601; t=1746149480; x=1746754280; h=references:in-reply-to:cc:to:from:subject:message-id:date :x-gm-message-state:from:to:cc:subject:date:message-id:reply-to; bh=z3PUYmD48pbHWFs5EhdQawoUMfaN8FXEOKjG5REHhzo=; b=MtDsbsPVsFolCIUmF1MAwulIxh8oez7EDelhzw9gfdNUHJrF7RsxWGcykAhR65nMHq fkPBKOUXOX9JmvIzweBbRex/7LJiQGzdpUeBTW1PmjwXYmf1/nWEbELndCP+6tYkx5FJ uVkBbsV8vNDcxsnlDoslF2OORKkhPcd4Rz8J7fIJFOLP9itphkeFjJXw8EWLQJVLbhpo XzWpA9QUeCoAhBBPeDWZsKgvdSpGDkvvK15TUmH7uAaVhHNSbMpaaTtmqQ+iokcEvEHG mtBItHK0HgXuJhiuqgSQM7YuJwsMhP6u1SgMwgbamp1DeHYsjds1aAOIRGxAEMBp1d/2 Z3TQ== X-Gm-Message-State: AOJu0YzeubScFdLdqzHuTE6KCuRe8unntGIVcL1vTW1kIW3650EzI6FA 0UrDmJCkrtSjhTXyqOA/nikvzrR73UIT7DfCg+mhHqIQ5v9E6XRCZ8KUV6Dt3V0hq3qMQlM6Y5+ w6prSGzLKCjiD5aHWy6RjtuhCTDZ9aYjP/N32QoQwczAcu3oW1BA6/UcG X-Gm-Gg: ASbGncvmCk/Jz5DjCIIHjDQKTTIm45U35Z0ANScBpw8SD67u6GpAQMDHMkyUuXFVv/V vHvY24WfFSwFHkKrkdzAWxpnKDZqCWNUpCI2nH/KbLl3wuVUrsTYCMEjrXq7j/qCNcCq85PB67N sC5f3wU/gv+d/SJuElMNjvsPsLfLocXfztkQpHnDLfMYqup0Z/2zkR1tR8Rgpa7W6/nSF/GaXq7 qJ233Ee1FYKYbj/3v/r8WrEoNYGwxKTdrLhKZdxkW6QxYOmZGiYOVJ1Lu0b2bME9r5Cz5pFC/bg /bqZFX9dJwKNM5stradZG7WXLs+Hy6kBCDJH X-Google-Smtp-Source: AGHT+IEXjtdr+vRLgTEbNAes0k6ovPQ/VnXOt5EiImyUZw8nObD5KuCsO7ZZ1PhQ7UzrZasFp7O/YmXtdFzU X-Received: by 2002:a05:6e02:184e:b0:3d4:6ff4:2608 with SMTP id e9e14a558f8ab-3d97c1bf0bemr14045255ab.12.1746149480006; Thu, 01 May 2025 18:31:20 -0700 (PDT) Received: from postal.iol.unh.edu (postal.iol.unh.edu. [2606:4100:3880:1234::84]) by smtp-relay.gmail.com with ESMTPS id 8926c6da1cb9f-4f88aa6210asm150041173.53.2025.05.01.18.31.19 (version=TLS1_2 cipher=ECDHE-ECDSA-AES128-GCM-SHA256 bits=128/128); Thu, 01 May 2025 18:31:19 -0700 (PDT) X-Relaying-Domain: iol.unh.edu Date: Thu, 01 May 2025 18:31:19 -0700 (PDT) Message-ID: <68142067.050a0220.dff2a.16edSMTPIN_ADDED_MISSING@mx.google.com> Received: from [172.21.0.5] (unknown [172.18.0.240]) by postal.iol.unh.edu (Postfix) with ESMTP id 6A0706052471; Thu, 1 May 2025 21:31:19 -0400 (EDT) Subject: |SUCCESS| pw153221 [PATCH] [v1,1/1] bbdev: fix possible null pointer From: dpdklab@iol.unh.edu To: Test Report Cc: dpdk-test-reports@iol.unh.edu In-Reply-To: <20250501221031.4569-2-nicolas.chautru@intel.com> References: <20250501221031.4569-2-nicolas.chautru@intel.com> Content-Type: text/plain X-BeenThere: test-report@dpdk.org X-Mailman-Version: 2.1.29 Precedence: list List-Id: automatic DPDK test reports List-Unsubscribe: , List-Archive: List-Post: List-Help: List-Subscribe: , Errors-To: test-report-bounces@dpdk.org Test-Label: iol-compile-arm64-testing Test-Status: SUCCESS http://dpdk.org/patch/153221 _Testing PASS_ Submitter: Nicolas Chautru Date: Thursday, May 01 2025 22:10:31 DPDK git baseline: Repo:dpdk Branch: master CommitID:4029c5e3f2c6e950e8579be2401dab12e4209d53 153221 --> testing pass Upstream job id: Generic-DPDK-Compile-Meson#384291 Test environment and result as below: +----------------------------------------+--------------------+ | Environment | dpdk_meson_compile | +========================================+====================+ | Ubuntu 20.04 ARM GCC Cross Compile | PASS | +----------------------------------------+--------------------+ | RHEL9 (ARM) | PASS | +----------------------------------------+--------------------+ | Debian 12 with MUSDK | PASS | +----------------------------------------+--------------------+ | Fedora 40 (ARM) | PASS | +----------------------------------------+--------------------+ | Ubuntu 20.04 ARM SVE | PASS | +----------------------------------------+--------------------+ | Fedora 41 (ARM) | PASS | +----------------------------------------+--------------------+ | Fedora 41 (ARM Clang) | PASS | +----------------------------------------+--------------------+ | Ubuntu 24.04 (ARM) | PASS | +----------------------------------------+--------------------+ | CentOS Stream 9 (ARM) | PASS | +----------------------------------------+--------------------+ | Ubuntu 22.04 (ARM) | PASS | +----------------------------------------+--------------------+ | CentOS Stream 10 (ARM) | PASS | +----------------------------------------+--------------------+ | Debian 12 (arm) | PASS | +----------------------------------------+--------------------+ | Ubuntu 20.04 aarch32 GCC Cross Compile | PASS | +----------------------------------------+--------------------+ | Ubuntu 20.04 ARM Clang Cross Compile | PASS | +----------------------------------------+--------------------+ | Fedora 40 (ARM Clang) | PASS | +----------------------------------------+--------------------+ | Ubuntu 20.04 (ARM) | PASS | +----------------------------------------+--------------------+ Ubuntu 20.04 ARM GCC Cross Compile Kernel: Depends on container host Compiler: aarch64-linux-gnu-gcc (Ubuntu 9.4.0-1ubuntu1~20.04.2) 9.4.0 RHEL9 (ARM) Kernel: Depends on container host Compiler: gcc 11.5.0 20240719 (Red Hat 11.5.0-2) Debian 12 with MUSDK Kernel: Depends on container host Compiler: gcc (Debian 12.2.0-14) 12.2.0 Fedora 40 (ARM) Kernel: Depends on container host Compiler: gcc 14.2.1 20240912 (Red Hat 14.2.1-3) Ubuntu 20.04 ARM SVE Kernel: Depends on container host Compiler: gcc (Ubuntu 10.5.0-1ubuntu1~20.04) 10.5.0 Fedora 41 (ARM) Kernel: Depends on container host Compiler: gcc 14.2.1 20240912 (Red Hat 14.2.1-3) Fedora 41 (ARM Clang) Kernel: Depends on container host Compiler: clang 19.1.5 (Fedora 19.1.5-1.fc41) Ubuntu 24.04 (ARM) Kernel: Depends on container host Compiler: gcc (Ubuntu 13.3.0-6ubuntu2~24.04) 13.3.0 CentOS Stream 9 (ARM) Kernel: Depends on container host Compiler: gcc 11.5.0 20240719 (Red Hat 11.5.0-2) Ubuntu 22.04 (ARM) Kernel: Depends on container host Compiler: gcc (Ubuntu 11.4.0-1ubuntu1~22.04) 11.4.0 CentOS Stream 10 (ARM) Kernel: Depends on container host Compiler: gcc 14.2.1 20241104 (Red Hat 14.2.1-6) Debian 12 (arm) Kernel: Depends on container host Compiler: gcc (Debian 12.2.0-14) 12.2.0 Ubuntu 20.04 aarch32 GCC Cross Compile Kernel: Depends on container host Compiler: gcc 9.4.0 Ubuntu 20.04 ARM Clang Cross Compile Kernel: Depends on container host Compiler: clang 10.0.0-4ubuntu1 Fedora 40 (ARM Clang) Kernel: Depends on container host Compiler: clang 18.1.8 (Fedora 18.1.8-1.fc40) Ubuntu 20.04 (ARM) Kernel: Depends on container host Compiler: gcc (Ubuntu 9.4.0-1ubuntu1~20.04.2) 9.4.0 To view detailed results, visit: https://lab.dpdk.org/results/dashboard/patchsets/33094/ UNH-IOL DPDK Community Lab To manage your email subscriptions, visit: https://lab.dpdk.org/results/dashboard/preferences/subscriptions/