From mboxrd@z Thu Jan 1 00:00:00 1970 Return-Path: Received: from mails.dpdk.org (mails.dpdk.org [217.70.189.124]) by inbox.dpdk.org (Postfix) with ESMTP id 1758346664 for ; Fri, 2 May 2025 03:34:04 +0200 (CEST) Received: from mails.dpdk.org (localhost [127.0.0.1]) by mails.dpdk.org (Postfix) with ESMTP id E3F45402A4; Fri, 2 May 2025 03:34:03 +0200 (CEST) Received: from mail-pg1-f226.google.com (mail-pg1-f226.google.com [209.85.215.226]) by mails.dpdk.org (Postfix) with ESMTP id 714F74029E for ; Fri, 2 May 2025 03:34:03 +0200 (CEST) Received: by mail-pg1-f226.google.com with SMTP id 41be03b00d2f7-aee773df955so2413680a12.1 for ; Thu, 01 May 2025 18:34:03 -0700 (PDT) DKIM-Signature: v=1; a=rsa-sha256; c=relaxed/relaxed; d=iol.unh.edu; s=unh-iol; t=1746149642; x=1746754442; darn=dpdk.org; h=cc:to:from:subject:message-id:date:from:to:cc:subject:date :message-id:reply-to; bh=h8OWq+tjiBBW5pvxb2WHl/V44Bq22uLvXuGrvDy9MPA=; b=dpWO4EOfxmoj1APQta2NirZcR7SgqOmwnKrXXMlSBoqiL9jWZ2nKmaFzZT2y3zhmel 2hkNT0zVZaknz6Sz5cbVUphU6UWeNi6a+EibRx4WS9TJ6p3N7zvMtTl7KJwE4mM3sXUf gjPLyVU/HZW0RXB7l2ZAJHrQ4z8xLaMBAGwKE= X-Google-DKIM-Signature: v=1; a=rsa-sha256; c=relaxed/relaxed; d=1e100.net; s=20230601; t=1746149642; x=1746754442; h=cc:to:from:subject:message-id:date:x-gm-message-state:from:to:cc :subject:date:message-id:reply-to; bh=h8OWq+tjiBBW5pvxb2WHl/V44Bq22uLvXuGrvDy9MPA=; b=RODvymfQV18nKEy2JNUu3ISXw/uNKTNKen0GFIfmGKViDy5bQXmHpcjapAPKkhqfe/ o7MLtH5IVY5iCkQoLnXzTJn/JenjPpGyjH6ilF160JK3uYcC+CYZUQY334IrJxypIR8l evQomQ75mGX3AWZ5xcIFDwS48VDo2ITeXTd7HQmju5rFLf1XlaD4sUjfirxArTY9f+tQ jNbcXszEO44932hzuybq7zejY6/kTgsEn3/3cswpA7pJu3oLeuYK1Er9GFjZYxjetkqN s4Pt19bbu3QcWpF1CwuzKNHPyECQGWlGxI3m5iHYjAYndNYQWCPtiMxA1EUKTKUz87gI JbTw== X-Gm-Message-State: AOJu0Yy8mHkSOw+KhO9Z9G6iW8Gr3QLT5ynAC9mt24pPB8y1IZSHWJgP RgG4r7NS3RcbzoZWbJwq9Nr1UMGg4ZgX+u2QEz/Ak5QG0iMya5HnDpxi38I2F/BusJcHndmrHDx lGRzh0ogb8wJnrR9Du11xXzAGGEf/+rmB8H9mL325 X-Gm-Gg: ASbGncvNrZj+eVrdlTDULlBwbmHH5NK6nhl+gQwce7V13d7PtiQ06ReDaab2BpwnGUv J5aO2fHkiKJAfnobWEFfFNFb7f/3vkKfp9AlO9QoyM1hDgc/tnepdhce5zhReklW6ARmHsmK6M/ Sq4VXZdSmKJitIzFL/hbJ3MjjrGRgLv/pp1J69Q7P6/H+4H6gJBZPVCgyiKhAdQ9/90YvPexTDz pAwOowmIr+UqJZMNV9G1GSrbEAQY/N6wUbE4O1tTSoHn5zxPK+LiIhaq2/jCwIsS58jG7SNhGFH kN4HJeFmHBbK6m9tozyEfQWYnGOCzt1N59LPmmInTwhT0EXyaZcHSLJLT9E= X-Google-Smtp-Source: AGHT+IGlYGlU7jFnuh37eS4c7/7StYLrbLofyZEt7PGnQnijR22mC4QY4S4N7L3WFEQ/3hJQguIlwGyM/Rf1 X-Received: by 2002:a17:902:e88e:b0:220:ff82:1c60 with SMTP id d9443c01a7336-22e0842fd3emr68580335ad.14.1746149642181; Thu, 01 May 2025 18:34:02 -0700 (PDT) Received: from postal.iol.unh.edu (postal.iol.unh.edu. [132.177.123.84]) by smtp-relay.gmail.com with ESMTPS id d9443c01a7336-22e1086f421sm1508015ad.45.2025.05.01.18.34.02 (version=TLS1_2 cipher=ECDHE-ECDSA-AES128-GCM-SHA256 bits=128/128); Thu, 01 May 2025 18:34:02 -0700 (PDT) X-Relaying-Domain: iol.unh.edu Date: Thu, 01 May 2025 18:34:02 -0700 (PDT) Message-ID: <6814210a.170a0220.76c44.1796SMTPIN_ADDED_MISSING@mx.google.com> Received: from [172.21.0.5] (unknown [172.18.0.240]) by postal.iol.unh.edu (Postfix) with ESMTP id 5EEE36052471; Thu, 1 May 2025 21:34:01 -0400 (EDT) Subject: |SUCCESS| [GIT MASTER] ca1690ebd224f148268285b15b97441ccdbdd07e From: dpdklab@iol.unh.edu To: Test Report Cc: dpdk-test-reports@iol.unh.edu Content-Type: text/plain X-BeenThere: test-report@dpdk.org X-Mailman-Version: 2.1.29 Precedence: list List-Id: automatic DPDK test reports List-Unsubscribe: , List-Archive: List-Post: List-Help: List-Subscribe: , Errors-To: test-report-bounces@dpdk.org _Testing PASS_ Branch: dpdk ca1690ebd224f148268285b15b97441ccdbdd07e --> testing pass Upstream job id: Generic-DPDK-Compile-ABI#124959 Test environment and result as below: +-------------------+----------+ | Environment | abi_test | +===================+==========+ | CentOS Stream 9 | PASS | +-------------------+----------+ | CentOS Stream 10 | PASS | +-------------------+----------+ | Debian 12 | PASS | +-------------------+----------+ | Fedora 40 (Clang) | PASS | +-------------------+----------+ | Fedora 41 (Clang) | PASS | +-------------------+----------+ | Ubuntu 24.04 | PASS | +-------------------+----------+ | RHEL8 | PASS | +-------------------+----------+ | Fedora 40 | PASS | +-------------------+----------+ | Arch Linux | PASS | +-------------------+----------+ | RHEL9 | PASS | +-------------------+----------+ | openSUSE Leap 15 | PASS | +-------------------+----------+ | Ubuntu 22.04 | PASS | +-------------------+----------+ | Fedora 41 | PASS | +-------------------+----------+ CentOS Stream 9 Kernel: Depends on container host Compiler: gcc 11.5.0 20240719 (Red Hat 11.5.0-2) CentOS Stream 10 Kernel: Depends on container host Compiler: gcc 14.2.1 20241104 (Red Hat 14.2.1-6) Debian 12 Kernel: Depends on container host Compiler: gcc (Debian 12.2.0-14) 12.2.0 Fedora 40 (Clang) Kernel: Depends on container host Compiler: clang 18.1.8 (Fedora 18.1.8-1.fc40) Fedora 41 (Clang) Kernel: Depends on container host Compiler: clang 19.1.5 (Fedora 19.1.5-1.fc41) Ubuntu 24.04 Kernel: Depends on container host Compiler: gcc (Ubuntu 13.3.0-6ubuntu2~24.04) 13.3.0 RHEL8 Kernel: Depends on container host Compiler: gcc 8.5.0 20210514 (Red Hat 8.5.0-22) Fedora 40 Kernel: Depends on container host Compiler: gcc 14.2.1 20240912 (Red Hat 14.2.1-3) Arch Linux Kernel: Depends on container host Compiler: gcc 14.2.1 20240910 RHEL9 Kernel: Depends on container host Compiler: gcc 11.5.0 20240719 (Red Hat 11.5.0-2) openSUSE Leap 15 Kernel: Depends on container host Compiler: gcc (SUSE Linux) 7.5.0 Ubuntu 22.04 Kernel: Depends on container host Compiler: gcc (Ubuntu 11.4.0-1ubuntu1~22.04) 11.4.0 Fedora 41 Kernel: Depends on container host Compiler: gcc 14.2.1 20240912 (Red Hat 14.2.1-3) To view detailed results, visit: https://lab.dpdk.org/results/dashboard/tarballs/33406/ UNH-IOL DPDK Community Lab To manage your email subscriptions, visit: https://lab.dpdk.org/results/dashboard/preferences/subscriptions/