From mboxrd@z Thu Jan 1 00:00:00 1970 Return-Path: Received: from mails.dpdk.org (mails.dpdk.org [217.70.189.124]) by inbox.dpdk.org (Postfix) with ESMTP id EDCD746664 for ; Fri, 2 May 2025 03:58:11 +0200 (CEST) Received: from mails.dpdk.org (localhost [127.0.0.1]) by mails.dpdk.org (Postfix) with ESMTP id C74C9402A4; Fri, 2 May 2025 03:58:11 +0200 (CEST) Received: from mail-vk1-f228.google.com (mail-vk1-f228.google.com [209.85.221.228]) by mails.dpdk.org (Postfix) with ESMTP id 645774029E for ; Fri, 2 May 2025 03:58:10 +0200 (CEST) Received: by mail-vk1-f228.google.com with SMTP id 71dfb90a1353d-51eb18130f9so583131e0c.3 for ; Thu, 01 May 2025 18:58:10 -0700 (PDT) DKIM-Signature: v=1; a=rsa-sha256; c=relaxed/relaxed; d=iol.unh.edu; s=unh-iol; t=1746151089; x=1746755889; darn=dpdk.org; h=cc:to:from:subject:message-id:date:from:to:cc:subject:date :message-id:reply-to; bh=cpXapwMU/0ChOIGUi823Y499tdyABaTD7QlE3ZtC6QI=; b=f9aVjeuElfXe5ThIArx93quI9pK1UC2HDhkZ8xHaBQTybqEmppCEjF+DzKV7rkWvNr CJ6XrEFpAcTVDP0zMv1pXXHuWosATu0mqPt+YJ5VlHPoKkqwnp/ys6xn0mL0p5Q56kOS 9erj3iK9yg7KP3ROFDfKcKpBuoPR6nU5zCNbU= X-Google-DKIM-Signature: v=1; a=rsa-sha256; c=relaxed/relaxed; d=1e100.net; s=20230601; t=1746151089; x=1746755889; h=cc:to:from:subject:message-id:date:x-gm-message-state:from:to:cc :subject:date:message-id:reply-to; bh=cpXapwMU/0ChOIGUi823Y499tdyABaTD7QlE3ZtC6QI=; b=MeeqiXZ/WD+0I0Wkatj52kEW7b6GXKOfsvabW4yEEQ59wSfNwOH3kbNv6r5cD1QNuZ ayU/j3QzNPkwgPe/FRSJgrJIcgBMvci1/0G0QwfbR9SHtdsqbaB3sNO+/mpqOSxTUH8Q DK8Jjkrc/Pk2sTBu0dS2az8MPFTcPgaUdu/d75j8RpX5exWUDcnETzUhafsWFtkJ7L1y 573YAbCkhe/Wy/jOD1i6Kw6ty3Eu9ZIU1Ibs8w4Hg7rXe2LLZHI+ucx0Gep3LWKSo8oL +IowMtdXDh78apB5Gu7B6L9CkaabBA7yEO6bR8qJXJN1vHX3yb5HtTh8JHnAfTVQ+e8Q 9nIg== X-Gm-Message-State: AOJu0YzbPwnumMxH+ZyoHFJnzN55VDe2ECd1a8SKU1fb0KBhGec7rlkX 5gJ6dRiRyaGz3aRq51NdmBpUCBwbltFuD8PkpwZxHkFOrvEXaSeHsFeqEymgV6M6T3Ltz1c6rkR GhiPFLsaKyM8sR2DXFjEFIcvXYITxuR1K0NS+VKXODTFWcuHfL0CvFB/o X-Gm-Gg: ASbGncvF3fWNmp3JxiRDMg75ZJfF0b6oCa0OXKsWlduCvhYVbTE21NPnklLp5S1DDOd R8xyHLjMqyY6cFYvK2QbUwZQyC9+jZf8E+jjD2ofWuawKEk8Sh4zV4NroWOEqEYNMNVIAgphawS 5A4/VKaNXCnAZeyiuqyyH0Mpv+lP5ALQzoX7Clbu9oeqwhI+RKT87IHm2NqHDyrWQRxz4nWjZHC URtXMjg9nPNFRZIceFk1C9FT+lVu3/bY2w8TNdoMwIlz/+yDIa5Aho923mNtjj2J9Nho0h7Cead /FGsTrsq55c4vnLKuhkZSQvvkYSFVbVVhKOw X-Google-Smtp-Source: AGHT+IHPbkWHntyR+D4UKqA2x13bz2TS1jhJoG0YGKIjmkdMBx6OSIRWMtumyYCPVh4G2hxN6Xkc4pxOLjUP X-Received: by 2002:a05:6122:2501:b0:52a:78ab:12ad with SMTP id 71dfb90a1353d-52aed4ce7e8mr745389e0c.0.1746151089663; Thu, 01 May 2025 18:58:09 -0700 (PDT) Received: from postal.iol.unh.edu (postal.iol.unh.edu. [2606:4100:3880:1234::84]) by smtp-relay.gmail.com with ESMTPS id 71dfb90a1353d-52ae4158085sm479293e0c.10.2025.05.01.18.58.09 (version=TLS1_2 cipher=ECDHE-ECDSA-AES128-GCM-SHA256 bits=128/128); Thu, 01 May 2025 18:58:09 -0700 (PDT) X-Relaying-Domain: iol.unh.edu Date: Thu, 01 May 2025 18:58:09 -0700 (PDT) Message-ID: <681426b1.050a0220.2d2f54.45b3SMTPIN_ADDED_MISSING@mx.google.com> Received: from [172.17.0.2] (unknown [172.18.0.74]) by postal.iol.unh.edu (Postfix) with ESMTP id 4843F6052471; Thu, 1 May 2025 21:58:09 -0400 (EDT) Subject: |SUCCESS| [GIT MASTER] ca1690ebd224f148268285b15b97441ccdbdd07e From: dpdklab@iol.unh.edu To: Test Report Cc: dpdk-test-reports@iol.unh.edu Content-Type: text/plain X-BeenThere: test-report@dpdk.org X-Mailman-Version: 2.1.29 Precedence: list List-Id: automatic DPDK test reports List-Unsubscribe: , List-Archive: List-Post: List-Help: List-Subscribe: , Errors-To: test-report-bounces@dpdk.org _Testing PASS_ Branch: dpdk ca1690ebd224f148268285b15b97441ccdbdd07e --> testing pass Upstream job id: Generic-Unit-Test-DPDK#334697 Test environment and result as below: +---------------------+----------------+ | Environment | dpdk_unit_test | +=====================+================+ | CentOS Stream 9 | PASS | +---------------------+----------------+ | CentOS Stream 10 | PASS | +---------------------+----------------+ | Debian 12 | PASS | +---------------------+----------------+ | Arch Linux | PASS | +---------------------+----------------+ | Fedora 40 (Clang) | PASS | +---------------------+----------------+ | Ubuntu 20.04 | PASS | +---------------------+----------------+ | Fedora 41 (Clang) | PASS | +---------------------+----------------+ | RHEL8 | PASS | +---------------------+----------------+ | Fedora 41 | PASS | +---------------------+----------------+ | Fedora 40 | PASS | +---------------------+----------------+ | Ubuntu 22.04 | PASS | +---------------------+----------------+ | Ubuntu 24.04 | PASS | +---------------------+----------------+ | RHEL9 | PASS | +---------------------+----------------+ | Windows Server 2022 | PASS | +---------------------+----------------+ CentOS Stream 9 Kernel: Depends on container host Compiler: gcc 11.5.0 20240719 (Red Hat 11.5.0-2) CentOS Stream 10 Kernel: Depends on container host Compiler: gcc 14.2.1 20241104 (Red Hat 14.2.1-6) Debian 12 Kernel: Depends on container host Compiler: gcc (Debian 12.2.0-14) 12.2.0 Arch Linux Kernel: Depends on container host Compiler: gcc 14.2.1 20240910 Fedora 40 (Clang) Kernel: Depends on container host Compiler: clang 18.1.8 (Fedora 18.1.8-1.fc40) Ubuntu 20.04 Kernel: Depends on container host Compiler: gcc (Ubuntu 9.4.0-1ubuntu1~20.04.2) 9.4.0 Fedora 41 (Clang) Kernel: Depends on container host Compiler: clang 19.1.5 (Fedora 19.1.5-1.fc41) RHEL8 Kernel: Depends on container host Compiler: gcc 8.5.0 20210514 (Red Hat 8.5.0-22) Fedora 41 Kernel: Depends on container host Compiler: gcc 14.2.1 20240912 (Red Hat 14.2.1-3) Fedora 40 Kernel: Depends on container host Compiler: gcc 14.2.1 20240912 (Red Hat 14.2.1-3) Ubuntu 22.04 Kernel: Depends on container host Compiler: gcc (Ubuntu 11.4.0-1ubuntu1~22.04) 11.4.0 Ubuntu 24.04 Kernel: Depends on container host Compiler: gcc (Ubuntu 13.3.0-6ubuntu2~24.04) 13.3.0 RHEL9 Kernel: Depends on container host Compiler: gcc 11.5.0 20240719 (Red Hat 11.5.0-2) Windows Server 2022 Kernel: 10.0.20348.2031 Compiler: clang 15.0.7, gcc 14.1.0 (MinGW), and MSVC VS 19.39.33521 To view detailed results, visit: https://lab.dpdk.org/results/dashboard/tarballs/33406/ UNH-IOL DPDK Community Lab To manage your email subscriptions, visit: https://lab.dpdk.org/results/dashboard/preferences/subscriptions/