From mboxrd@z Thu Jan 1 00:00:00 1970 Return-Path: Received: from mails.dpdk.org (mails.dpdk.org [217.70.189.124]) by inbox.dpdk.org (Postfix) with ESMTP id E89D446696 for ; Fri, 2 May 2025 04:10:03 +0200 (CEST) Received: from mails.dpdk.org (localhost [127.0.0.1]) by mails.dpdk.org (Postfix) with ESMTP id BD8D5402A4; Fri, 2 May 2025 04:10:03 +0200 (CEST) Received: from mail-pj1-f97.google.com (mail-pj1-f97.google.com [209.85.216.97]) by mails.dpdk.org (Postfix) with ESMTP id 58C5F4029E for ; Fri, 2 May 2025 04:10:02 +0200 (CEST) Received: by mail-pj1-f97.google.com with SMTP id 98e67ed59e1d1-2ff6cf448b8so2099929a91.3 for ; Thu, 01 May 2025 19:10:02 -0700 (PDT) DKIM-Signature: v=1; a=rsa-sha256; c=relaxed/relaxed; d=iol.unh.edu; s=unh-iol; t=1746151801; x=1746756601; darn=dpdk.org; h=cc:to:from:subject:message-id:date:from:to:cc:subject:date :message-id:reply-to; bh=/v3Ger3DfuUpRu2jq9K/P/F9A10dF+iZo7zdWy81iOE=; b=fvto5OWzUoRWFy4Cp5H+MhcEUFPB5I2lGE+BaW/4SEGv5hcWO6ZnZ9UM/HA/Bv/Tx8 VcouSPQvWiEpONDss+y04SMaCoGWvNt18W9gYGByWW7+/mq2rS2B/r0zp4Urbs8MWNTs RnNo8asBSSECkbBThr0srlcQDeOzGOBF0w000= X-Google-DKIM-Signature: v=1; a=rsa-sha256; c=relaxed/relaxed; d=1e100.net; s=20230601; t=1746151801; x=1746756601; h=cc:to:from:subject:message-id:date:x-gm-message-state:from:to:cc :subject:date:message-id:reply-to; bh=/v3Ger3DfuUpRu2jq9K/P/F9A10dF+iZo7zdWy81iOE=; b=mFG/LE4KUJS61NhjE9C4cDgxxe5lPyJjD2brfQLgAe8Hn/84ILwYxsh9qqZyCTnk6Z NRFIzGCB6J+4nQQGukzjsEvp6DSCepp2DkFrmJ5iCO6b5fBbX+vpsziRLHkHjqNc+JhO M/6zwJZB/CQaUe04BwLCRU32JJ7gMUj/+YgulpqeeFcmI64PzkvZB9gICA60f5f9yz+0 n7Lt8EsXVdGMk69eRS3fvQdT4mw9Hkc3s3f2CDCqB8NY5RN/KbaMT/RbYFTXCf0LtlEi bB6RpZqKGoaU77Zqf1V9DRhiYreUvxv4VGVj0KGCVKgLph4tNkJczOgIY7YiNv4oRV31 74iw== X-Gm-Message-State: AOJu0YzzXTPRBrfd1+BbEqkGklqs6hIH4QVhBWUQCky60RZD4+d4ECse 6Oy9OXXUL47peqvDMWLWZkG0QwMO1f7+dXKzYiQ5qvMtXIiuzdYEIrALipjfV98g6LNrMB3tlIC wYdlWAv5Rawdqh1l8XsqQyrBN71RXckslClb1p4Sc X-Gm-Gg: ASbGnctdL5Cux4zeUJcO0wQVUzXn366XzY7g7pTpzRBfAxTEONXv7t8Ar4ysXxYvpo0 /f6+4DwfHgLjKpFUtz8lw4whURQzzRSnjTcu3OInHGWC7qOOJH/gxzX2fe9xOO0DIEfUST0S6th ye5XrcKE9UKBygF58b2DwHtVXIZjWmds862wJ1VsqhASCcquQmId66msrKS39glelhkIC/M/TBx TCqjmlY7r3Xk00ym5AdGQYNYXMVBnUyD3R7ClKIuZnxkHJxrY0OKk2ZW2tAJ+CDqhKAhMMfBULt KibvXmaCbqAr78LyeTTWqe2cYwuAYi17P6Q4TbueAGh/+nhMKCiRpDkgNOE= X-Google-Smtp-Source: AGHT+IHI7Ghh7YL8JREdn5+uwisk9rn0IVSQ2KkOIOEH/l2BgfOuYjZK8nwWffpVcByFHyUvPsjLBsgr0By3 X-Received: by 2002:a17:90b:4c50:b0:301:1c11:aa74 with SMTP id 98e67ed59e1d1-30a4e625363mr1961228a91.28.1746151801213; Thu, 01 May 2025 19:10:01 -0700 (PDT) Received: from postal.iol.unh.edu (postal.iol.unh.edu. [132.177.123.84]) by smtp-relay.gmail.com with ESMTPS id 98e67ed59e1d1-30a3482669csm913802a91.10.2025.05.01.19.10.01 (version=TLS1_2 cipher=ECDHE-ECDSA-AES128-GCM-SHA256 bits=128/128); Thu, 01 May 2025 19:10:01 -0700 (PDT) X-Relaying-Domain: iol.unh.edu Date: Thu, 01 May 2025 19:10:01 -0700 (PDT) Message-ID: <68142979.170a0220.2cf410.fddaSMTPIN_ADDED_MISSING@mx.google.com> Received: from [172.17.0.2] (unknown [172.18.0.74]) by postal.iol.unh.edu (Postfix) with ESMTP id 5E4C26052471; Thu, 1 May 2025 22:10:00 -0400 (EDT) Subject: |SUCCESS| [GIT MASTER] ca1690ebd224f148268285b15b97441ccdbdd07e From: dpdklab@iol.unh.edu To: Test Report Cc: dpdk-test-reports@iol.unh.edu Content-Type: text/plain X-BeenThere: test-report@dpdk.org X-Mailman-Version: 2.1.29 Precedence: list List-Id: automatic DPDK test reports List-Unsubscribe: , List-Archive: List-Post: List-Help: List-Subscribe: , Errors-To: test-report-bounces@dpdk.org _Testing PASS_ Branch: dpdk ca1690ebd224f148268285b15b97441ccdbdd07e --> testing pass Upstream job id: ACVP-FIPS-testing#9686 Test environment and result as below: +--------------------+----------------------+----------------------+ | Environment | compressdev_zlib_pmd | dpdk_fips_validation | +====================+======================+======================+ | Ubuntu 22.04 (ARM) | PASS | SKIPPED | +--------------------+----------------------+----------------------+ | Ubuntu 22.04 | PASS | SKIPPED | +--------------------+----------------------+----------------------+ | Ubuntu 20.04 | SKIPPED | PASS | +--------------------+----------------------+----------------------+ Ubuntu 22.04 (ARM) Kernel: 5.15.0-97-generic Compiler: gcc gcc (Ubuntu 11.4.0-1ubuntu1~22.04) 11.4.0 Ubuntu 22.04 Kernel: 5.15.0-100-generic Compiler: gcc gcc (Ubuntu 11.4.0-1ubuntu1~22.04) 11.4.0 Ubuntu 20.04 Kernel: Depends on container host Compiler: gcc (Ubuntu 9.4.0-1ubuntu1~20.04.2) 9.4.0 To view detailed results, visit: https://lab.dpdk.org/results/dashboard/tarballs/33406/ UNH-IOL DPDK Community Lab To manage your email subscriptions, visit: https://lab.dpdk.org/results/dashboard/preferences/subscriptions/