From mboxrd@z Thu Jan 1 00:00:00 1970 Return-Path: Received: from mails.dpdk.org (mails.dpdk.org [217.70.189.124]) by inbox.dpdk.org (Postfix) with ESMTP id 9283746697 for ; Fri, 2 May 2025 07:38:32 +0200 (CEST) Received: from mails.dpdk.org (localhost [127.0.0.1]) by mails.dpdk.org (Postfix) with ESMTP id 53F02402A0; Fri, 2 May 2025 07:38:32 +0200 (CEST) Received: from mail-pf1-f226.google.com (mail-pf1-f226.google.com [209.85.210.226]) by mails.dpdk.org (Postfix) with ESMTP id 889594029E for ; Fri, 2 May 2025 07:38:30 +0200 (CEST) Received: by mail-pf1-f226.google.com with SMTP id d2e1a72fcca58-736a7e126c7so1567204b3a.3 for ; Thu, 01 May 2025 22:38:30 -0700 (PDT) DKIM-Signature: v=1; a=rsa-sha256; c=relaxed/relaxed; d=iol.unh.edu; s=unh-iol; t=1746164309; x=1746769109; darn=dpdk.org; h=cc:to:from:subject:message-id:date:from:to:cc:subject:date :message-id:reply-to; bh=JSsx2tPXmjrhQoyKjnkhXuX946eD2922B7Q3t4MqeQo=; b=Qm9rm5hyzi8m9xI7MFLxDOQPnpgGKSZHFZstBdLbiWu4RssENxN9a4VHfLpMR/E81l zsDB9gjVLqJUGskvd8QRKaJy6MQcgZuLTs55JRc5m2hHB9er3H366rkXn1pc6LTTlxsl e0IWwPcsnCJG5QuU7jHnzsUcStgdBENzl9E8M= X-Google-DKIM-Signature: v=1; a=rsa-sha256; c=relaxed/relaxed; d=1e100.net; s=20230601; t=1746164309; x=1746769109; h=cc:to:from:subject:message-id:date:x-gm-message-state:from:to:cc :subject:date:message-id:reply-to; bh=JSsx2tPXmjrhQoyKjnkhXuX946eD2922B7Q3t4MqeQo=; b=Qzc9jflPiAdjmv8+TMph44667dl4qqW91HAuokS8KZ/za1XqT7wT7GEVTBvLdkSaIU 2S9dzSfI8Nftllc8DjfOEbiBhqG3ySThEZHjkVfFl+B6AXZrr0HKouse9AcEoxDN2zV5 i8SGdIDR8V1GEkqLnQPoAEKRl40Bw/Imgka333tSpCDE2ERhdA8FmPXK643CvYOhxUM0 ymrs0bGDrjsUO3iuryE/skLlfh310eOhDSwDzYlm0hhidwIakzTzD2xKGXTJgfWpJyff dfdvxZVnQ4eqvxnGCtU237uFRFSMwkWsZoAZIurGomV7UpVoZx0xe7e4/B18NhkJ0pJi f1jQ== X-Gm-Message-State: AOJu0YzflboilEgfVIAJvr0du+vxsbH6/XMuJqUvuo5x3KFqE+/W3n8F G7i16FOHmTX7U/T9nzhsvbpGdYx0LG+45Tpx9QNifMuKFIPb4/eoO92f/srNcK/HcWnVqW12ULN j1fmEM3K4eVUAVe3Q8WQ63dUZTBs5cJu8 X-Gm-Gg: ASbGncu7pPyp43N0QwxLP0RRkWUo3WhJezTgkQi69EY1PI39tc7uQJRWdipE15OnE8N H2iuxgAZjmBAeM/vDKeZ8CkvEobWLitkT2Tb7P3CGuLO4kYg0Srdw2IngFwltov+Zlxo09Qlhuw DQONZ0RHfd0NfgstLKLZ4CwflSZXR6sA2rNsMWq3tr5sbG96AlX92HY6TrcgwSPe637WLVZIfD3 kjlaM3KaDlvnfwk14eTesl/stn7iZ17GkQJ9sMSoLUqem/ADBgDBlIx7HE4sgkbDY92TW2pcG37 WbiJ0pSvhDTf5CYqokF5uEYDpnZwJgzcyetEteBjXsaHFu4g8PCg/iJGU48= X-Google-Smtp-Source: AGHT+IGKQILfPR/7lQEwah/CLixNPBimLOmmLgi2alKwRdMnTgmzeXTS6fy3re1l3PpzBYjMfqPq6+HhR7q1 X-Received: by 2002:a05:6a00:e19:b0:736:5dc6:a14b with SMTP id d2e1a72fcca58-74058a51f14mr2297872b3a.13.1746164309619; Thu, 01 May 2025 22:38:29 -0700 (PDT) Received: from postal.iol.unh.edu (postal.iol.unh.edu. [132.177.123.84]) by smtp-relay.gmail.com with ESMTPS id d2e1a72fcca58-74058d7bf43sm250047b3a.2.2025.05.01.22.38.29 (version=TLS1_2 cipher=ECDHE-ECDSA-AES128-GCM-SHA256 bits=128/128); Thu, 01 May 2025 22:38:29 -0700 (PDT) X-Relaying-Domain: iol.unh.edu Date: Thu, 01 May 2025 22:38:29 -0700 (PDT) Message-ID: <68145a55.050a0220.fb82.2778SMTPIN_ADDED_MISSING@mx.google.com> Received: from [172.21.0.5] (unknown [172.18.0.240]) by postal.iol.unh.edu (Postfix) with ESMTP id C20266052471; Fri, 2 May 2025 01:38:28 -0400 (EDT) Subject: |SUCCESS| [GIT MASTER] 4c5634de9f933555bab9c64a533d3dca999071cd From: dpdklab@iol.unh.edu To: Test Report Cc: dpdk-test-reports@iol.unh.edu, Xueming Li , Christian Ehrhardt , Kevin Traynor , Luca Boccassi Content-Type: text/plain X-BeenThere: test-report@dpdk.org X-Mailman-Version: 2.1.29 Precedence: list List-Id: automatic DPDK test reports List-Unsubscribe: , List-Archive: List-Post: List-Help: List-Subscribe: , Errors-To: test-report-bounces@dpdk.org _Testing PASS_ Branch: tags/v24.11 4c5634de9f933555bab9c64a533d3dca999071cd --> testing pass Upstream job id: Generic-DPDK-Compile-ABI#124970 Test environment and result as below: +-------------------+----------+ | Environment | abi_test | +===================+==========+ | CentOS Stream 9 | PASS | +-------------------+----------+ | CentOS Stream 10 | PASS | +-------------------+----------+ | Debian 12 | PASS | +-------------------+----------+ | Fedora 40 (Clang) | PASS | +-------------------+----------+ | openSUSE Leap 15 | PASS | +-------------------+----------+ | Fedora 40 | PASS | +-------------------+----------+ | Fedora 41 | PASS | +-------------------+----------+ | Fedora 41 (Clang) | PASS | +-------------------+----------+ | RHEL8 | PASS | +-------------------+----------+ | RHEL9 | PASS | +-------------------+----------+ | Ubuntu 24.04 | PASS | +-------------------+----------+ | Ubuntu 22.04 | PASS | +-------------------+----------+ CentOS Stream 9 Kernel: Depends on container host Compiler: gcc 11.5.0 20240719 (Red Hat 11.5.0-2) CentOS Stream 10 Kernel: Depends on container host Compiler: gcc 14.2.1 20241104 (Red Hat 14.2.1-6) Debian 12 Kernel: Depends on container host Compiler: gcc (Debian 12.2.0-14) 12.2.0 Fedora 40 (Clang) Kernel: Depends on container host Compiler: clang 18.1.8 (Fedora 18.1.8-1.fc40) openSUSE Leap 15 Kernel: Depends on container host Compiler: gcc (SUSE Linux) 7.5.0 Fedora 40 Kernel: Depends on container host Compiler: gcc 14.2.1 20240912 (Red Hat 14.2.1-3) Fedora 41 Kernel: Depends on container host Compiler: gcc 14.2.1 20240912 (Red Hat 14.2.1-3) Fedora 41 (Clang) Kernel: Depends on container host Compiler: clang 19.1.5 (Fedora 19.1.5-1.fc41) RHEL8 Kernel: Depends on container host Compiler: gcc 8.5.0 20210514 (Red Hat 8.5.0-22) RHEL9 Kernel: Depends on container host Compiler: gcc 11.5.0 20240719 (Red Hat 11.5.0-2) Ubuntu 24.04 Kernel: Depends on container host Compiler: gcc (Ubuntu 13.3.0-6ubuntu2~24.04) 13.3.0 Ubuntu 22.04 Kernel: Depends on container host Compiler: gcc (Ubuntu 11.4.0-1ubuntu1~22.04) 11.4.0 To view detailed results, visit: https://lab.dpdk.org/results/dashboard/tarballs/33407/ UNH-IOL DPDK Community Lab To manage your email subscriptions, visit: https://lab.dpdk.org/results/dashboard/preferences/subscriptions/