From mboxrd@z Thu Jan 1 00:00:00 1970 Return-Path: Received: from mails.dpdk.org (mails.dpdk.org [217.70.189.124]) by inbox.dpdk.org (Postfix) with ESMTP id 732C546697 for ; Fri, 2 May 2025 07:39:12 +0200 (CEST) Received: from mails.dpdk.org (localhost [127.0.0.1]) by mails.dpdk.org (Postfix) with ESMTP id 6E600402A0; Fri, 2 May 2025 07:39:12 +0200 (CEST) Received: from mail-yw1-f227.google.com (mail-yw1-f227.google.com [209.85.128.227]) by mails.dpdk.org (Postfix) with ESMTP id 2C4C44029E for ; Fri, 2 May 2025 07:39:11 +0200 (CEST) Received: by mail-yw1-f227.google.com with SMTP id 00721157ae682-7080dd5f9f1so12132057b3.0 for ; Thu, 01 May 2025 22:39:11 -0700 (PDT) DKIM-Signature: v=1; a=rsa-sha256; c=relaxed/relaxed; d=iol.unh.edu; s=unh-iol; t=1746164350; x=1746769150; darn=dpdk.org; h=cc:to:from:subject:message-id:date:from:to:cc:subject:date :message-id:reply-to; bh=ILmMWLy9PPnPGfm+Vsh5FnUv1hbgsyiSrBX+RIeJqTU=; b=jn393hFox5iaY4n9QU1JlqwjkG+ywohgKd8/PA0NY5OIc6JmTW70bzxbZsDflHclCU udNhmZRLgRgXvoZYxJSH28u7/9YKcX9h5RXawP+73CXI4KfZUlYkdxE7DI+Bg/X7x2Y2 mcSR03XJ6I++tsgXPnJVLDr/EXn8E/BwcPUEE= X-Google-DKIM-Signature: v=1; a=rsa-sha256; c=relaxed/relaxed; d=1e100.net; s=20230601; t=1746164350; x=1746769150; h=cc:to:from:subject:message-id:date:x-gm-message-state:from:to:cc :subject:date:message-id:reply-to; bh=ILmMWLy9PPnPGfm+Vsh5FnUv1hbgsyiSrBX+RIeJqTU=; b=nIEKrrrM1lTAbDfpGOiY3Gm6kGHnJw9EwxTSQ9gpyGQD2GsLofHv52H+t7YyUM5dGE aG58QOL5NfhGfB4fv0eJQDry7QfX/RAR6WJZaUXZTQeyU2a8SxrqKot4vF0GoEjTV07R pQ+K/4cEEj0zccv1JGNPfGfu6JMXU8jFqfNOCmwcaSHrJKducFlt57j/O31Np5bdtFt+ X7FpZviVT0w20Y/guUPelhZR7RkFCq0ipGZzMBksk+0qjOU7iNsvGUdqo9u1ZC5hc8s7 ZgMPrVQTtEBqYLb9OefQgnSToxonKfL54w7fj0/aHWXnwi76LStRRNds3unN2XX6DkX3 GFQA== X-Gm-Message-State: AOJu0YxsK/0vcWSaD7/HjZOXzhmFIoQF0iN9EXk5orqXr0n9oMQQOLpa 3av1QowyKj0WjhIAKIB1IC6ibwyHE6ycZmgO9FiiCvPYClGA0ist+1mayueW+rzG4ixflmYb/sk m/WCUyb+VPDYdEunCd3Jeydp4eb0htCIctuISLnoH2ma/H5SG X-Gm-Gg: ASbGncvKNvpBZf6xIdDkYR7dLCC6B2WDiDFXzZdW8ywiuz8TTbwvVuPq+//7czK8kv+ 7maf4JBEtnCaSDD9vnr5thlnSHh1pyZsZHTGWqMSUWbnTmoXueuc5A/0YEISZcvoex86bda/ci2 Z9dM5WKAUSgpYiNy20JR69uHTet6sbsMmWlp/gZRWvNnESFTt2+ZzdZlX7sSivr3LHVcaGR4sWe z1l6t5jji/byBXSnmq4lzygIbThwyaeIWUeIXHL5ZpPNlZzN0N1JbqXbQEBRhL6GlXiZ0miYxU5 ubw1SJwVrAX2g3VjuzZBB/336K+613yGQLrL X-Google-Smtp-Source: AGHT+IGnysVQBXCkA22pGTn1gdFimvnbq1NdV5RSoTrPRgj/aejJ3PHb0IBObbG0torMW0xJjFwDF018TCBU X-Received: by 2002:a05:690c:6e8b:b0:708:1d15:e008 with SMTP id 00721157ae682-708cf03c7fdmr26327527b3.13.1746164350499; Thu, 01 May 2025 22:39:10 -0700 (PDT) Received: from postal.iol.unh.edu (postal.iol.unh.edu. [2606:4100:3880:1234::84]) by smtp-relay.gmail.com with ESMTPS id 00721157ae682-708c3f1011bsm4978077b3.7.2025.05.01.22.39.10 (version=TLS1_2 cipher=ECDHE-ECDSA-AES128-GCM-SHA256 bits=128/128); Thu, 01 May 2025 22:39:10 -0700 (PDT) X-Relaying-Domain: iol.unh.edu Date: Thu, 01 May 2025 22:39:10 -0700 (PDT) Message-ID: <68145a7e.050a0220.113338.4286SMTPIN_ADDED_MISSING@mx.google.com> Received: from [172.21.0.5] (unknown [172.18.0.240]) by postal.iol.unh.edu (Postfix) with ESMTP id 27FEF6052471; Fri, 2 May 2025 01:39:10 -0400 (EDT) Subject: |SUCCESS| [GIT MASTER] 4c5634de9f933555bab9c64a533d3dca999071cd From: dpdklab@iol.unh.edu To: Test Report Cc: dpdk-test-reports@iol.unh.edu, Xueming Li , Christian Ehrhardt , Kevin Traynor , Luca Boccassi Content-Type: text/plain X-BeenThere: test-report@dpdk.org X-Mailman-Version: 2.1.29 Precedence: list List-Id: automatic DPDK test reports List-Unsubscribe: , List-Archive: List-Post: List-Help: List-Subscribe: , Errors-To: test-report-bounces@dpdk.org _Testing PASS_ Branch: tags/v24.11 4c5634de9f933555bab9c64a533d3dca999071cd --> testing pass Upstream job id: Generic-DPDK-Compile-ABI#124972 Test environment and result as below: +-------------------+----------+ | Environment | abi_test | +===================+==========+ | CentOS Stream 9 | PASS | +-------------------+----------+ | CentOS Stream 10 | PASS | +-------------------+----------+ | Debian 12 | PASS | +-------------------+----------+ | Fedora 40 (Clang) | PASS | +-------------------+----------+ | openSUSE Leap 15 | PASS | +-------------------+----------+ | Fedora 40 | PASS | +-------------------+----------+ | Fedora 41 | PASS | +-------------------+----------+ | Fedora 41 (Clang) | PASS | +-------------------+----------+ | RHEL8 | PASS | +-------------------+----------+ | RHEL9 | PASS | +-------------------+----------+ | Ubuntu 24.04 | PASS | +-------------------+----------+ | Ubuntu 22.04 | PASS | +-------------------+----------+ CentOS Stream 9 Kernel: Depends on container host Compiler: gcc 11.5.0 20240719 (Red Hat 11.5.0-2) CentOS Stream 10 Kernel: Depends on container host Compiler: gcc 14.2.1 20241104 (Red Hat 14.2.1-6) Debian 12 Kernel: Depends on container host Compiler: gcc (Debian 12.2.0-14) 12.2.0 Fedora 40 (Clang) Kernel: Depends on container host Compiler: clang 18.1.8 (Fedora 18.1.8-1.fc40) openSUSE Leap 15 Kernel: Depends on container host Compiler: gcc (SUSE Linux) 7.5.0 Fedora 40 Kernel: Depends on container host Compiler: gcc 14.2.1 20240912 (Red Hat 14.2.1-3) Fedora 41 Kernel: Depends on container host Compiler: gcc 14.2.1 20240912 (Red Hat 14.2.1-3) Fedora 41 (Clang) Kernel: Depends on container host Compiler: clang 19.1.5 (Fedora 19.1.5-1.fc41) RHEL8 Kernel: Depends on container host Compiler: gcc 8.5.0 20210514 (Red Hat 8.5.0-22) RHEL9 Kernel: Depends on container host Compiler: gcc 11.5.0 20240719 (Red Hat 11.5.0-2) Ubuntu 24.04 Kernel: Depends on container host Compiler: gcc (Ubuntu 13.3.0-6ubuntu2~24.04) 13.3.0 Ubuntu 22.04 Kernel: Depends on container host Compiler: gcc (Ubuntu 11.4.0-1ubuntu1~22.04) 11.4.0 To view detailed results, visit: https://lab.dpdk.org/results/dashboard/tarballs/33407/ UNH-IOL DPDK Community Lab To manage your email subscriptions, visit: https://lab.dpdk.org/results/dashboard/preferences/subscriptions/