From mboxrd@z Thu Jan 1 00:00:00 1970 Return-Path: Received: from mails.dpdk.org (mails.dpdk.org [217.70.189.124]) by inbox.dpdk.org (Postfix) with ESMTP id AC9C246699 for ; Fri, 2 May 2025 08:02:52 +0200 (CEST) Received: from mails.dpdk.org (localhost [127.0.0.1]) by mails.dpdk.org (Postfix) with ESMTP id A858C402A0; Fri, 2 May 2025 08:02:52 +0200 (CEST) Received: from mail-pg1-f226.google.com (mail-pg1-f226.google.com [209.85.215.226]) by mails.dpdk.org (Postfix) with ESMTP id 8B11A4029E for ; Fri, 2 May 2025 08:02:51 +0200 (CEST) Received: by mail-pg1-f226.google.com with SMTP id 41be03b00d2f7-b0b2d0b2843so1363800a12.2 for ; Thu, 01 May 2025 23:02:51 -0700 (PDT) DKIM-Signature: v=1; a=rsa-sha256; c=relaxed/relaxed; d=iol.unh.edu; s=unh-iol; t=1746165770; x=1746770570; darn=dpdk.org; h=cc:to:from:subject:message-id:date:from:to:cc:subject:date :message-id:reply-to; bh=ppLtkheUqbeDNRIkp7GHgf45RtWKA2cPK703veOpN4Y=; b=gKuhN0vFpzHwrDwvNlER1lsmTlNU5elXdQD87/tAoYpZq697yo6fP9wDiB2ncnzcge svXA3HjD1gQWhGa+DQVdw/1m5lt0WpKxIr8b7ErSr+eTaDV3Jz3gSEHWBLle0PW0Gsys MTgvDZpEcUUE8SppOgsBkcgZvpFF9LM0gc3Pk= X-Google-DKIM-Signature: v=1; a=rsa-sha256; c=relaxed/relaxed; d=1e100.net; s=20230601; t=1746165770; x=1746770570; h=cc:to:from:subject:message-id:date:x-gm-message-state:from:to:cc :subject:date:message-id:reply-to; bh=ppLtkheUqbeDNRIkp7GHgf45RtWKA2cPK703veOpN4Y=; b=teCLOk9oijHRQvMdx4KA7pqmHyW+wEpFgjXFjQz/D5fPCyeJWBxF7yL/JH+QAZmblt Sghak0cx++laafa8yuCJe3SXQ6c1J98rUwvSy57vO1xQfB80ChEu3CeV0Pl3tLJUHb0B rBSbdE9RkdBZ1yCi1QeuKyu4XcWlJOPXU2qkvnjWKtZlR2My/bJtxo77LwpvH9ucF2Lm +8twxNkZI6heWfgMmATcm37JhrWYxLwp7i0ioNjfX1WqxPeRf/hVcYNP/F7fVt7BcIdc uJmx3hctPofQ0qmaZnaJNXuVCH04FmTGeJeez/1ZKRZftdfF7rJWQRZr7s+v8UxDr6Zz fm5Q== X-Gm-Message-State: AOJu0Yy9rN/T3BREZv48Vr0qQkaI7jo5Iu2+p1hIi6mL6yjQ2Lh7xlTn LxIV18YpUI4L4UOjh5g/WGcN5dARwaVC62+XIru5U6bnvNJWmmwvYNz27edMAKW0Uh+4M8o1SZe toMQ6kpklDC9blg4PaBfr1xrKLxr+PFIGpRVcidzeUeR4lkKp X-Gm-Gg: ASbGnctiDQzqK3XHXmhWR1x7GwHbvIsWGQo7Xsni0G8b+/r5HSyWgNpE/B7n1RXJ+e/ TuLjJfs6nDRIhq+YyS4UP1z5OS2eRDFaepSnHF98NeQ5B/LN0IvYxl7+IFxf0AddDayB0OHob3I 2DKfWR8Zd/2KFucEu+KlD/eC90ruyNgYnvl1HCIGXP5h5bb67iJwol2LxHHMb4zDPHwqdD+CzYy 1jYAuv7XSCvtcEpPtFXmqmyUi4rTejikaiby5GQRuRw9bwTYqdjVyTR/xkLm+ZImtDsM1BzbSRm u/Yej2ay3LSvbQ0kHneJgAx7Yms2cn0LHsk6 X-Google-Smtp-Source: AGHT+IF5OezdbkWSUaI5dAE+HgpS501Nrg/eSWbGK6vH5F0+gU1TdNg6AOltTtljbpiToPM8j1DrAQa3ekoC X-Received: by 2002:a17:90b:586e:b0:2ee:6d08:7936 with SMTP id 98e67ed59e1d1-30a4e5c5ed2mr2654224a91.20.1746165770151; Thu, 01 May 2025 23:02:50 -0700 (PDT) Received: from postal.iol.unh.edu (postal.iol.unh.edu. [2606:4100:3880:1234::84]) by smtp-relay.gmail.com with ESMTPS id 98e67ed59e1d1-30a4765c4ddsm668059a91.15.2025.05.01.23.02.50 (version=TLS1_2 cipher=ECDHE-ECDSA-AES128-GCM-SHA256 bits=128/128); Thu, 01 May 2025 23:02:50 -0700 (PDT) X-Relaying-Domain: iol.unh.edu Date: Thu, 01 May 2025 23:02:50 -0700 (PDT) Message-ID: <6814600a.170a0220.1dcc6c.6259SMTPIN_ADDED_MISSING@mx.google.com> Received: from [172.21.0.6] (unknown [172.18.0.240]) by postal.iol.unh.edu (Postfix) with ESMTP id 548296052471; Fri, 2 May 2025 02:02:49 -0400 (EDT) Subject: |SUCCESS| [GIT MASTER] 83a7a648344674c0269fcaeb71d8d16468421a0e From: dpdklab@iol.unh.edu To: Test Report Cc: dpdk-test-reports@iol.unh.edu, Xueming Li , Christian Ehrhardt , Kevin Traynor , Luca Boccassi Content-Type: text/plain X-BeenThere: test-report@dpdk.org X-Mailman-Version: 2.1.29 Precedence: list List-Id: automatic DPDK test reports List-Unsubscribe: , List-Archive: List-Post: List-Help: List-Subscribe: , Errors-To: test-report-bounces@dpdk.org _Testing PASS_ Branch: tags/v23.11 83a7a648344674c0269fcaeb71d8d16468421a0e --> testing pass Upstream job id: Generic-DPDK-Compile-ABI#125000 Test environment and result as below: +-------------------+----------+ | Environment | abi_test | +===================+==========+ | CentOS Stream 9 | PASS | +-------------------+----------+ | CentOS Stream 10 | PASS | +-------------------+----------+ | Fedora 41 | PASS | +-------------------+----------+ | Fedora 40 (Clang) | PASS | +-------------------+----------+ | Debian 12 | PASS | +-------------------+----------+ | RHEL8 | PASS | +-------------------+----------+ | Fedora 40 | PASS | +-------------------+----------+ | Ubuntu 24.04 | PASS | +-------------------+----------+ | Fedora 41 (Clang) | PASS | +-------------------+----------+ | RHEL9 | PASS | +-------------------+----------+ | Ubuntu 22.04 | PASS | +-------------------+----------+ | openSUSE Leap 15 | PASS | +-------------------+----------+ CentOS Stream 9 Kernel: Depends on container host Compiler: gcc 11.5.0 20240719 (Red Hat 11.5.0-2) CentOS Stream 10 Kernel: Depends on container host Compiler: gcc 14.2.1 20241104 (Red Hat 14.2.1-6) Fedora 41 Kernel: Depends on container host Compiler: gcc 14.2.1 20240912 (Red Hat 14.2.1-3) Fedora 40 (Clang) Kernel: Depends on container host Compiler: clang 18.1.8 (Fedora 18.1.8-1.fc40) Debian 12 Kernel: Depends on container host Compiler: gcc (Debian 12.2.0-14) 12.2.0 RHEL8 Kernel: Depends on container host Compiler: gcc 8.5.0 20210514 (Red Hat 8.5.0-22) Fedora 40 Kernel: Depends on container host Compiler: gcc 14.2.1 20240912 (Red Hat 14.2.1-3) Ubuntu 24.04 Kernel: Depends on container host Compiler: gcc (Ubuntu 13.3.0-6ubuntu2~24.04) 13.3.0 Fedora 41 (Clang) Kernel: Depends on container host Compiler: clang 19.1.5 (Fedora 19.1.5-1.fc41) RHEL9 Kernel: Depends on container host Compiler: gcc 11.5.0 20240719 (Red Hat 11.5.0-2) Ubuntu 22.04 Kernel: Depends on container host Compiler: gcc (Ubuntu 11.4.0-1ubuntu1~22.04) 11.4.0 openSUSE Leap 15 Kernel: Depends on container host Compiler: gcc (SUSE Linux) 7.5.0 To view detailed results, visit: https://lab.dpdk.org/results/dashboard/tarballs/33408/ UNH-IOL DPDK Community Lab To manage your email subscriptions, visit: https://lab.dpdk.org/results/dashboard/preferences/subscriptions/