From mboxrd@z Thu Jan 1 00:00:00 1970 Return-Path: Received: from mails.dpdk.org (mails.dpdk.org [217.70.189.124]) by inbox.dpdk.org (Postfix) with ESMTP id 68C334669A for ; Fri, 2 May 2025 08:21:20 +0200 (CEST) Received: from mails.dpdk.org (localhost [127.0.0.1]) by mails.dpdk.org (Postfix) with ESMTP id 5FCAB402A0; Fri, 2 May 2025 08:21:20 +0200 (CEST) Received: from mail-yw1-f226.google.com (mail-yw1-f226.google.com [209.85.128.226]) by mails.dpdk.org (Postfix) with ESMTP id AE6E34029E for ; Fri, 2 May 2025 08:21:19 +0200 (CEST) Received: by mail-yw1-f226.google.com with SMTP id 00721157ae682-7053f85f059so15202667b3.2 for ; Thu, 01 May 2025 23:21:19 -0700 (PDT) DKIM-Signature: v=1; a=rsa-sha256; c=relaxed/relaxed; d=iol.unh.edu; s=unh-iol; t=1746166879; x=1746771679; darn=dpdk.org; h=cc:to:from:subject:message-id:date:from:to:cc:subject:date :message-id:reply-to; bh=Y4s/az23d2UEggQ5/YLgwChPtaROw7vAohhWXSeyCA8=; b=KoVzf9r7mH5U+MDyuidJ4evSiEtSkXrOnsdAG/zTg8adaCU3SyjHNykKRcj5k+ZTaZ h6mcpXNglj6bOcbeRDp8uCoJUnhRU/6ZhkML0nFMxaYADMajxpdDugeEMdQSR7P7L3yd qcBrTcL9E4w9R734se4V9SzK5KInN6uWXnSxY= X-Google-DKIM-Signature: v=1; a=rsa-sha256; c=relaxed/relaxed; d=1e100.net; s=20230601; t=1746166879; x=1746771679; h=cc:to:from:subject:message-id:date:x-gm-message-state:from:to:cc :subject:date:message-id:reply-to; bh=Y4s/az23d2UEggQ5/YLgwChPtaROw7vAohhWXSeyCA8=; b=RtS7SASTQZBM6wMi8YNvzgUpzcRWgS1w8Jnw5jT8wyUYG9lxgTlp+xlKkdv+0Es8Nm 5DIcBNdwD3NlBfTQG593uEnWqxs2Y20roWYcRyC8t9/psEUzE1rokd8ErURj0BYD6U+G ew5dQcck1Gb1APbhCaVpCOsepU8DCorC1re0xFrUMD3ajre33FzrkppeqlZKjRipPdfX Hjj4lFO2Jjcpb3UgCY03uPhGQgAuQ0kyi3+VDhcFS6tQjnre+RK6AbLkJmZK0peU5I5C DtNRPmdnir3Rwlez+AtguRvyczVX3I+Bt6bK5gqLFfQp55pQ639VFagOleokU7/jDlvZ Xwyw== X-Gm-Message-State: AOJu0Yxki2NMpJteWwEanfTpDOpZmLRFew8UxePXbSYTehAc/8qRl3aK QtJXb7kAtdbay+3xpMMi2CI6arNwkuUtyb4Y8Qu9eNik29a5HFHvWjOpnkE4qUjRRSoTBMIc1Ol MV6R+tE2M5E8UhQIlpRvUQaoxDhbA/XiuurU+ga6Xg9jynakn X-Gm-Gg: ASbGncsDh5xthxHddHmeHLZVZp99hPDlwp4kJUULXirjij6Gh4sk7upwZEY04zq0GK1 qkrZCXabKWS6Fj+Xg2SnhQqt82rGj673p+EKpfXBZaEivDsYTk6VcNUJYGfsgQkMlarlmII+wDl Yyx265zmyAPiJYv7vN4kglObZCwph1zR3SkMiPEp3w9EqVi2xmhFN9E6JXRYSTvfMK6XoPL3/Ud RlMPTIy0X/Kl64PYhfcqn24Kt7WbgwYnx/CyaDTeFCG8LdMeV/xNsKwTHFfmQhq17oj6CQxA1wc EN0gUxTW6rCBuAeyuu/CW9oLMzhLg0mkhqxI X-Google-Smtp-Source: AGHT+IFMEf/xXY40//yQ9N9ZvZYcNzl3GPHEdNoT5ydXG/xjSvfGL+A6HtFPgUpamiql4LiIB3+pwPB79ppk X-Received: by 2002:a05:690c:600f:b0:708:bc95:6eb8 with SMTP id 00721157ae682-708ced21c01mr29525847b3.1.1746166879006; Thu, 01 May 2025 23:21:19 -0700 (PDT) Received: from postal.iol.unh.edu (postal.iol.unh.edu. [2606:4100:3880:1234::84]) by smtp-relay.gmail.com with ESMTPS id 00721157ae682-708c46ecdafsm4950247b3.58.2025.05.01.23.21.18 (version=TLS1_2 cipher=ECDHE-ECDSA-AES128-GCM-SHA256 bits=128/128); Thu, 01 May 2025 23:21:18 -0700 (PDT) X-Relaying-Domain: iol.unh.edu Date: Thu, 01 May 2025 23:21:18 -0700 (PDT) Message-ID: <6814645e.050a0220.298ec8.455fSMTPIN_ADDED_MISSING@mx.google.com> Received: from [172.21.0.5] (unknown [172.18.0.240]) by postal.iol.unh.edu (Postfix) with ESMTP id 99AC76052471; Fri, 2 May 2025 02:21:18 -0400 (EDT) Subject: |SUCCESS| [GIT MASTER] 4c5634de9f933555bab9c64a533d3dca999071cd From: dpdklab@iol.unh.edu To: Test Report Cc: dpdk-test-reports@iol.unh.edu, Xueming Li , Christian Ehrhardt , Kevin Traynor , Luca Boccassi Content-Type: text/plain X-BeenThere: test-report@dpdk.org X-Mailman-Version: 2.1.29 Precedence: list List-Id: automatic DPDK test reports List-Unsubscribe: , List-Archive: List-Post: List-Help: List-Subscribe: , Errors-To: test-report-bounces@dpdk.org _Testing PASS_ Branch: tags/v24.11 4c5634de9f933555bab9c64a533d3dca999071cd --> testing pass Upstream job id: Generic-Unit-Test-DPDK#334727 Test environment and result as below: +-----------------------------+--------------+------------------------------+---------------------------+----------------+ | Environment | lpm_autotest | cryptodev_sw_snow3g_autotest | cryptodev_sw_zuc_autotest | dpdk_unit_test | +=============================+==============+==============================+===========================+================+ | Ubuntu 20.04 ARM SVE | PASS | SKIPPED | SKIPPED | SKIPPED | +-----------------------------+--------------+------------------------------+---------------------------+----------------+ | Debian 12 (arm) | SKIPPED | PASS | PASS | PASS | +-----------------------------+--------------+------------------------------+---------------------------+----------------+ | CentOS Stream 9 (ARM) | SKIPPED | SKIPPED | SKIPPED | PASS | +-----------------------------+--------------+------------------------------+---------------------------+----------------+ | Fedora 41 (ARM) | SKIPPED | SKIPPED | SKIPPED | PASS | +-----------------------------+--------------+------------------------------+---------------------------+----------------+ | CentOS Stream 10 (ARM) | SKIPPED | SKIPPED | SKIPPED | PASS | +-----------------------------+--------------+------------------------------+---------------------------+----------------+ | Fedora 41 (ARM Clang) | SKIPPED | SKIPPED | SKIPPED | PASS | +-----------------------------+--------------+------------------------------+---------------------------+----------------+ | RHEL9 (ARM) | SKIPPED | SKIPPED | SKIPPED | PASS | +-----------------------------+--------------+------------------------------+---------------------------+----------------+ | Fedora 40 (ARM) | SKIPPED | SKIPPED | SKIPPED | PASS | +-----------------------------+--------------+------------------------------+---------------------------+----------------+ | Ubuntu 22.04 (ARM) | SKIPPED | SKIPPED | SKIPPED | PASS | +-----------------------------+--------------+------------------------------+---------------------------+----------------+ | Ubuntu 20.04 (ARM) | SKIPPED | SKIPPED | SKIPPED | PASS | +-----------------------------+--------------+------------------------------+---------------------------+----------------+ | Ubuntu 24.04 (ARM) | SKIPPED | SKIPPED | SKIPPED | PASS | +-----------------------------+--------------+------------------------------+---------------------------+----------------+ | Fedora 40 (ARM Clang) | SKIPPED | SKIPPED | SKIPPED | PASS | +-----------------------------+--------------+------------------------------+---------------------------+----------------+ | 32-bit Ubuntu 22.04.4 (ARM) | SKIPPED | SKIPPED | SKIPPED | PASS | +-----------------------------+--------------+------------------------------+---------------------------+----------------+ Ubuntu 20.04 ARM SVE Kernel: Depends on container host Compiler: gcc (Ubuntu 10.5.0-1ubuntu1~20.04) 10.5.0 Debian 12 (arm) Kernel: Depends on container host Compiler: gcc (Debian 12.2.0-14) 12.2.0 CentOS Stream 9 (ARM) Kernel: Depends on container host Compiler: gcc 11.5.0 20240719 (Red Hat 11.5.0-2) Fedora 41 (ARM) Kernel: Depends on container host Compiler: gcc 14.2.1 20240912 (Red Hat 14.2.1-3) CentOS Stream 10 (ARM) Kernel: Depends on container host Compiler: gcc 14.2.1 20241104 (Red Hat 14.2.1-6) Fedora 41 (ARM Clang) Kernel: Depends on container host Compiler: clang 19.1.5 (Fedora 19.1.5-1.fc41) RHEL9 (ARM) Kernel: Depends on container host Compiler: gcc 11.5.0 20240719 (Red Hat 11.5.0-2) Fedora 40 (ARM) Kernel: Depends on container host Compiler: gcc 14.2.1 20240912 (Red Hat 14.2.1-3) Ubuntu 22.04 (ARM) Kernel: Depends on container host Compiler: gcc (Ubuntu 11.4.0-1ubuntu1~22.04) 11.4.0 Ubuntu 20.04 (ARM) Kernel: Depends on container host Compiler: gcc (Ubuntu 9.4.0-1ubuntu1~20.04.2) 9.4.0 Ubuntu 24.04 (ARM) Kernel: Depends on container host Compiler: gcc (Ubuntu 13.3.0-6ubuntu2~24.04) 13.3.0 Fedora 40 (ARM Clang) Kernel: Depends on container host Compiler: clang 18.1.8 (Fedora 18.1.8-1.fc40) 32-bit Ubuntu 22.04.4 (ARM) Kernel: 5.15.83+ aarch64 Compiler: gcc (Ubuntu 11.4.0-1ubuntu1~22.04) 11.4.0 To view detailed results, visit: https://lab.dpdk.org/results/dashboard/tarballs/33407/ UNH-IOL DPDK Community Lab To manage your email subscriptions, visit: https://lab.dpdk.org/results/dashboard/preferences/subscriptions/