From mboxrd@z Thu Jan 1 00:00:00 1970 Return-Path: Received: from mails.dpdk.org (mails.dpdk.org [217.70.189.124]) by inbox.dpdk.org (Postfix) with ESMTP id B954E4669A for ; Fri, 2 May 2025 08:35:18 +0200 (CEST) Received: from mails.dpdk.org (localhost [127.0.0.1]) by mails.dpdk.org (Postfix) with ESMTP id B4924402A0; Fri, 2 May 2025 08:35:18 +0200 (CEST) Received: from mail-vs1-f100.google.com (mail-vs1-f100.google.com [209.85.217.100]) by mails.dpdk.org (Postfix) with ESMTP id C7DB44029E for ; Fri, 2 May 2025 08:35:17 +0200 (CEST) Received: by mail-vs1-f100.google.com with SMTP id ada2fe7eead31-4c3745b28cfso466014137.3 for ; Thu, 01 May 2025 23:35:17 -0700 (PDT) DKIM-Signature: v=1; a=rsa-sha256; c=relaxed/relaxed; d=iol.unh.edu; s=unh-iol; t=1746167717; x=1746772517; darn=dpdk.org; h=cc:to:from:subject:message-id:date:from:to:cc:subject:date :message-id:reply-to; bh=5TgBKW5pwYkBCKPzk+/eH24lviZWNGWqjN7RUOvXAfU=; b=cY1s5jkgdP7tR9WY0CPrK5usgG14bBJF7w35YweA4vgoX0ZkMYqpQNjR/oZq0OJxNk ckFKNlOXpZV+ZdhEmhveF59MB64WTxig+9xxQuV3rY3DYi3ePEPUIdMgru4kLxiLXRV0 GSMiQ919YObWFpUf2Ks7FLBtV54fFRBuxRAVw= X-Google-DKIM-Signature: v=1; a=rsa-sha256; c=relaxed/relaxed; d=1e100.net; s=20230601; t=1746167717; x=1746772517; h=cc:to:from:subject:message-id:date:x-gm-message-state:from:to:cc :subject:date:message-id:reply-to; bh=5TgBKW5pwYkBCKPzk+/eH24lviZWNGWqjN7RUOvXAfU=; b=v4E0JWxwWqxdH8cGUcttCdETvcc3ZKvHKffaFPOV/nKNoB2QIy8Carb5pgUc+3xeJu 4T1dBcxCs3wO873swrbweX15IZsxpx+nIaUZcf8EaqcYavvtotzejF6pdKBs+0AiK6q4 DsMLBOadXV8R5V+P10p1XYphiEOBvXDd3YvSYOr4UmKv6YEPfreOqlO40suh4+yBqiHp ii1kJ/n09M8Wz8zNA/kpMCXtFtaCzRwM97Lm2Il061pgwCPmIsPh9I4iMVjusOjK5QoL PqiyNyga0Yq1+ZNdszvJG0Qh8LkCjzLcNXbPkMLMHVa/hoy3h9UnZCR37WxnrwJazajA rbfA== X-Gm-Message-State: AOJu0YxxWf0lBOyhWvlCNK+IDRmxowow2/efR+Ys64d6F+jTPGOmxcHQ od+vsapxPp6W6/7NJUPMbr8yzbU/4Hgu6Bd4ObigAxnndDbXH/rgtJYs9v8zKcbhsGofr9Bd2R9 SP1oAxClyLG6mpFVOxySinC9Wj7rsC9Uas3EHONBPNpC4GY2B X-Gm-Gg: ASbGncsEo/iFQH0nIPCEXT8rl2eNrVlWBYXHgz7I21F+A5btMvNasQjBfwrvIZA8S7t ZLba+4lMVi2Z9LVvwUKBR4SuO3Vq27omnfavd1g1deUqdZIboYT3Lx88jdt3prghQ02O4l/qys9 AKTVRxqabN59m90gRh+gz1tedZXT0G89kXfh+dECesofFiYMnIDqHw7afOfrhnW3jTFWdEdN4yA IpHQENegY+UMhKz237FVee1PyqsUogjOCAu/+zi9ax1lAOa+Wyga6lSJfijIa6uAGvlhTfXEfEo +NptwHMvIsxQbUyubcAG1iqieJo/DCXk8k1Q X-Google-Smtp-Source: AGHT+IFsjWNCLfKTvOPnZT6h/fo1Io1d9LtuWVhbk19ozxU5kvET9+a7r4YtdLYLdAvqZ7/bTWaEDRE5a/4w X-Received: by 2002:a05:6102:1495:b0:4bb:e14a:944b with SMTP id ada2fe7eead31-4dafb68790bmr1081225137.20.1746167717157; Thu, 01 May 2025 23:35:17 -0700 (PDT) Received: from postal.iol.unh.edu (postal.iol.unh.edu. [2606:4100:3880:1234::84]) by smtp-relay.gmail.com with ESMTPS id a1e0cc1a2514c-8780b020023sm156245241.9.2025.05.01.23.35.17 (version=TLS1_2 cipher=ECDHE-ECDSA-AES128-GCM-SHA256 bits=128/128); Thu, 01 May 2025 23:35:17 -0700 (PDT) X-Relaying-Domain: iol.unh.edu Date: Thu, 01 May 2025 23:35:17 -0700 (PDT) Message-ID: <681467a5.b00a0220.2c2eca.19ddSMTPIN_ADDED_MISSING@mx.google.com> Received: from [172.21.0.6] (unknown [172.18.0.240]) by postal.iol.unh.edu (Postfix) with ESMTP id CF5946052471; Fri, 2 May 2025 02:35:16 -0400 (EDT) Subject: |SUCCESS| [GIT MASTER] 4c5634de9f933555bab9c64a533d3dca999071cd From: dpdklab@iol.unh.edu To: Test Report Cc: dpdk-test-reports@iol.unh.edu, Xueming Li , Christian Ehrhardt , Kevin Traynor , Luca Boccassi Content-Type: text/plain X-BeenThere: test-report@dpdk.org X-Mailman-Version: 2.1.29 Precedence: list List-Id: automatic DPDK test reports List-Unsubscribe: , List-Archive: List-Post: List-Help: List-Subscribe: , Errors-To: test-report-bounces@dpdk.org _Testing PASS_ Branch: tags/v24.11 4c5634de9f933555bab9c64a533d3dca999071cd --> testing pass Upstream job id: Generic-Unit-Test-DPDK#334721 Test environment and result as below: +---------------------+----------------+ | Environment | dpdk_unit_test | +=====================+================+ | Debian 12 | PASS | +---------------------+----------------+ | CentOS Stream 10 | PASS | +---------------------+----------------+ | CentOS Stream 9 | PASS | +---------------------+----------------+ | Fedora 40 (Clang) | PASS | +---------------------+----------------+ | Fedora 41 | PASS | +---------------------+----------------+ | RHEL8 | PASS | +---------------------+----------------+ | Fedora 41 (Clang) | PASS | +---------------------+----------------+ | Ubuntu 20.04 | PASS | +---------------------+----------------+ | Ubuntu 24.04 | PASS | +---------------------+----------------+ | Fedora 40 | PASS | +---------------------+----------------+ | Ubuntu 22.04 | PASS | +---------------------+----------------+ | RHEL9 | PASS | +---------------------+----------------+ | Windows Server 2022 | PASS | +---------------------+----------------+ Debian 12 Kernel: Depends on container host Compiler: gcc (Debian 12.2.0-14) 12.2.0 CentOS Stream 10 Kernel: Depends on container host Compiler: gcc 14.2.1 20241104 (Red Hat 14.2.1-6) CentOS Stream 9 Kernel: Depends on container host Compiler: gcc 11.5.0 20240719 (Red Hat 11.5.0-2) Fedora 40 (Clang) Kernel: Depends on container host Compiler: clang 18.1.8 (Fedora 18.1.8-1.fc40) Fedora 41 Kernel: Depends on container host Compiler: gcc 14.2.1 20240912 (Red Hat 14.2.1-3) RHEL8 Kernel: Depends on container host Compiler: gcc 8.5.0 20210514 (Red Hat 8.5.0-22) Fedora 41 (Clang) Kernel: Depends on container host Compiler: clang 19.1.5 (Fedora 19.1.5-1.fc41) Ubuntu 20.04 Kernel: Depends on container host Compiler: gcc (Ubuntu 9.4.0-1ubuntu1~20.04.2) 9.4.0 Ubuntu 24.04 Kernel: Depends on container host Compiler: gcc (Ubuntu 13.3.0-6ubuntu2~24.04) 13.3.0 Fedora 40 Kernel: Depends on container host Compiler: gcc 14.2.1 20240912 (Red Hat 14.2.1-3) Ubuntu 22.04 Kernel: Depends on container host Compiler: gcc (Ubuntu 11.4.0-1ubuntu1~22.04) 11.4.0 RHEL9 Kernel: Depends on container host Compiler: gcc 11.5.0 20240719 (Red Hat 11.5.0-2) Windows Server 2022 Kernel: 10.0.20348.2031 Compiler: clang 15.0.7, gcc 14.1.0 (MinGW), and MSVC VS 19.39.33521 To view detailed results, visit: https://lab.dpdk.org/results/dashboard/tarballs/33407/ UNH-IOL DPDK Community Lab To manage your email subscriptions, visit: https://lab.dpdk.org/results/dashboard/preferences/subscriptions/