From mboxrd@z Thu Jan 1 00:00:00 1970 Return-Path: Received: from mails.dpdk.org (mails.dpdk.org [217.70.189.124]) by inbox.dpdk.org (Postfix) with ESMTP id E5DBB4669A for ; Fri, 2 May 2025 08:36:28 +0200 (CEST) Received: from mails.dpdk.org (localhost [127.0.0.1]) by mails.dpdk.org (Postfix) with ESMTP id E11F3402A0; Fri, 2 May 2025 08:36:28 +0200 (CEST) Received: from mail-pf1-f228.google.com (mail-pf1-f228.google.com [209.85.210.228]) by mails.dpdk.org (Postfix) with ESMTP id 389024029E for ; Fri, 2 May 2025 08:36:28 +0200 (CEST) Received: by mail-pf1-f228.google.com with SMTP id d2e1a72fcca58-7399a2dc13fso2574644b3a.2 for ; Thu, 01 May 2025 23:36:28 -0700 (PDT) DKIM-Signature: v=1; a=rsa-sha256; c=relaxed/relaxed; d=iol.unh.edu; s=unh-iol; t=1746167787; x=1746772587; darn=dpdk.org; h=cc:to:from:subject:message-id:date:from:to:cc:subject:date :message-id:reply-to; bh=Nys7SylmNtWQzjZORcHbIbzvm4prHv6XiaSgyEH7WQ0=; b=eyX/iSkf0XLzi3e2HckhgWWOkI7x6msJOsnSi41PeScHnLV71ARhfymOuCkLJdjX6V Gt4p8t5b85BL/bIazu0yu0SMv0UgNHwS3DjNvNZFZkCO1zdz5gT6VcspeiKJeAOfC3He MqYiME88RtfDCm182doAxrmgmDiUU8lULHs9E= X-Google-DKIM-Signature: v=1; a=rsa-sha256; c=relaxed/relaxed; d=1e100.net; s=20230601; t=1746167787; x=1746772587; h=cc:to:from:subject:message-id:date:x-gm-message-state:from:to:cc :subject:date:message-id:reply-to; bh=Nys7SylmNtWQzjZORcHbIbzvm4prHv6XiaSgyEH7WQ0=; b=AtV/3xu0krn/dhM5cpY/BP5iuOiyyjmFISxjcfgTjDxW/wJYKOUChO2Qc1raPefuSK kJ9LboRY/cgnvlT9ngfCoVku7yymdb21LsyfC1qATCH1BJfa/fWpjw4oENmixucA9zga kfwqzxn1dZHxowkYulLywJuN6s0P9ZUTFukvdpU2P1Y/rSG8tqXRLAM8jNv93BmQooR1 hql4gAn3MVnm7iva/BER2cFvbehO6KAwYvdmcLdbyERCA9A6gplmnn/Y5oQjjkRCxyl1 6CO6zAJX5m760ld0pY1oIBchZkDM8wtlt0DLAyVRbGBxBtiyIm8z6bnjvaIRLMdQQTHV tcWA== X-Gm-Message-State: AOJu0Yxmt2ybIf3FqMOeRSVlLn8lBsRTKTsXg/xHh/tS2sBb3cIGzTuR ZCpCCcIS6C8T2GOV+UjYj99APVWBVxfwkFmbXHWkRuPdva7CRwFIUX0N0nb2q+2++4JnT8kOUKT cZ+wk00GIWvCWUPDsQ+2JnzwMeRppCFLMKvOYC+dsg7F5iiC6 X-Gm-Gg: ASbGncts4E2QPoEFpgrIAG4Aj89FEVa3e4jwJ/iQWKszbq2dBs2Bpv9Uc3yqZoRzoPe Ag7TRmpzGhfn2OTvjyRotcYkJ5krh6SGuD3m+NhRjAzxtUo96dnex/CmEWenuF/FlmRZwApxqNk mvf3ieWrpInsHa4L+BEdS0np9s3fOGj795EewVxxfFsVoUpTq+M0jm45ZSgOwGGoJSJTI3fE2Qt hFzAOljPjXcv5U3roV+TB3TtQSyIh6XN8XIFZzOC8jnroh2O3PkQ3o48HPpEw2CeHHjaFUh7xel 5ch0fwqwFysHTfRvgFFJObUMbY3iupx/HoH8 X-Google-Smtp-Source: AGHT+IF4xFd9c9aC9qk4Dt2PpovxZUDuYPnNKZ/9z9GFFvRGUJMn+z0ralKHvQAARjo5QwvdRdW94HfcMYWN X-Received: by 2002:a05:6a00:1bc6:b0:736:46b4:bef2 with SMTP id d2e1a72fcca58-74058a20a33mr2350939b3a.6.1746167787027; Thu, 01 May 2025 23:36:27 -0700 (PDT) Received: from postal.iol.unh.edu (postal.iol.unh.edu. [2606:4100:3880:1234::84]) by smtp-relay.gmail.com with ESMTPS id d2e1a72fcca58-7405905d328sm267757b3a.20.2025.05.01.23.36.26 (version=TLS1_2 cipher=ECDHE-ECDSA-AES128-GCM-SHA256 bits=128/128); Thu, 01 May 2025 23:36:27 -0700 (PDT) X-Relaying-Domain: iol.unh.edu Date: Thu, 01 May 2025 23:36:27 -0700 (PDT) Message-ID: <681467eb.050a0220.3a23cb.280eSMTPIN_ADDED_MISSING@mx.google.com> Received: from [172.21.0.6] (unknown [172.18.0.240]) by postal.iol.unh.edu (Postfix) with ESMTP id 3ADD36052471; Fri, 2 May 2025 02:36:26 -0400 (EDT) Subject: |SUCCESS| [GIT MASTER] 4c5634de9f933555bab9c64a533d3dca999071cd From: dpdklab@iol.unh.edu To: Test Report Cc: dpdk-test-reports@iol.unh.edu, Xueming Li , Christian Ehrhardt , Kevin Traynor , Luca Boccassi Content-Type: text/plain X-BeenThere: test-report@dpdk.org X-Mailman-Version: 2.1.29 Precedence: list List-Id: automatic DPDK test reports List-Unsubscribe: , List-Archive: List-Post: List-Help: List-Subscribe: , Errors-To: test-report-bounces@dpdk.org _Testing PASS_ Branch: tags/v24.11 4c5634de9f933555bab9c64a533d3dca999071cd --> testing pass Upstream job id: ACVP-FIPS-testing#9687 Test environment and result as below: +--------------------+----------------------+----------------------+ | Environment | compressdev_zlib_pmd | dpdk_fips_validation | +====================+======================+======================+ | Ubuntu 22.04 (ARM) | PASS | SKIPPED | +--------------------+----------------------+----------------------+ | Ubuntu 22.04 | PASS | SKIPPED | +--------------------+----------------------+----------------------+ | Ubuntu 20.04 | SKIPPED | PASS | +--------------------+----------------------+----------------------+ Ubuntu 22.04 (ARM) Kernel: 5.15.0-97-generic Compiler: gcc gcc (Ubuntu 11.4.0-1ubuntu1~22.04) 11.4.0 Ubuntu 22.04 Kernel: 5.15.0-100-generic Compiler: gcc gcc (Ubuntu 11.4.0-1ubuntu1~22.04) 11.4.0 Ubuntu 20.04 Kernel: Depends on container host Compiler: gcc (Ubuntu 9.4.0-1ubuntu1~20.04.2) 9.4.0 To view detailed results, visit: https://lab.dpdk.org/results/dashboard/tarballs/33407/ UNH-IOL DPDK Community Lab To manage your email subscriptions, visit: https://lab.dpdk.org/results/dashboard/preferences/subscriptions/