From mboxrd@z Thu Jan 1 00:00:00 1970 Return-Path: Received: from mails.dpdk.org (mails.dpdk.org [217.70.189.124]) by inbox.dpdk.org (Postfix) with ESMTP id 32EE64669A for ; Fri, 2 May 2025 09:12:03 +0200 (CEST) Received: from mails.dpdk.org (localhost [127.0.0.1]) by mails.dpdk.org (Postfix) with ESMTP id 2A119402A0; Fri, 2 May 2025 09:12:01 +0200 (CEST) Received: from mail-pl1-f226.google.com (mail-pl1-f226.google.com [209.85.214.226]) by mails.dpdk.org (Postfix) with ESMTP id 1D8414029E for ; Fri, 2 May 2025 09:12:00 +0200 (CEST) Received: by mail-pl1-f226.google.com with SMTP id d9443c01a7336-22c33677183so19268595ad.2 for ; Fri, 02 May 2025 00:12:00 -0700 (PDT) DKIM-Signature: v=1; a=rsa-sha256; c=relaxed/relaxed; d=iol.unh.edu; s=unh-iol; t=1746169919; x=1746774719; darn=dpdk.org; h=cc:to:from:subject:message-id:date:from:to:cc:subject:date :message-id:reply-to; bh=rKA8BQKq8Dv795C2FZqGJpeaUVXm3jFqUWoWCaQje/c=; b=FJkFMFn1siwnkWtdH4V6Fm79byNrw6d9b84QI0XrF6Y9OIj0c97jpCHDZNH0nSZYtr gUDGhnvwcZlchXM1JdWtwiZ3aC0JaGmrRihbG0i0HARQ6JvycKQ64FMhY/7RrTIP8jhT beHLUOemVhWAHqW8fVW2UkvY/ratYUDNcri+o= X-Google-DKIM-Signature: v=1; a=rsa-sha256; c=relaxed/relaxed; d=1e100.net; s=20230601; t=1746169919; x=1746774719; h=cc:to:from:subject:message-id:date:x-gm-message-state:from:to:cc :subject:date:message-id:reply-to; bh=rKA8BQKq8Dv795C2FZqGJpeaUVXm3jFqUWoWCaQje/c=; b=bxE1yByRgXd+oN+p+GtQRCpk+/Zomfk/YVVqORfMXmK2wPju57jnH31tKGWuke1S0k TrkuMHzUf8D/sWbY1WhYc6BWfBHTkWPjpdvm546iZm8bIt8jiPxh5vg5y7OOqBKPuYLZ zZAOyKNxpvkVtI17L/aUlGcgSWIpmC3RnR2Hu2jVoAuZ+pwaZDIalQ/bRqtPkFjnVYel LfcOUxk9WiO6N2EnDdwhoFIEPIis7OB5Zq46myTDQ90o9MUxVK8aSR643OnyGmfvMUq4 qRGuOYFiE9mRKFpX2JuP1wbUVJPpk/MBZ3rERgio1GmDV3HbT2SWfrHLKTbBQYqLpwAN Ra1w== X-Gm-Message-State: AOJu0YzcGoDMmcR0aaXSyyKi1DzpTL341tiTTz9ocFAM09BqKd0JCpTE 048BNx+KtLlLXwlheJijS9BB0MyLyZjOkkfZI/MHb9UO2v37SPJ2ZZZGz70QtSfIbkQJPqKXetp tAVTuwFOP31L1L7asS6UWwAQP+ZcslPTj X-Gm-Gg: ASbGncvg+eC8ATPOgkyF+4FqIBlyawnSQs/2xgulBb1WU7jMwBSCjqG0Md1DGs+RkhA mgw7122Ltph4FCFRYthmSjIthlyQSA+a4XP5C6+24qYhkPFRwS6H+yNGFmhKr9Hcggt9Ja5aWS8 XaUOxsorIlTsJcaocbib7lA+PpT4hP0/jiY9MQwrK1Hn4v1A0f1iM5SYrSggIHeLKqUpH6KOkik oJGZU36+iBGXFKyqtR4f26u0mzo9NgRjvDgylDg6H2S2uGWN6P9rhb5hQs0fOK7d/HdhfHmjhGC UxP/WrGmAT49MEUiIfADnbI4nHpJtvt3xDNbXD/S7eL9VqmIu3KuEjQNfhM= X-Google-Smtp-Source: AGHT+IGcYV3ua+FGwNduk59YrdgCpAX2ceBn5XKs1S6j7ykpMpkcseo59R2SeqgLqreyHglV5MDMXHD20AuM X-Received: by 2002:a17:903:18f:b0:220:e1e6:4457 with SMTP id d9443c01a7336-22e1037e986mr24779815ad.26.1746169919247; Fri, 02 May 2025 00:11:59 -0700 (PDT) Received: from postal.iol.unh.edu (postal.iol.unh.edu. [132.177.123.84]) by smtp-relay.gmail.com with ESMTPS id d9443c01a7336-22e1523b860sm117095ad.126.2025.05.02.00.11.59 (version=TLS1_2 cipher=ECDHE-ECDSA-AES128-GCM-SHA256 bits=128/128); Fri, 02 May 2025 00:11:59 -0700 (PDT) X-Relaying-Domain: iol.unh.edu Date: Fri, 02 May 2025 00:11:59 -0700 (PDT) Message-ID: <6814703f.170a0220.b141f.0185SMTPIN_ADDED_MISSING@mx.google.com> Received: from [172.21.0.5] (unknown [172.18.0.240]) by postal.iol.unh.edu (Postfix) with ESMTP id 65A2C6052471; Fri, 2 May 2025 03:11:58 -0400 (EDT) Subject: |SUCCESS| [GIT MASTER] 83a7a648344674c0269fcaeb71d8d16468421a0e From: dpdklab@iol.unh.edu To: Test Report Cc: dpdk-test-reports@iol.unh.edu, Xueming Li , Christian Ehrhardt , Kevin Traynor , Luca Boccassi Content-Type: text/plain X-BeenThere: test-report@dpdk.org X-Mailman-Version: 2.1.29 Precedence: list List-Id: automatic DPDK test reports List-Unsubscribe: , List-Archive: List-Post: List-Help: List-Subscribe: , Errors-To: test-report-bounces@dpdk.org _Testing PASS_ Branch: tags/v23.11 83a7a648344674c0269fcaeb71d8d16468421a0e --> testing pass Upstream job id: Generic-Unit-Test-DPDK#334760 Test environment and result as below: +-----------------------------+------------------------------+---------------------------+--------------+----------------+ | Environment | cryptodev_sw_snow3g_autotest | cryptodev_sw_zuc_autotest | lpm_autotest | dpdk_unit_test | +=============================+==============================+===========================+==============+================+ | Debian 12 (arm) | PASS | PASS | SKIPPED | PASS | +-----------------------------+------------------------------+---------------------------+--------------+----------------+ | Ubuntu 20.04 ARM SVE | SKIPPED | SKIPPED | PASS | SKIPPED | +-----------------------------+------------------------------+---------------------------+--------------+----------------+ | CentOS Stream 10 (ARM) | SKIPPED | SKIPPED | SKIPPED | PASS | +-----------------------------+------------------------------+---------------------------+--------------+----------------+ | CentOS Stream 9 (ARM) | SKIPPED | SKIPPED | SKIPPED | PASS | +-----------------------------+------------------------------+---------------------------+--------------+----------------+ | Fedora 41 (ARM) | SKIPPED | SKIPPED | SKIPPED | PASS | +-----------------------------+------------------------------+---------------------------+--------------+----------------+ | Fedora 40 (ARM) | SKIPPED | SKIPPED | SKIPPED | PASS | +-----------------------------+------------------------------+---------------------------+--------------+----------------+ | Fedora 41 (ARM Clang) | SKIPPED | SKIPPED | SKIPPED | PASS | +-----------------------------+------------------------------+---------------------------+--------------+----------------+ | Fedora 40 (ARM Clang) | SKIPPED | SKIPPED | SKIPPED | PASS | +-----------------------------+------------------------------+---------------------------+--------------+----------------+ | Ubuntu 24.04 (ARM) | SKIPPED | SKIPPED | SKIPPED | PASS | +-----------------------------+------------------------------+---------------------------+--------------+----------------+ | Ubuntu 20.04 (ARM) | SKIPPED | SKIPPED | SKIPPED | PASS | +-----------------------------+------------------------------+---------------------------+--------------+----------------+ | Ubuntu 22.04 (ARM) | SKIPPED | SKIPPED | SKIPPED | PASS | +-----------------------------+------------------------------+---------------------------+--------------+----------------+ | RHEL9 (ARM) | SKIPPED | SKIPPED | SKIPPED | PASS | +-----------------------------+------------------------------+---------------------------+--------------+----------------+ | 32-bit Ubuntu 22.04.4 (ARM) | SKIPPED | SKIPPED | SKIPPED | PASS | +-----------------------------+------------------------------+---------------------------+--------------+----------------+ Debian 12 (arm) Kernel: Depends on container host Compiler: gcc (Debian 12.2.0-14) 12.2.0 Ubuntu 20.04 ARM SVE Kernel: Depends on container host Compiler: gcc (Ubuntu 10.5.0-1ubuntu1~20.04) 10.5.0 CentOS Stream 10 (ARM) Kernel: Depends on container host Compiler: gcc 14.2.1 20241104 (Red Hat 14.2.1-6) CentOS Stream 9 (ARM) Kernel: Depends on container host Compiler: gcc 11.5.0 20240719 (Red Hat 11.5.0-2) Fedora 41 (ARM) Kernel: Depends on container host Compiler: gcc 14.2.1 20240912 (Red Hat 14.2.1-3) Fedora 40 (ARM) Kernel: Depends on container host Compiler: gcc 14.2.1 20240912 (Red Hat 14.2.1-3) Fedora 41 (ARM Clang) Kernel: Depends on container host Compiler: clang 19.1.5 (Fedora 19.1.5-1.fc41) Fedora 40 (ARM Clang) Kernel: Depends on container host Compiler: clang 18.1.8 (Fedora 18.1.8-1.fc40) Ubuntu 24.04 (ARM) Kernel: Depends on container host Compiler: gcc (Ubuntu 13.3.0-6ubuntu2~24.04) 13.3.0 Ubuntu 20.04 (ARM) Kernel: Depends on container host Compiler: gcc (Ubuntu 9.4.0-1ubuntu1~20.04.2) 9.4.0 Ubuntu 22.04 (ARM) Kernel: Depends on container host Compiler: gcc (Ubuntu 11.4.0-1ubuntu1~22.04) 11.4.0 RHEL9 (ARM) Kernel: Depends on container host Compiler: gcc 11.5.0 20240719 (Red Hat 11.5.0-2) 32-bit Ubuntu 22.04.4 (ARM) Kernel: 5.15.83+ aarch64 Compiler: gcc (Ubuntu 11.4.0-1ubuntu1~22.04) 11.4.0 To view detailed results, visit: https://lab.dpdk.org/results/dashboard/tarballs/33408/ UNH-IOL DPDK Community Lab To manage your email subscriptions, visit: https://lab.dpdk.org/results/dashboard/preferences/subscriptions/