From mboxrd@z Thu Jan 1 00:00:00 1970 Return-Path: Received: from mails.dpdk.org (mails.dpdk.org [217.70.189.124]) by inbox.dpdk.org (Postfix) with ESMTP id DD9774669A for ; Fri, 2 May 2025 09:45:52 +0200 (CEST) Received: from mails.dpdk.org (localhost [127.0.0.1]) by mails.dpdk.org (Postfix) with ESMTP id 74656402A0; Fri, 2 May 2025 09:45:48 +0200 (CEST) Received: from mail-pl1-f227.google.com (mail-pl1-f227.google.com [209.85.214.227]) by mails.dpdk.org (Postfix) with ESMTP id 473874029E for ; Fri, 2 May 2025 09:45:47 +0200 (CEST) Received: by mail-pl1-f227.google.com with SMTP id d9443c01a7336-227c7e57da2so16075955ad.0 for ; Fri, 02 May 2025 00:45:47 -0700 (PDT) DKIM-Signature: v=1; a=rsa-sha256; c=relaxed/relaxed; d=iol.unh.edu; s=unh-iol; t=1746171946; x=1746776746; darn=dpdk.org; h=cc:to:from:subject:message-id:date:from:to:cc:subject:date :message-id:reply-to; bh=UMZMsf0yPnNeEU3NhGzYcI4W3gN6umpkXHq6jqKq4I0=; b=bYtfALcRsuVa/1H0u2p6Zf04uwLLgeZjcKk5LWrOXfOCjQfGz1JqgnUHbO3zuCowsO 726E7bLkkWjd7IB7WVrGZqpn2/VorIDTzKmEvCrk37UUUCd2OMg04F5Cpl6dgMsbTfs5 iCB27vwvasOZSM7pyYccwgehMh0IyK8OZH7yY= X-Google-DKIM-Signature: v=1; a=rsa-sha256; c=relaxed/relaxed; d=1e100.net; s=20230601; t=1746171946; x=1746776746; h=cc:to:from:subject:message-id:date:x-gm-message-state:from:to:cc :subject:date:message-id:reply-to; bh=UMZMsf0yPnNeEU3NhGzYcI4W3gN6umpkXHq6jqKq4I0=; b=hH/a/++HhMAUGQ25nV5QqkGh8EBeNKW5noQj8yTqqpYBYX0/2su4AyjFa3+XhSl8vz hrgAYSU6usEE1oWv1MEXJQ9tinUwxMNLtprZpxw6rpaLqXQ1xOzyyYskXqJOtnEVS5WG DKsAPDLbukfQRSy+BbZ5ho3bSFSvlPBSz4AJj1b9yXKtZZxEMZLbtGDQgzjXFh8D2CsA 3XoZvREjuJxoeii9TDWuBqpu4NuA2hibfrQ958hJ9D0L+5Df7f+ORrg+MIme2Z9qSo0q fdVw1vTkrCnzd6QrN9Kv2FAsEdahymEkM/qMrF4pv2nBvQtMiRY6JmWrjrZ4vGXPQ1D0 PUTQ== X-Gm-Message-State: AOJu0YzItLjy3DBlEw5NCr4atuqO1fnnFuwq91ea92JIWZJJMRe+gVu5 FkQZG4+m5DO0EQ/1LrKbYmbeTos4cUXNqe6vJlUQMOP0oWEa+VbjZrBqssoNYqJBtECBmbyDV6I 0Yi4qhK35FDE2HBmJPDiscmbEWqkdBXNn X-Gm-Gg: ASbGncuX8RdfRFGQrY9JmhGIcLP/zjKRhqRNjZdEn1xcj2ksksR8E59GhxaGiNyLiaF gjBQiAVSlUAJB0h0c/2wM863nLp/saM3mQqmK00szQDaUBxVl8X6ON/wUShqiAyfTV9eMoPa+J4 zh0zXZVnC1HQfAF2EspGv1nat/xpJVClj7+C/Xu3Fk3kdqMoUSm7X5XrizaE0Vwhx4fjXp4HTKj 4L/rsM1m9XrRVogiKRl4jvM50+T/bArL647LFWlJiLZmDNYNBs+qjObKGUcj6s79izhw5BlkETP gAJQK22fjycJAFRQQeTEtbbSoy63+YV0KmUPEqeXsqkPC6Lrr/EvsCP79Bg= X-Google-Smtp-Source: AGHT+IEHpTbrevqz+r34rsCR+2oxkK5bhOS8GsmznP0hHgK+Zr4PeUUZX8OvMUBnzs2VX/BNW3Ua+DT0y7+L X-Received: by 2002:a17:903:944:b0:220:fe51:1aab with SMTP id d9443c01a7336-22e10382855mr32984535ad.38.1746171945874; Fri, 02 May 2025 00:45:45 -0700 (PDT) Received: from postal.iol.unh.edu (postal.iol.unh.edu. [132.177.123.84]) by smtp-relay.gmail.com with ESMTPS id d9443c01a7336-22e152334fdsm282275ad.118.2025.05.02.00.45.45 (version=TLS1_2 cipher=ECDHE-ECDSA-AES128-GCM-SHA256 bits=128/128); Fri, 02 May 2025 00:45:45 -0700 (PDT) X-Relaying-Domain: iol.unh.edu Date: Fri, 02 May 2025 00:45:45 -0700 (PDT) Message-ID: <68147829.170a0220.95563.0359SMTPIN_ADDED_MISSING@mx.google.com> Received: from [172.17.0.4] (unknown [172.18.0.74]) by postal.iol.unh.edu (Postfix) with ESMTP id 0D99A6052471; Fri, 2 May 2025 03:45:45 -0400 (EDT) Subject: |SUCCESS| [GIT MASTER] 83a7a648344674c0269fcaeb71d8d16468421a0e From: dpdklab@iol.unh.edu To: Test Report Cc: dpdk-test-reports@iol.unh.edu, Xueming Li , Christian Ehrhardt , Kevin Traynor , Luca Boccassi Content-Type: text/plain X-BeenThere: test-report@dpdk.org X-Mailman-Version: 2.1.29 Precedence: list List-Id: automatic DPDK test reports List-Unsubscribe: , List-Archive: List-Post: List-Help: List-Subscribe: , Errors-To: test-report-bounces@dpdk.org _Testing PASS_ Branch: tags/v23.11 83a7a648344674c0269fcaeb71d8d16468421a0e --> testing pass Upstream job id: Generic-Unit-Test-DPDK#334761 Test environment and result as below: +---------------------+----------------+ | Environment | dpdk_unit_test | +=====================+================+ | Fedora 40 | PASS | +---------------------+----------------+ | Debian 12 | PASS | +---------------------+----------------+ | CentOS Stream 9 | PASS | +---------------------+----------------+ | CentOS Stream 10 | PASS | +---------------------+----------------+ | Fedora 40 (Clang) | PASS | +---------------------+----------------+ | RHEL8 | PASS | +---------------------+----------------+ | Fedora 41 (Clang) | PASS | +---------------------+----------------+ | Fedora 41 | PASS | +---------------------+----------------+ | Ubuntu 24.04 | PASS | +---------------------+----------------+ | RHEL9 | PASS | +---------------------+----------------+ | Ubuntu 22.04 | PASS | +---------------------+----------------+ | Ubuntu 20.04 | PASS | +---------------------+----------------+ | Windows Server 2022 | PASS | +---------------------+----------------+ Fedora 40 Kernel: Depends on container host Compiler: gcc 14.2.1 20240912 (Red Hat 14.2.1-3) Debian 12 Kernel: Depends on container host Compiler: gcc (Debian 12.2.0-14) 12.2.0 CentOS Stream 9 Kernel: Depends on container host Compiler: gcc 11.5.0 20240719 (Red Hat 11.5.0-2) CentOS Stream 10 Kernel: Depends on container host Compiler: gcc 14.2.1 20241104 (Red Hat 14.2.1-6) Fedora 40 (Clang) Kernel: Depends on container host Compiler: clang 18.1.8 (Fedora 18.1.8-1.fc40) RHEL8 Kernel: Depends on container host Compiler: gcc 8.5.0 20210514 (Red Hat 8.5.0-22) Fedora 41 (Clang) Kernel: Depends on container host Compiler: clang 19.1.5 (Fedora 19.1.5-1.fc41) Fedora 41 Kernel: Depends on container host Compiler: gcc 14.2.1 20240912 (Red Hat 14.2.1-3) Ubuntu 24.04 Kernel: Depends on container host Compiler: gcc (Ubuntu 13.3.0-6ubuntu2~24.04) 13.3.0 RHEL9 Kernel: Depends on container host Compiler: gcc 11.5.0 20240719 (Red Hat 11.5.0-2) Ubuntu 22.04 Kernel: Depends on container host Compiler: gcc (Ubuntu 11.4.0-1ubuntu1~22.04) 11.4.0 Ubuntu 20.04 Kernel: Depends on container host Compiler: gcc (Ubuntu 9.4.0-1ubuntu1~20.04.2) 9.4.0 Windows Server 2022 Kernel: 10.0.20348.2031 Compiler: clang 15.0.7, gcc 14.1.0 (MinGW), and MSVC VS 19.39.33521 To view detailed results, visit: https://lab.dpdk.org/results/dashboard/tarballs/33408/ UNH-IOL DPDK Community Lab To manage your email subscriptions, visit: https://lab.dpdk.org/results/dashboard/preferences/subscriptions/