From mboxrd@z Thu Jan 1 00:00:00 1970 Return-Path: Received: from mails.dpdk.org (mails.dpdk.org [217.70.189.124]) by inbox.dpdk.org (Postfix) with ESMTP id B13744669A for ; Fri, 2 May 2025 09:48:34 +0200 (CEST) Received: from mails.dpdk.org (localhost [127.0.0.1]) by mails.dpdk.org (Postfix) with ESMTP id BE077402A0; Fri, 2 May 2025 09:48:32 +0200 (CEST) Received: from mail-yw1-f226.google.com (mail-yw1-f226.google.com [209.85.128.226]) by mails.dpdk.org (Postfix) with ESMTP id 082B24029E for ; Fri, 2 May 2025 09:48:31 +0200 (CEST) Received: by mail-yw1-f226.google.com with SMTP id 00721157ae682-70842dc27easo17384667b3.1 for ; Fri, 02 May 2025 00:48:30 -0700 (PDT) DKIM-Signature: v=1; a=rsa-sha256; c=relaxed/relaxed; d=iol.unh.edu; s=unh-iol; t=1746172110; x=1746776910; darn=dpdk.org; h=cc:to:from:subject:message-id:date:from:to:cc:subject:date :message-id:reply-to; bh=HjS8Phzyu1QY9R/ukzFvAbHLHFrS0WdgEPBppMBpfIg=; b=ToxRdMAuH7UmOSgvgM9yRf4p9oKeb6YiUIj2SSfrMbbdveTf7N19QQb/h39QqLtg3d fgF63+7P2WzCSPd33iCUkCoVSJR5OkFvlKA4IIorK/rawaanQ1hKzgzO9jxTMuzLBiPg FdRx4fJYqzwrFThGA5u1Lhsi6cNKOez6qCbHM= X-Google-DKIM-Signature: v=1; a=rsa-sha256; c=relaxed/relaxed; d=1e100.net; s=20230601; t=1746172110; x=1746776910; h=cc:to:from:subject:message-id:date:x-gm-message-state:from:to:cc :subject:date:message-id:reply-to; bh=HjS8Phzyu1QY9R/ukzFvAbHLHFrS0WdgEPBppMBpfIg=; b=i4lPvhSrBBMU7SPRcTieLpGWUrRgFUnMOnSwRJEY06AMJk9JNOZqBcZEfCTmjNXlv4 wiWvst+7kajgXIC5XEsuZd/rMcVqN9kfmFc75fdDtIfUvQNhwwM5WbeKwBDAt2WkbDnB LFWfuTjg3pToHH4tETLjl8lcaBF0lqCgQ7FRft+Vn7VIHTJw0I8qwZbsoUn6roMVJZxB ZJrqbWDMgLmeE3c7phQfw8hIaf2VsM/Cb4QKgpC3fjcoZ3dnu8zhh356m/P10urn5Da+ HtIm4hNsH2DE9VlQ6aDqr+KMFgbp8IBIRsw9j2Dk6NMO8dpDE3ak1pqMPeIV25wN/scB iW8Q== X-Gm-Message-State: AOJu0YxV/xVDZJ9kNEqLvP/1OuR8p/i9yN3eVhMXYhmettkJB9sJ76+T 6hU5ky6B4QpZ5vjm8invRpi/zx7HznO6HQJbKvrxFNwwgZaHJWrBwwqPPz5uGjeARcRdcrnPlKD aVsFvKB4qC+LEdEGOib3n9pX8RXCmEx42OR7U4u2QsXSA2pqA X-Gm-Gg: ASbGncueSzYkQCqRnwB2Gru3z7fJHyzINJCXF/n1Th05047pbco7pa4Cn/+L2DQ4h9s z7hsm3qtcMR3qIXY6tJgvg1qz1cls81Cteh+6zOEmmPPveeZozcuZpNzGmJthnR5v8XH8aqCl0z 7YGk1pDilQSLP0JZ+zb2hmKI41wCzZpt/CLh+SdKFqhaV/7lNWArKXd0gdqvGrv94YV5pT0SPck l0p0V55VppuVNbVFAZQ5AkQqH7FK3DCPAbC9vD0HObvcqvZ0BZVueBJox8IS0R9OQ1XLqPqNUW9 kJfTQzj4Ape2VSe9RRNNsLi4VDoV5CIW41f2 X-Google-Smtp-Source: AGHT+IHNj+uRPWmT1+o6g1DDiX1Zha39AbyYzwyWSyFbtD/GQV5HbdE7BOsPA/dsk/WiqDtRBm+wgmxI5GaU X-Received: by 2002:a05:690c:4905:b0:6fb:9b8c:4b50 with SMTP id 00721157ae682-708ced4650emr31048807b3.13.1746172110355; Fri, 02 May 2025 00:48:30 -0700 (PDT) Received: from postal.iol.unh.edu (postal.iol.unh.edu. [2606:4100:3880:1234::84]) by smtp-relay.gmail.com with ESMTPS id 00721157ae682-708c412c84csm5126967b3.17.2025.05.02.00.48.30 (version=TLS1_2 cipher=ECDHE-ECDSA-AES128-GCM-SHA256 bits=128/128); Fri, 02 May 2025 00:48:30 -0700 (PDT) X-Relaying-Domain: iol.unh.edu Date: Fri, 02 May 2025 00:48:30 -0700 (PDT) Message-ID: <681478ce.050a0220.195f7c.3b33SMTPIN_ADDED_MISSING@mx.google.com> Received: from [172.17.0.3] (unknown [172.18.0.74]) by postal.iol.unh.edu (Postfix) with ESMTP id 03AFD6052471; Fri, 2 May 2025 03:48:30 -0400 (EDT) Subject: |SUCCESS| [GIT MASTER] 83a7a648344674c0269fcaeb71d8d16468421a0e From: dpdklab@iol.unh.edu To: Test Report Cc: dpdk-test-reports@iol.unh.edu, Xueming Li , Christian Ehrhardt , Kevin Traynor , Luca Boccassi Content-Type: text/plain X-BeenThere: test-report@dpdk.org X-Mailman-Version: 2.1.29 Precedence: list List-Id: automatic DPDK test reports List-Unsubscribe: , List-Archive: List-Post: List-Help: List-Subscribe: , Errors-To: test-report-bounces@dpdk.org _Testing PASS_ Branch: tags/v23.11 83a7a648344674c0269fcaeb71d8d16468421a0e --> testing pass Upstream job id: Generic-DPDK-Compile-Meson#384371 Test environment and result as below: +------------------------------------+--------------------+ | Environment | dpdk_meson_compile | +====================================+====================+ | RHEL9 (ARM) | PASS | +------------------------------------+--------------------+ | Debian 12 with MUSDK | PASS | +------------------------------------+--------------------+ | Ubuntu 20.04 ARM SVE | PASS | +------------------------------------+--------------------+ | Fedora 40 (ARM) | PASS | +------------------------------------+--------------------+ | Ubuntu 20.04 ARM GCC Cross Compile | PASS | +------------------------------------+--------------------+ | CentOS Stream 10 (ARM) | PASS | +------------------------------------+--------------------+ | Fedora 40 (ARM Clang) | PASS | +------------------------------------+--------------------+ | Fedora 41 (ARM) | PASS | +------------------------------------+--------------------+ | Ubuntu 22.04 (ARM) | PASS | +------------------------------------+--------------------+ | Ubuntu 20.04 (ARM) | PASS | +------------------------------------+--------------------+ | Fedora 41 (ARM Clang) | PASS | +------------------------------------+--------------------+ | Debian 12 (arm) | PASS | +------------------------------------+--------------------+ | CentOS Stream 9 (ARM) | PASS | +------------------------------------+--------------------+ | Ubuntu 24.04 (ARM) | PASS | +------------------------------------+--------------------+ RHEL9 (ARM) Kernel: Depends on container host Compiler: gcc 11.5.0 20240719 (Red Hat 11.5.0-2) Debian 12 with MUSDK Kernel: Depends on container host Compiler: gcc (Debian 12.2.0-14) 12.2.0 Ubuntu 20.04 ARM SVE Kernel: Depends on container host Compiler: gcc (Ubuntu 10.5.0-1ubuntu1~20.04) 10.5.0 Fedora 40 (ARM) Kernel: Depends on container host Compiler: gcc 14.2.1 20240912 (Red Hat 14.2.1-3) Ubuntu 20.04 ARM GCC Cross Compile Kernel: Depends on container host Compiler: aarch64-linux-gnu-gcc (Ubuntu 9.4.0-1ubuntu1~20.04.2) 9.4.0 CentOS Stream 10 (ARM) Kernel: Depends on container host Compiler: gcc 14.2.1 20241104 (Red Hat 14.2.1-6) Fedora 40 (ARM Clang) Kernel: Depends on container host Compiler: clang 18.1.8 (Fedora 18.1.8-1.fc40) Fedora 41 (ARM) Kernel: Depends on container host Compiler: gcc 14.2.1 20240912 (Red Hat 14.2.1-3) Ubuntu 22.04 (ARM) Kernel: Depends on container host Compiler: gcc (Ubuntu 11.4.0-1ubuntu1~22.04) 11.4.0 Ubuntu 20.04 (ARM) Kernel: Depends on container host Compiler: gcc (Ubuntu 9.4.0-1ubuntu1~20.04.2) 9.4.0 Fedora 41 (ARM Clang) Kernel: Depends on container host Compiler: clang 19.1.5 (Fedora 19.1.5-1.fc41) Debian 12 (arm) Kernel: Depends on container host Compiler: gcc (Debian 12.2.0-14) 12.2.0 CentOS Stream 9 (ARM) Kernel: Depends on container host Compiler: gcc 11.5.0 20240719 (Red Hat 11.5.0-2) Ubuntu 24.04 (ARM) Kernel: Depends on container host Compiler: gcc (Ubuntu 13.3.0-6ubuntu2~24.04) 13.3.0 To view detailed results, visit: https://lab.dpdk.org/results/dashboard/tarballs/33408/ UNH-IOL DPDK Community Lab To manage your email subscriptions, visit: https://lab.dpdk.org/results/dashboard/preferences/subscriptions/