From mboxrd@z Thu Jan 1 00:00:00 1970 Return-Path: Received: from mails.dpdk.org (mails.dpdk.org [217.70.189.124]) by inbox.dpdk.org (Postfix) with ESMTP id 41F714669A for ; Fri, 2 May 2025 09:51:32 +0200 (CEST) Received: from mails.dpdk.org (localhost [127.0.0.1]) by mails.dpdk.org (Postfix) with ESMTP id 122B0402A0; Fri, 2 May 2025 09:51:32 +0200 (CEST) Received: from mail-qv1-f100.google.com (mail-qv1-f100.google.com [209.85.219.100]) by mails.dpdk.org (Postfix) with ESMTP id 1FCF84029E for ; Fri, 2 May 2025 09:51:30 +0200 (CEST) Received: by mail-qv1-f100.google.com with SMTP id 6a1803df08f44-6e8f254b875so20361796d6.1 for ; Fri, 02 May 2025 00:51:30 -0700 (PDT) DKIM-Signature: v=1; a=rsa-sha256; c=relaxed/relaxed; d=iol.unh.edu; s=unh-iol; t=1746172289; x=1746777089; darn=dpdk.org; h=cc:to:from:subject:message-id:date:from:to:cc:subject:date :message-id:reply-to; bh=ghPaOqNIyh23OkYRyL05dmUzkkXiLlqZsnVtsSwGcEs=; b=hY7LmdM8De/2Ydi48rPdSakOscgFpXvUEcmf7K0IdI7NaxIGHE2c+8WKIrAzYEECOR rwlmkgfuQPX2RVYAIKp3eFXQiAkZul69chgaChmNrWV5sM1XLbxZZqT7fwP1MVpYsgCu XNrRpD2VBd0VqgWrsoWvV2kQrWVU20uqUfoDo= X-Google-DKIM-Signature: v=1; a=rsa-sha256; c=relaxed/relaxed; d=1e100.net; s=20230601; t=1746172289; x=1746777089; h=cc:to:from:subject:message-id:date:x-gm-message-state:from:to:cc :subject:date:message-id:reply-to; bh=ghPaOqNIyh23OkYRyL05dmUzkkXiLlqZsnVtsSwGcEs=; b=YtS9H2YSiC5pnkxcP2OnsMxEOSm6RY6JuOZRofzcej1y5bq4NoLBxwvekQxxWLh5dQ BTt2P5aQHa2+o7pDBuG1a3IRXw7t883dwfxCF/7Ykz3AYsl5QM76lLks6RzL2UqkSduE Uyp33xbawORkWQlljlIFJzbSHxvX8yp26wi+9q/lzk28NQic5VTn+ugOa/z7cBClG3yp yLUdpT+5yjmB/ohnddC1cUsGalELZIvda2y0HrmgR+SYffR5bNc8wYHmTmONYqJu4nxw VYU0PEVBfJCgRaCOEU1RsmQB6dx8YkWhNGMStadUPoB1htdXMpoSqB0+kLmWKJeg1UAq xQVA== X-Gm-Message-State: AOJu0YxQk39pC1gwdX13boFtqFZ8uHn4277529s5aWun6MUxmTgzXlIN Vl/tCvgw59B4FeW1sVimFzUOi6Yo/4Aq5cTdBR/w3vnaN0rclDNaZJd4ZW5A5GuI+xz5M+sbwFN myltJj8etTRwHR0oiUtkcW3OcM1r78GEP X-Gm-Gg: ASbGnctDZswoPQxdePdAmUZX2TTnQpCB3IEoA8TmJihuRISNNkvn48EHvx+Z2EIGCdE Vokn4WJA6WUAR3S0qPLuI18F8wWYVFuYF2+7CaKX/lbNupkg+qamavyzrauweaiqsmZUDjZWdbv tYLpecv/MIDQfsCwb7WHQoKwXr9ULFzz+YFyJABM39YDcbWwMj2EbXwtfpMmncyGYXRv/JsFxev g1Wu68XjR0VcZSTN9UJEyisF+FIb0lnQVF1Q8dVwXEy8p9zqKVgC8klbExG2gICH5xSuaXwAqg0 q4bAHY5MjFo0FlXP8mRR/h9u06A4GR/ONCkrzgFR8h55A5FSVty3xRAyVno= X-Google-Smtp-Source: AGHT+IFbBE418Ig6zE7dmrD+oc84+7oO/7TdNN8a2houYRJ+75s5AShB5u/GyCyjvr9XH7UE18EkLrwNDDkH X-Received: by 2002:ad4:4ea5:0:b0:6ea:d046:bcc9 with SMTP id 6a1803df08f44-6f515634a27mr28939486d6.40.1746172289447; Fri, 02 May 2025 00:51:29 -0700 (PDT) Received: from postal.iol.unh.edu (postal.iol.unh.edu. [132.177.123.84]) by smtp-relay.gmail.com with ESMTPS id 6a1803df08f44-6f50f475bfbsm6084196d6.46.2025.05.02.00.51.29 (version=TLS1_2 cipher=ECDHE-ECDSA-AES128-GCM-SHA256 bits=128/128); Fri, 02 May 2025 00:51:29 -0700 (PDT) X-Relaying-Domain: iol.unh.edu Date: Fri, 02 May 2025 00:51:29 -0700 (PDT) Message-ID: <68147981.050a0220.22b985.52bfSMTPIN_ADDED_MISSING@mx.google.com> Received: from [172.17.0.3] (unknown [172.18.0.74]) by postal.iol.unh.edu (Postfix) with ESMTP id 2696A6052471; Fri, 2 May 2025 03:51:29 -0400 (EDT) Subject: |SUCCESS| [GIT MASTER] 4401486b5e30d43a134f80f9802f60b5f43e74a8 From: dpdklab@iol.unh.edu To: Test Report Cc: dpdk-test-reports@iol.unh.edu, Xueming Li , Christian Ehrhardt , Kevin Traynor , Luca Boccassi Content-Type: text/plain X-BeenThere: test-report@dpdk.org X-Mailman-Version: 2.1.29 Precedence: list List-Id: automatic DPDK test reports List-Unsubscribe: , List-Archive: List-Post: List-Help: List-Subscribe: , Errors-To: test-report-bounces@dpdk.org _Testing PASS_ Branch: tags/v22.11 4401486b5e30d43a134f80f9802f60b5f43e74a8 --> testing pass Upstream job id: Generic-Unit-Test-DPDK#334763 Test environment and result as below: +-----------------------------+--------------+---------------------------+------------------------------+----------------+ | Environment | lpm_autotest | cryptodev_sw_zuc_autotest | cryptodev_sw_snow3g_autotest | dpdk_unit_test | +=============================+==============+===========================+==============================+================+ | Ubuntu 20.04 ARM SVE | PASS | SKIPPED | SKIPPED | SKIPPED | +-----------------------------+--------------+---------------------------+------------------------------+----------------+ | Debian 12 (arm) | SKIPPED | PASS | PASS | SKIPPED | +-----------------------------+--------------+---------------------------+------------------------------+----------------+ | 32-bit Ubuntu 22.04.4 (ARM) | SKIPPED | SKIPPED | SKIPPED | PASS | +-----------------------------+--------------+---------------------------+------------------------------+----------------+ Ubuntu 20.04 ARM SVE Kernel: Depends on container host Compiler: gcc (Ubuntu 10.5.0-1ubuntu1~20.04) 10.5.0 Debian 12 (arm) Kernel: Depends on container host Compiler: gcc (Debian 12.2.0-14) 12.2.0 32-bit Ubuntu 22.04.4 (ARM) Kernel: 5.15.83+ aarch64 Compiler: gcc (Ubuntu 11.4.0-1ubuntu1~22.04) 11.4.0 To view detailed results, visit: https://lab.dpdk.org/results/dashboard/tarballs/33409/ UNH-IOL DPDK Community Lab To manage your email subscriptions, visit: https://lab.dpdk.org/results/dashboard/preferences/subscriptions/