From mboxrd@z Thu Jan 1 00:00:00 1970 Return-Path: Received: from mails.dpdk.org (mails.dpdk.org [217.70.189.124]) by inbox.dpdk.org (Postfix) with ESMTP id 387454669A for ; Fri, 2 May 2025 09:54:47 +0200 (CEST) Received: from mails.dpdk.org (localhost [127.0.0.1]) by mails.dpdk.org (Postfix) with ESMTP id 7A42F402A0; Fri, 2 May 2025 09:54:45 +0200 (CEST) Received: from mail-il1-f226.google.com (mail-il1-f226.google.com [209.85.166.226]) by mails.dpdk.org (Postfix) with ESMTP id D177A4029E for ; Fri, 2 May 2025 09:54:44 +0200 (CEST) Received: by mail-il1-f226.google.com with SMTP id e9e14a558f8ab-3cfce97a3d9so6061455ab.2 for ; Fri, 02 May 2025 00:54:44 -0700 (PDT) DKIM-Signature: v=1; a=rsa-sha256; c=relaxed/relaxed; d=iol.unh.edu; s=unh-iol; t=1746172484; x=1746777284; darn=dpdk.org; h=cc:to:from:subject:message-id:date:from:to:cc:subject:date :message-id:reply-to; bh=lOSc/aQrNtzZFJa9alFQ7uRI/LN8mK9smm2KnUXXJ+E=; b=JWF6oRpY8i7SeAWdM78iTZlA/1O+J7nX4iHUuk9WNN9FLlMmwSYCij0aFOS29l+h3e sbVVgKBYOQ6g7eZ7axnVTbyh6ukN7X8V5Yo5sfT7kePZTRqNHyg6m4WmMFDMBJZpoynV fwSkSu6GfVQWKhCRoScZfOOguJFCfHyfDEM7U= X-Google-DKIM-Signature: v=1; a=rsa-sha256; c=relaxed/relaxed; d=1e100.net; s=20230601; t=1746172484; x=1746777284; h=cc:to:from:subject:message-id:date:x-gm-message-state:from:to:cc :subject:date:message-id:reply-to; bh=lOSc/aQrNtzZFJa9alFQ7uRI/LN8mK9smm2KnUXXJ+E=; b=JJw2pJHqK2GUMjaw+TahF54vdy9VnfRDKO4Gm+8KaldckHwGvfRvT9/Q9gprZxINIs Xa5zA/DDubRblKT2jWNp1QcYawpNP8Jb8uUPiKrJFlcOQo1BD9ydIQN91WybmngXFq/1 uHmXmIzg0IK8hP+VDnN57kkvC3v1eTYeFIPltMNninTN1JxmY9u+7V9BlXWmkZ+1dNIM /9wfRftEUVaOr6w/5cWOjGsUl9RFUKX6v/aUa0XBNHFMu++RZyk7c3Cv4s1AQ4j1icS8 cWIFmv2Q5w1VKsjCK0beLugYjn8PVB5xo89GBS3MQdAoH495AJwtnrGU3cVB8oNEPiKd 6vvw== X-Gm-Message-State: AOJu0Yz5r/lh5N+aGQvN173GxN564wQ2jhF2kguPT/Axleo2RoJ9U+3P iqKbNagjI5Nhv2HUSpK5oJZ2Cr+jDlb4JzEAZfUghNu5/aaXg7C1i9mEf8fWTpKj3BpRA8JKn3S OuIlQGrwyVx8i36fuRAs82i+a60IhH/Cd0AswgWsQnGl8qrxz X-Gm-Gg: ASbGncvcEgeB7cZXkVYJHP2D+Amljad4wZLing3ES0jHX7CTDeF/IR9UOuuM9RFIqtX EDObqssgh0wl8+/kyOHDQOxyb+lj2H51123xD4htSSh5KexYSr+IFotnS7YAqhMV/YsJu3rq67z WCNbUyN05EvSh0vZ3q+1IPFIWbYZb6VcO7REfIEJ2RwpRs7zh2W86++kSZDORaaURIg43oeg7PN 47urlD9OYNf77f/hUHvvqqvmUNme88o7bg9phAPxCOh0fxAedB6V8CGp+fIVx1eOASfEh8O58Wr jzME8axq7b113/8/mFMyuG+BtCaYJ+opJN7a X-Google-Smtp-Source: AGHT+IF/Aj3eoW7OPi3fEsohQvb7Mo82rn0aeagJvAjGQwaPFS45OZ7EqZVZM8pGvOWZDsfEZgdOtKAl1C9a X-Received: by 2002:a92:ca4d:0:b0:3d4:6f9d:c0d0 with SMTP id e9e14a558f8ab-3d97c183ac6mr22059825ab.8.1746172484124; Fri, 02 May 2025 00:54:44 -0700 (PDT) Received: from postal.iol.unh.edu (postal.iol.unh.edu. [2606:4100:3880:1234::84]) by smtp-relay.gmail.com with ESMTPS id 8926c6da1cb9f-4f88aa61e9bsm306062173.51.2025.05.02.00.54.44 (version=TLS1_2 cipher=ECDHE-ECDSA-AES128-GCM-SHA256 bits=128/128); Fri, 02 May 2025 00:54:44 -0700 (PDT) X-Relaying-Domain: iol.unh.edu Date: Fri, 02 May 2025 00:54:44 -0700 (PDT) Message-ID: <68147a44.050a0220.64bd0.2f87SMTPIN_ADDED_MISSING@mx.google.com> Received: from [172.17.0.2] (unknown [172.18.0.74]) by postal.iol.unh.edu (Postfix) with ESMTP id B5C426052471; Fri, 2 May 2025 03:54:43 -0400 (EDT) Subject: |SUCCESS| [GIT MASTER] 4401486b5e30d43a134f80f9802f60b5f43e74a8 From: dpdklab@iol.unh.edu To: Test Report Cc: dpdk-test-reports@iol.unh.edu, Xueming Li , Christian Ehrhardt , Kevin Traynor , Luca Boccassi Content-Type: text/plain X-BeenThere: test-report@dpdk.org X-Mailman-Version: 2.1.29 Precedence: list List-Id: automatic DPDK test reports List-Unsubscribe: , List-Archive: List-Post: List-Help: List-Subscribe: , Errors-To: test-report-bounces@dpdk.org _Testing PASS_ Branch: tags/v22.11 4401486b5e30d43a134f80f9802f60b5f43e74a8 --> testing pass Upstream job id: ACVP-FIPS-testing#9688 Test environment and result as below: +--------------------+----------------------+----------------------+ | Environment | compressdev_zlib_pmd | dpdk_fips_validation | +====================+======================+======================+ | Ubuntu 22.04 (ARM) | PASS | SKIPPED | +--------------------+----------------------+----------------------+ | Ubuntu 22.04 | PASS | SKIPPED | +--------------------+----------------------+----------------------+ | Ubuntu 20.04 | SKIPPED | PASS | +--------------------+----------------------+----------------------+ Ubuntu 22.04 (ARM) Kernel: 5.15.0-97-generic Compiler: gcc gcc (Ubuntu 11.4.0-1ubuntu1~22.04) 11.4.0 Ubuntu 22.04 Kernel: 5.15.0-100-generic Compiler: gcc gcc (Ubuntu 11.4.0-1ubuntu1~22.04) 11.4.0 Ubuntu 20.04 Kernel: Depends on container host Compiler: gcc (Ubuntu 9.4.0-1ubuntu1~20.04.2) 9.4.0 To view detailed results, visit: https://lab.dpdk.org/results/dashboard/tarballs/33409/ UNH-IOL DPDK Community Lab To manage your email subscriptions, visit: https://lab.dpdk.org/results/dashboard/preferences/subscriptions/