From mboxrd@z Thu Jan 1 00:00:00 1970 Return-Path: Received: from mails.dpdk.org (mails.dpdk.org [217.70.189.124]) by inbox.dpdk.org (Postfix) with ESMTP id ED87B4669A for ; Fri, 2 May 2025 09:56:40 +0200 (CEST) Received: from mails.dpdk.org (localhost [127.0.0.1]) by mails.dpdk.org (Postfix) with ESMTP id AB797402A0; Fri, 2 May 2025 09:56:37 +0200 (CEST) Received: from mail-yw1-f227.google.com (mail-yw1-f227.google.com [209.85.128.227]) by mails.dpdk.org (Postfix) with ESMTP id 4F0CE4029E for ; Fri, 2 May 2025 09:56:37 +0200 (CEST) Received: by mail-yw1-f227.google.com with SMTP id 00721157ae682-6ff07872097so16293417b3.3 for ; Fri, 02 May 2025 00:56:37 -0700 (PDT) DKIM-Signature: v=1; a=rsa-sha256; c=relaxed/relaxed; d=iol.unh.edu; s=unh-iol; t=1746172596; x=1746777396; darn=dpdk.org; h=cc:to:from:subject:message-id:date:from:to:cc:subject:date :message-id:reply-to; bh=QbD2Zss1oM+N15H4eXm5PShdEbeVfUUVOL3A+UXPgNU=; b=HCU86ct4fwBiGbYbL4VdiSo/lHKPAXW+ZjVSy4bZvysoy/OZsTkx3etsqXNRNmRNvs DE4svzS5kcmuC2PH6YX6Uf/D+sUoP86V4RmA2M1iC2yW56JHYDDRuqQy0ZJGuvYxlNSb X/Ym8C/dYDDT3gtqP8kfACvyw8jVzJm7JEnEU= X-Google-DKIM-Signature: v=1; a=rsa-sha256; c=relaxed/relaxed; d=1e100.net; s=20230601; t=1746172596; x=1746777396; h=cc:to:from:subject:message-id:date:x-gm-message-state:from:to:cc :subject:date:message-id:reply-to; bh=QbD2Zss1oM+N15H4eXm5PShdEbeVfUUVOL3A+UXPgNU=; b=QwdAq97bB4DRMUUBVLzn9tegqyK3SGmAlHqmdvhwAQ6du4u8UF2YLQjIRqhwinwcVp VMfiubiFMPRsc6BukijerI13B5XSOrBKv7n5CxeMTuSNA2vYAwdgnbL2AA+cg3XgElS3 g2GxhOCK+UfY6i6WF5p+/PAjHxf+GtDkZlKRftuGe0MqmNtqKkAfq1gXlgGPvIIbaG4T PVD2ELZw1InkjNKfYKjwPBIRtqtkUd9ZZH3gg8OTfvGNVaNgZzITc2qaiTrlefr6NZyb czcc+aoXaddb9jrwGt5vNBlnpsaGEpfgU0AmnXJXCnzWIU0+pcw5PygGqzXBW0/t28b1 CkIA== X-Gm-Message-State: AOJu0Yy+9rbrz0qFT8Y2YWSTNWYuiXDBY7RIHTbOmbBpQk2J1pXrP2sc KXh1Ywrtm8s3rnDeunwdWIIop6mSS0D5qkXWC5qtTGZ61IkNdgS3//gL9++Qr9GZ8a8AWM0Sq19 1C7AX1cFWVmSgnRrg6+MUnVYW3pARIyhI X-Gm-Gg: ASbGncuiPdM9dVL+ZRXGwIUOs1zEYkoeR9Y86bSKS6yOJnJj3QxjOT51P3SgCMH/myv FVVY0ZjiRK+BpViKGykKQ66A2NfQJDeZMrydzK6j6CfJiEYBXW/JsJTPpYrC8WDr1SORfGUx6WL n+KJljXju1Vz7nlJvg0pmix30J/EdO30oW746VwJiS4AdxsZDSa8/YI9PSXbCoTRUkqWXa9xxmt ay97hPw6JAv8cGP9hZxbIpCrU/Qep0VTYKwg4f1whG2OjXD6vn30L8bFggruPKS6Tshb5a0XSBm F0JkjFO/CSmZi+6JpPbXAQxyYY5lDqQAkepfnSEiFL9dYj+eysFMEHrPgLM= X-Google-Smtp-Source: AGHT+IGyUlufNe1cDpENvDgKsMeIfhoUKcmcw2yEFcnMzy19m2Y3hZa6ZYApQVxf0L2nCETa4jTc1RXR0aUo X-Received: by 2002:a05:690c:74c9:b0:6e3:37a7:8a98 with SMTP id 00721157ae682-708ced40cf7mr27675057b3.14.1746172596627; Fri, 02 May 2025 00:56:36 -0700 (PDT) Received: from postal.iol.unh.edu (postal.iol.unh.edu. [132.177.123.84]) by smtp-relay.gmail.com with ESMTPS id 00721157ae682-708c46ecfebsm5497377b3.64.2025.05.02.00.56.36 (version=TLS1_2 cipher=ECDHE-ECDSA-AES128-GCM-SHA256 bits=128/128); Fri, 02 May 2025 00:56:36 -0700 (PDT) X-Relaying-Domain: iol.unh.edu Date: Fri, 02 May 2025 00:56:36 -0700 (PDT) Message-ID: <68147ab4.050a0220.21c15d.4dfcSMTPIN_ADDED_MISSING@mx.google.com> Received: from [172.17.0.2] (unknown [172.18.0.74]) by postal.iol.unh.edu (Postfix) with ESMTP id 40C606052471; Fri, 2 May 2025 03:56:36 -0400 (EDT) Subject: |SUCCESS| [GIT MASTER] 83a7a648344674c0269fcaeb71d8d16468421a0e From: dpdklab@iol.unh.edu To: Test Report Cc: dpdk-test-reports@iol.unh.edu, Xueming Li , Christian Ehrhardt , Kevin Traynor , Luca Boccassi Content-Type: text/plain X-BeenThere: test-report@dpdk.org X-Mailman-Version: 2.1.29 Precedence: list List-Id: automatic DPDK test reports List-Unsubscribe: , List-Archive: List-Post: List-Help: List-Subscribe: , Errors-To: test-report-bounces@dpdk.org _Testing PASS_ Branch: tags/v23.11 83a7a648344674c0269fcaeb71d8d16468421a0e --> testing pass Upstream job id: Generic-DPDK-Compile-Meson#384369 Test environment and result as below: +---------------------+--------------------+-------------------+------------------+-------------------+-------------------------+----------------------+ | Environment | dpdk_meson_compile | dpdk_compile_spdk | dpdk_compile_ovs | dpdk_msvc_compile | dpdk_llvm_clang_compile | dpdk_mingw64_compile | +=====================+====================+===================+==================+===================+=========================+======================+ | Fedora 40 (Clang) | PASS | PASS | SKIPPED | SKIPPED | SKIPPED | SKIPPED | +---------------------+--------------------+-------------------+------------------+-------------------+-------------------------+----------------------+ | Fedora 40 | PASS | PASS | SKIPPED | SKIPPED | SKIPPED | SKIPPED | +---------------------+--------------------+-------------------+------------------+-------------------+-------------------------+----------------------+ | Fedora 41 (Clang) | PASS | PASS | PASS | SKIPPED | SKIPPED | SKIPPED | +---------------------+--------------------+-------------------+------------------+-------------------+-------------------------+----------------------+ | CentOS Stream 9 | PASS | PASS | SKIPPED | SKIPPED | SKIPPED | SKIPPED | +---------------------+--------------------+-------------------+------------------+-------------------+-------------------------+----------------------+ | CentOS Stream 10 | PASS | SKIPPED | SKIPPED | SKIPPED | SKIPPED | SKIPPED | +---------------------+--------------------+-------------------+------------------+-------------------+-------------------------+----------------------+ | Debian 12 | PASS | PASS | SKIPPED | SKIPPED | SKIPPED | SKIPPED | +---------------------+--------------------+-------------------+------------------+-------------------+-------------------------+----------------------+ | Fedora 41 | PASS | PASS | PASS | SKIPPED | SKIPPED | SKIPPED | +---------------------+--------------------+-------------------+------------------+-------------------+-------------------------+----------------------+ | Ubuntu 24.04 | PASS | PASS | PASS | SKIPPED | SKIPPED | SKIPPED | +---------------------+--------------------+-------------------+------------------+-------------------+-------------------------+----------------------+ | RHEL8 | PASS | SKIPPED | SKIPPED | SKIPPED | SKIPPED | SKIPPED | +---------------------+--------------------+-------------------+------------------+-------------------+-------------------------+----------------------+ | Ubuntu 20.04 | PASS | SKIPPED | SKIPPED | SKIPPED | SKIPPED | SKIPPED | +---------------------+--------------------+-------------------+------------------+-------------------+-------------------------+----------------------+ | openSUSE Leap 15 | PASS | SKIPPED | SKIPPED | SKIPPED | SKIPPED | SKIPPED | +---------------------+--------------------+-------------------+------------------+-------------------+-------------------------+----------------------+ | RHEL9 | PASS | SKIPPED | SKIPPED | SKIPPED | SKIPPED | SKIPPED | +---------------------+--------------------+-------------------+------------------+-------------------+-------------------------+----------------------+ | Ubuntu 22.04 | PASS | PASS | SKIPPED | SKIPPED | SKIPPED | SKIPPED | +---------------------+--------------------+-------------------+------------------+-------------------+-------------------------+----------------------+ | FreeBSD 13.5 | PASS | SKIPPED | SKIPPED | SKIPPED | SKIPPED | SKIPPED | +---------------------+--------------------+-------------------+------------------+-------------------+-------------------------+----------------------+ | Alpine | PASS | SKIPPED | SKIPPED | SKIPPED | SKIPPED | SKIPPED | +---------------------+--------------------+-------------------+------------------+-------------------+-------------------------+----------------------+ | FreeBSD 14.2 | PASS | SKIPPED | SKIPPED | SKIPPED | SKIPPED | SKIPPED | +---------------------+--------------------+-------------------+------------------+-------------------+-------------------------+----------------------+ | Windows Server 2022 | SKIPPED | SKIPPED | SKIPPED | PASS | PASS | PASS | +---------------------+--------------------+-------------------+------------------+-------------------+-------------------------+----------------------+ Fedora 40 (Clang) Kernel: Depends on container host Compiler: clang 18.1.8 (Fedora 18.1.8-1.fc40) Fedora 40 Kernel: Depends on container host Compiler: gcc 14.2.1 20240912 (Red Hat 14.2.1-3) Fedora 41 (Clang) Kernel: Depends on container host Compiler: clang 19.1.5 (Fedora 19.1.5-1.fc41) CentOS Stream 9 Kernel: Depends on container host Compiler: gcc 11.5.0 20240719 (Red Hat 11.5.0-2) CentOS Stream 10 Kernel: Depends on container host Compiler: gcc 14.2.1 20241104 (Red Hat 14.2.1-6) Debian 12 Kernel: Depends on container host Compiler: gcc (Debian 12.2.0-14) 12.2.0 Fedora 41 Kernel: Depends on container host Compiler: gcc 14.2.1 20240912 (Red Hat 14.2.1-3) Ubuntu 24.04 Kernel: Depends on container host Compiler: gcc (Ubuntu 13.3.0-6ubuntu2~24.04) 13.3.0 RHEL8 Kernel: Depends on container host Compiler: gcc 8.5.0 20210514 (Red Hat 8.5.0-22) Ubuntu 20.04 Kernel: Depends on container host Compiler: gcc (Ubuntu 9.4.0-1ubuntu1~20.04.2) 9.4.0 openSUSE Leap 15 Kernel: Depends on container host Compiler: gcc (SUSE Linux) 7.5.0 RHEL9 Kernel: Depends on container host Compiler: gcc 11.5.0 20240719 (Red Hat 11.5.0-2) Ubuntu 22.04 Kernel: Depends on container host Compiler: gcc (Ubuntu 11.4.0-1ubuntu1~22.04) 11.4.0 FreeBSD 13.5 Kernel: 13.5-RELEASE Compiler: clang 19.1.7 Alpine Kernel: Depends on container host Compiler: gcc (Alpine 14.2.0) 14.2.0 FreeBSD 14.2 Kernel: 14.2-RELEASE Compiler: clang 18.1.6 Windows Server 2022 Kernel: 10.0.20348.2031 Compiler: clang 15.0.7, gcc 14.1.0 (MinGW), and MSVC VS 19.39.33521 To view detailed results, visit: https://lab.dpdk.org/results/dashboard/tarballs/33408/ UNH-IOL DPDK Community Lab To manage your email subscriptions, visit: https://lab.dpdk.org/results/dashboard/preferences/subscriptions/