From mboxrd@z Thu Jan 1 00:00:00 1970 Return-Path: Received: from mails.dpdk.org (mails.dpdk.org [217.70.189.124]) by inbox.dpdk.org (Postfix) with ESMTP id 266474669C for ; Fri, 2 May 2025 10:22:43 +0200 (CEST) Received: from mails.dpdk.org (localhost [127.0.0.1]) by mails.dpdk.org (Postfix) with ESMTP id BBDB4402A0; Fri, 2 May 2025 10:22:39 +0200 (CEST) Received: from mail-qv1-f97.google.com (mail-qv1-f97.google.com [209.85.219.97]) by mails.dpdk.org (Postfix) with ESMTP id 5C7394029E for ; Fri, 2 May 2025 10:22:38 +0200 (CEST) Received: by mail-qv1-f97.google.com with SMTP id 6a1803df08f44-6e8efefec89so18511756d6.3 for ; Fri, 02 May 2025 01:22:38 -0700 (PDT) DKIM-Signature: v=1; a=rsa-sha256; c=relaxed/relaxed; d=iol.unh.edu; s=unh-iol; t=1746174157; x=1746778957; darn=dpdk.org; h=cc:to:from:subject:message-id:date:from:to:cc:subject:date :message-id:reply-to; bh=Kfg7tbJjbjX3PaHxF0yHm/mFYLlIEpnJ1O9qM+Ycb7M=; b=gFHDqVcBQ9VjVPLGMSeP9m32H7t9DGiqoA+UapOGhWvpqKo4zkueww+3wsrYEoQOGO Z7CxY/cm4aWz+yLdUk3aVcHQShVIFdb4SK5ge8l788DwTADvUNV9F/2TBMVvVDoI5BQ9 nu9eNppKn7/Ir7E1A4paY3iWUr1tfCb/ync9U= X-Google-DKIM-Signature: v=1; a=rsa-sha256; c=relaxed/relaxed; d=1e100.net; s=20230601; t=1746174157; x=1746778957; h=cc:to:from:subject:message-id:date:x-gm-message-state:from:to:cc :subject:date:message-id:reply-to; bh=Kfg7tbJjbjX3PaHxF0yHm/mFYLlIEpnJ1O9qM+Ycb7M=; b=jKAJwKAt4GaqTFqlzTVSjtwXiFqMtOeDHFJl8Kgd4WmC3Sw1+d9kT3JXDTa3LDK1bV M4Ecn2EqbkAo4tCmenOgVfqOgx7E9c7iOj4oK3ZrdP4qluMSFW9b8t/ut/McGYl0FEFg Oy30tzKx+Cuy5JW7q111zBt6Tr2XDp7l8xEJ/YbB8Rp8pkPYi2kMqmR3OivkGrhVz0Mi UNDFuEvKHFRi01NBrUEc4u6VqjU68MEY+W0IOcdxJFvS7+QVL77VedwC1tzRPI5/tEdT t2oeVlxNMgCoyoV+boRG7s954097zCH9Zp6bx6xcXYGSUMMR7drJQvey73RXwp4SzfVX /QmA== X-Gm-Message-State: AOJu0Yy6IQFvL1w4598KvU16KIddC7VydY7CfIGGcosKHrTQLHlKTrdY GgkIRVKJk8yqxVYcSPPDt+j5H/LY7tiSD0uBRyVuee/sm7kOdF6u4uLEZGeplvNCHEcUDmzLQvE msoYlBSv/kzqhme2FWzz2fYnh0DlYswo+ X-Gm-Gg: ASbGnctIbV4kSGji9QrUSy2WgXLLfBlSdv7PynByQqmrbttOi5/RJH8ie3mKF42Z85P 1o/qtQkgsUD/7bU0Bv8St88lXTXjbBwsgY4zqaM9HuCLoAbqUoO+5cBr/jl9MXLVgMXO5giPYx0 uPumeAU5XqUi5ae8DOtNl4qpRubAXzSImBVQZdCImTtWhmzspL3GB//eoLSUPACCP7NcJxMIjxa N8beqJMLeVsSi4YFNrpmDK7+sZ7Cm46MRGW8ToiZKNkxDhN8Wqm8SOpuTM70hves1nXr9+xk+GS uudXj6b+JBUWVjdp5+c30au1Y9MIW6pzNbA/+OFyDVyQvJnWspJF44bbxms= X-Google-Smtp-Source: AGHT+IHR7M7RNHYegkYBqZbWBLDerI37oopkQrXDCZpYCfTt2X0waDICeM7mEM+YTYnmDOw48ljm+JZ4Kdt0 X-Received: by 2002:a05:6214:4110:b0:6e1:f40c:b558 with SMTP id 6a1803df08f44-6f51580dc06mr31102556d6.44.1746174157601; Fri, 02 May 2025 01:22:37 -0700 (PDT) Received: from postal.iol.unh.edu (postal.iol.unh.edu. [132.177.123.84]) by smtp-relay.gmail.com with ESMTPS id 6a1803df08f44-6f50f48cdb1sm6020776d6.57.2025.05.02.01.22.37 (version=TLS1_2 cipher=ECDHE-ECDSA-AES128-GCM-SHA256 bits=128/128); Fri, 02 May 2025 01:22:37 -0700 (PDT) X-Relaying-Domain: iol.unh.edu Date: Fri, 02 May 2025 01:22:37 -0700 (PDT) Message-ID: <681480cd.050a0220.2c1210.6039SMTPIN_ADDED_MISSING@mx.google.com> Received: from [172.17.0.2] (unknown [172.18.0.74]) by postal.iol.unh.edu (Postfix) with ESMTP id 4D1C76052471; Fri, 2 May 2025 04:22:37 -0400 (EDT) Subject: |SUCCESS| [GIT MASTER] 4401486b5e30d43a134f80f9802f60b5f43e74a8 From: dpdklab@iol.unh.edu To: Test Report Cc: dpdk-test-reports@iol.unh.edu, Xueming Li , Christian Ehrhardt , Kevin Traynor , Luca Boccassi Content-Type: text/plain X-BeenThere: test-report@dpdk.org X-Mailman-Version: 2.1.29 Precedence: list List-Id: automatic DPDK test reports List-Unsubscribe: , List-Archive: List-Post: List-Help: List-Subscribe: , Errors-To: test-report-bounces@dpdk.org _Testing PASS_ Branch: tags/v22.11 4401486b5e30d43a134f80f9802f60b5f43e74a8 --> testing pass Upstream job id: Generic-DPDK-Compile-Meson#384396 Test environment and result as below: +------------------------------------+--------------------+ | Environment | dpdk_meson_compile | +====================================+====================+ | RHEL9 (ARM) | PASS | +------------------------------------+--------------------+ | Debian 12 with MUSDK | PASS | +------------------------------------+--------------------+ | Ubuntu 20.04 ARM GCC Cross Compile | PASS | +------------------------------------+--------------------+ | Ubuntu 20.04 ARM SVE | PASS | +------------------------------------+--------------------+ | Ubuntu 20.04 (ARM) | PASS | +------------------------------------+--------------------+ | Fedora 40 (ARM) | PASS | +------------------------------------+--------------------+ | Fedora 41 (ARM Clang) | PASS | +------------------------------------+--------------------+ | Fedora 40 (ARM Clang) | PASS | +------------------------------------+--------------------+ | Fedora 41 (ARM) | PASS | +------------------------------------+--------------------+ | Ubuntu 22.04 (ARM) | PASS | +------------------------------------+--------------------+ | Ubuntu 24.04 (ARM) | PASS | +------------------------------------+--------------------+ | CentOS Stream 10 (ARM) | PASS | +------------------------------------+--------------------+ | Debian 12 (arm) | PASS | +------------------------------------+--------------------+ | CentOS Stream 9 (ARM) | PASS | +------------------------------------+--------------------+ RHEL9 (ARM) Kernel: Depends on container host Compiler: gcc 11.5.0 20240719 (Red Hat 11.5.0-2) Debian 12 with MUSDK Kernel: Depends on container host Compiler: gcc (Debian 12.2.0-14) 12.2.0 Ubuntu 20.04 ARM GCC Cross Compile Kernel: Depends on container host Compiler: aarch64-linux-gnu-gcc (Ubuntu 9.4.0-1ubuntu1~20.04.2) 9.4.0 Ubuntu 20.04 ARM SVE Kernel: Depends on container host Compiler: gcc (Ubuntu 10.5.0-1ubuntu1~20.04) 10.5.0 Ubuntu 20.04 (ARM) Kernel: Depends on container host Compiler: gcc (Ubuntu 9.4.0-1ubuntu1~20.04.2) 9.4.0 Fedora 40 (ARM) Kernel: Depends on container host Compiler: gcc 14.2.1 20240912 (Red Hat 14.2.1-3) Fedora 41 (ARM Clang) Kernel: Depends on container host Compiler: clang 19.1.5 (Fedora 19.1.5-1.fc41) Fedora 40 (ARM Clang) Kernel: Depends on container host Compiler: clang 18.1.8 (Fedora 18.1.8-1.fc40) Fedora 41 (ARM) Kernel: Depends on container host Compiler: gcc 14.2.1 20240912 (Red Hat 14.2.1-3) Ubuntu 22.04 (ARM) Kernel: Depends on container host Compiler: gcc (Ubuntu 11.4.0-1ubuntu1~22.04) 11.4.0 Ubuntu 24.04 (ARM) Kernel: Depends on container host Compiler: gcc (Ubuntu 13.3.0-6ubuntu2~24.04) 13.3.0 CentOS Stream 10 (ARM) Kernel: Depends on container host Compiler: gcc 14.2.1 20241104 (Red Hat 14.2.1-6) Debian 12 (arm) Kernel: Depends on container host Compiler: gcc (Debian 12.2.0-14) 12.2.0 CentOS Stream 9 (ARM) Kernel: Depends on container host Compiler: gcc 11.5.0 20240719 (Red Hat 11.5.0-2) To view detailed results, visit: https://lab.dpdk.org/results/dashboard/tarballs/33409/ UNH-IOL DPDK Community Lab To manage your email subscriptions, visit: https://lab.dpdk.org/results/dashboard/preferences/subscriptions/