From mboxrd@z Thu Jan 1 00:00:00 1970 Return-Path: Received: from mails.dpdk.org (mails.dpdk.org [217.70.189.124]) by inbox.dpdk.org (Postfix) with ESMTP id C10AE4669C for ; Fri, 2 May 2025 10:32:48 +0200 (CEST) Received: from mails.dpdk.org (localhost [127.0.0.1]) by mails.dpdk.org (Postfix) with ESMTP id 929A2402A0; Fri, 2 May 2025 10:32:48 +0200 (CEST) Received: from mail-io1-f98.google.com (mail-io1-f98.google.com [209.85.166.98]) by mails.dpdk.org (Postfix) with ESMTP id 2F81D4029E for ; Fri, 2 May 2025 10:32:47 +0200 (CEST) Received: by mail-io1-f98.google.com with SMTP id ca18e2360f4ac-86135d11760so157923139f.2 for ; Fri, 02 May 2025 01:32:47 -0700 (PDT) DKIM-Signature: v=1; a=rsa-sha256; c=relaxed/relaxed; d=iol.unh.edu; s=unh-iol; t=1746174766; x=1746779566; darn=dpdk.org; h=cc:to:from:subject:message-id:date:from:to:cc:subject:date :message-id:reply-to; bh=6RRy2nTsH0fuzFP8sD6yFE0KSt0V9zIvtT6DcuDjczo=; b=C5IZREYaewurgH7anK6pd7+43OTfHGYzy7zGW5vk5pjT6HqVdK8hMs/k9MQTyvUYVb 9UuhopNF8l656OeGAJi7yrxbfT5/+buREqlcQNZwoz/DWXZK71FGvAjdoAQfDMIfyAHo Noyi7ijngVrW7R5lH4thkTvjwJuJpB5f2RuDg= X-Google-DKIM-Signature: v=1; a=rsa-sha256; c=relaxed/relaxed; d=1e100.net; s=20230601; t=1746174766; x=1746779566; h=cc:to:from:subject:message-id:date:x-gm-message-state:from:to:cc :subject:date:message-id:reply-to; bh=6RRy2nTsH0fuzFP8sD6yFE0KSt0V9zIvtT6DcuDjczo=; b=OvcfFHLP7zIuT0w6Mt332YLOvm5cdNFIf8xwwetQA6Jd1a6juumrPkmb7yltlRJMmv rE+54BniaU6JUebVrtx2PacpEY/SXOQTL0XRZubb85ARfI4MCtFBH2QScNSxWHIK/+kR 5CAH5ONf80QVc1Sacn72kbjRUueAi8pOnrYUpOAHEu9qoGCqJQ+z1GO5HvFgEV0tc4wn OR0WaFTJPZwiEI8RjCFbf5NGekSa7dTTRDTZ7QhQ6xHhJgChVjfIPscMpcwdVqs0XNQT HS/rvIJMPa47McKVdSK/rnfBOmHDJhF2yYn0EXCWJlS/RT3V8PXzwDAsGex1iq75wmAk n6kw== X-Gm-Message-State: AOJu0Yxj1+l+sAPUjiBMpanymvorcRkzzp3R9ueHc1plwc2k+8U2bSci 4RGYvLD/wGbvtBn/2QFnHx1ZYDmaB9DZpBDjR+UjzDmLqY7IRcznNlY1XU2PaiPO0PpGP7jyZdz z/3buikLtETwPiWCiEaziYlan62gWFT84 X-Gm-Gg: ASbGnct3f5DZfKqLXR20PlRLW6ECpiDTSCtyivnSfXA/gtFEBugXyl8qhKP//bC7kms mYmnY001MSLrItQNVb71esvdxjqNG6zyuyj2E3A4ur2YUlkGZJAAna6iZBgDshGvSZXeWNZ8lNU 3QR/MV9Vh5A9gzHZzk+4s5NBxT7Q6VWrg/On500q4g488m6VUN5PSxp/Q88gWSrC9+ts1XuArcp mirwwYhhAeNFvIr4DzjrQ/8amIDB8UDTn9wB6uRTh5qENG/WYFZNxYb1mjBtnY5hU1PN9EshOc9 V2j5zMbmJdzdOHcjXCScvml9zWsQGxCcDbMBV/3lDJTr07aZlEojuHASBkA= X-Google-Smtp-Source: AGHT+IEvzUQ/8UCt3Fab5VsEpzXpVVBc3LihuaZ8DFFfN+xyJiZi97/q5Cy7GIUj09MkHH6uVM3D/wwmEK7j X-Received: by 2002:a05:6e02:2168:b0:3d4:e6:d872 with SMTP id e9e14a558f8ab-3d97c1998ddmr20013845ab.9.1746174766373; Fri, 02 May 2025 01:32:46 -0700 (PDT) Received: from postal.iol.unh.edu (postal.iol.unh.edu. [132.177.123.84]) by smtp-relay.gmail.com with ESMTPS id e9e14a558f8ab-3d97607263bsm5966245ab.65.2025.05.02.01.32.46 (version=TLS1_2 cipher=ECDHE-ECDSA-AES128-GCM-SHA256 bits=128/128); Fri, 02 May 2025 01:32:46 -0700 (PDT) X-Relaying-Domain: iol.unh.edu Date: Fri, 02 May 2025 01:32:46 -0700 (PDT) Message-ID: <6814832e.050a0220.20af23.55e1SMTPIN_ADDED_MISSING@mx.google.com> Received: from [172.17.0.2] (unknown [172.18.0.74]) by postal.iol.unh.edu (Postfix) with ESMTP id DAFC86052471; Fri, 2 May 2025 04:32:45 -0400 (EDT) Subject: |SUCCESS| [GIT MASTER] 83a7a648344674c0269fcaeb71d8d16468421a0e From: dpdklab@iol.unh.edu To: Test Report Cc: dpdk-test-reports@iol.unh.edu, Xueming Li , Christian Ehrhardt , Kevin Traynor , Luca Boccassi Content-Type: text/plain X-BeenThere: test-report@dpdk.org X-Mailman-Version: 2.1.29 Precedence: list List-Id: automatic DPDK test reports List-Unsubscribe: , List-Archive: List-Post: List-Help: List-Subscribe: , Errors-To: test-report-bounces@dpdk.org _Testing PASS_ Branch: tags/v23.11 83a7a648344674c0269fcaeb71d8d16468421a0e --> testing pass Upstream job id: ACVP-FIPS-testing#9689 Test environment and result as below: +--------------------+----------------------+----------------------+ | Environment | compressdev_zlib_pmd | dpdk_fips_validation | +====================+======================+======================+ | Ubuntu 22.04 (ARM) | PASS | SKIPPED | +--------------------+----------------------+----------------------+ | Ubuntu 22.04 | PASS | SKIPPED | +--------------------+----------------------+----------------------+ | Ubuntu 20.04 | SKIPPED | PASS | +--------------------+----------------------+----------------------+ Ubuntu 22.04 (ARM) Kernel: 5.15.0-97-generic Compiler: gcc gcc (Ubuntu 11.4.0-1ubuntu1~22.04) 11.4.0 Ubuntu 22.04 Kernel: 5.15.0-100-generic Compiler: gcc gcc (Ubuntu 11.4.0-1ubuntu1~22.04) 11.4.0 Ubuntu 20.04 Kernel: Depends on container host Compiler: gcc (Ubuntu 9.4.0-1ubuntu1~20.04.2) 9.4.0 To view detailed results, visit: https://lab.dpdk.org/results/dashboard/tarballs/33408/ UNH-IOL DPDK Community Lab To manage your email subscriptions, visit: https://lab.dpdk.org/results/dashboard/preferences/subscriptions/