From mboxrd@z Thu Jan 1 00:00:00 1970 Return-Path: Received: from mails.dpdk.org (mails.dpdk.org [217.70.189.124]) by inbox.dpdk.org (Postfix) with ESMTP id 09CB046661 for ; Fri, 2 May 2025 13:57:01 +0200 (CEST) Received: from mails.dpdk.org (localhost [127.0.0.1]) by mails.dpdk.org (Postfix) with ESMTP id CD7CF402A0; Fri, 2 May 2025 13:57:01 +0200 (CEST) Received: from mail-io1-f100.google.com (mail-io1-f100.google.com [209.85.166.100]) by mails.dpdk.org (Postfix) with ESMTP id 43AC64029E for ; Fri, 2 May 2025 13:57:00 +0200 (CEST) Received: by mail-io1-f100.google.com with SMTP id ca18e2360f4ac-85e73562577so211156539f.0 for ; Fri, 02 May 2025 04:57:00 -0700 (PDT) DKIM-Signature: v=1; a=rsa-sha256; c=relaxed/relaxed; d=iol.unh.edu; s=unh-iol; t=1746187019; x=1746791819; darn=dpdk.org; h=references:in-reply-to:cc:to:from:subject:message-id:date:from:to :cc:subject:date:message-id:reply-to; bh=utVJMy1lVtvJ7euWBZ2nNoT1YCvJiZoYjhmXRUMrrfs=; b=CVigFp7NkiI3Llv18Za/5XFQRdjF1Qn/U04A1rXb/fnMvIS5HpsX4dOOhf9K0Rghp/ ntwGZvTHILNQqJdXVQ+P9yiDfru+CqyaXCtESMIeftrOgFrfaHllXEZp5bO5d60+t0xb fC8JtOMQNe9XjRmNm7CZ2G84WuMqhfcbHhUGE= X-Google-DKIM-Signature: v=1; a=rsa-sha256; c=relaxed/relaxed; d=1e100.net; s=20230601; t=1746187019; x=1746791819; h=references:in-reply-to:cc:to:from:subject:message-id:date :x-gm-message-state:from:to:cc:subject:date:message-id:reply-to; bh=utVJMy1lVtvJ7euWBZ2nNoT1YCvJiZoYjhmXRUMrrfs=; b=UGI9z6Sw+7FglsP0+XQZkY8g72tOrRph6EpT70e7y6eWU3IqyjenVB2cBMTO5S46GY 627w9m++uw15Jk9CawNS7khUx6nFf0K5bATQufkasJykPsUKuujBfbrtAT/POdtSJXHt nbZL/3pmBghdA+go5IDzY54nyrDXRPB53aqwSs2VbjRyWjEfkepnC0nt2WxCHkfovpjO pd/QVLTegjCMc4D2X6A7e9URYreJUr86rABmOdBYqEdMcqHwGwEV4yD/+XZIYmUh/B+n OMV5l1ZcxyMKDLsi+HKkk7KMVThK0zqEQhaaiY0QgoAN39b1voT8O8KUCFqj9yFtYWwa C33w== X-Gm-Message-State: AOJu0YzXUk2jiJ5291W5CD1qYd68lMQOMTB2o5x+qdE9Uc/ibYpWb3Gl su4CGHLgnCbahrGhtqTguICcDiLr54NkNSfaPXKbEoxxF1A7v3U77e6FHPjP0N7AZpLWZ6LUL4F vBHGiIYIK+dTxZWC9tRpXpueU8Zjmu68XIa836ppu X-Gm-Gg: ASbGncunYyqLdSmKJGBu8GxrTZs0SB4VWRgNoW8inkvDhLNoyKO3659jxaahjYwofLH lBLII8hOPfFJHIR98LUvRL7Ttnny347zQFTFvpkF5/2T//meC5ZHkcoacpxLp5Y+JmE4dluZCWU x5MxG/7RhutPdww3dIQva0mM6Rybg9WA+FZCtkhUqYCwTI97vZSBBdkiPblczv7x9fyK7vQrxxq t/G8eZ2YFh1KA49d1eS1LYVcoy3ghnHwx6UpQ4lu5oCbMW6q/r4iOXwGTaOfqdZSVQsreSeTOB6 2X6GWp1K7mAJhWeLys/QWPWRF7pqjIlRXBB7jQkP7V/trJ6nWcEztRHRhfk= X-Google-Smtp-Source: AGHT+IG02o86mN7Bqi/XRI6Dt3xrSqbVG3x1oQSFLi5lzCkqNXQJG4dkFWaefuEAU8Ec9bxh1BW78ZRZ3n72 X-Received: by 2002:a05:6602:3718:b0:864:677e:ddae with SMTP id ca18e2360f4ac-8669f9ac967mr391519739f.6.1746187019518; Fri, 02 May 2025 04:56:59 -0700 (PDT) Received: from postal.iol.unh.edu (postal.iol.unh.edu. [132.177.123.84]) by smtp-relay.gmail.com with ESMTPS id 8926c6da1cb9f-4f88a914125sm350977173.19.2025.05.02.04.56.59 (version=TLS1_2 cipher=ECDHE-ECDSA-AES128-GCM-SHA256 bits=128/128); Fri, 02 May 2025 04:56:59 -0700 (PDT) X-Relaying-Domain: iol.unh.edu Date: Fri, 02 May 2025 04:56:59 -0700 (PDT) Message-ID: <6814b30b.050a0220.5f8e9.3a0fSMTPIN_ADDED_MISSING@mx.google.com> Received: from [172.21.0.5] (unknown [172.18.0.240]) by postal.iol.unh.edu (Postfix) with ESMTP id EBCDB6052471; Fri, 2 May 2025 07:56:58 -0400 (EDT) Subject: |SUCCESS| pw153222 [PATCH] [v1] app/test-crypto-perf: remove decrypt From: dpdklab@iol.unh.edu To: Test Report Cc: dpdk-test-reports@iol.unh.edu In-Reply-To: <20250502101226.1405274-1-kai.ji@intel.com> References: <20250502101226.1405274-1-kai.ji@intel.com> Content-Type: text/plain X-BeenThere: test-report@dpdk.org X-Mailman-Version: 2.1.29 Precedence: list List-Id: automatic DPDK test reports List-Unsubscribe: , List-Archive: List-Post: List-Help: List-Subscribe: , Errors-To: test-report-bounces@dpdk.org Test-Label: iol-unit-arm64-testing Test-Status: SUCCESS http://dpdk.org/patch/153222 _Testing PASS_ Submitter: Kai Ji Date: Friday, May 02 2025 10:12:26 DPDK git baseline: Repo:dpdk Branch: master CommitID:ca1690ebd224f148268285b15b97441ccdbdd07e 153222 --> testing pass Upstream job id: Generic-Unit-Test-DPDK#334778 Test environment and result as below: +-----------------------------+----------------+--------------+---------------------------+------------------------------+ | Environment | dpdk_unit_test | lpm_autotest | cryptodev_sw_zuc_autotest | cryptodev_sw_snow3g_autotest | +=============================+================+==============+===========================+==============================+ | CentOS Stream 9 (ARM) | PASS | SKIPPED | SKIPPED | SKIPPED | +-----------------------------+----------------+--------------+---------------------------+------------------------------+ | Debian 12 (arm) | PASS | SKIPPED | PASS | PASS | +-----------------------------+----------------+--------------+---------------------------+------------------------------+ | CentOS Stream 10 (ARM) | PASS | SKIPPED | SKIPPED | SKIPPED | +-----------------------------+----------------+--------------+---------------------------+------------------------------+ | Fedora 40 (ARM Clang) | PASS | SKIPPED | SKIPPED | SKIPPED | +-----------------------------+----------------+--------------+---------------------------+------------------------------+ | Fedora 40 (ARM) | PASS | SKIPPED | SKIPPED | SKIPPED | +-----------------------------+----------------+--------------+---------------------------+------------------------------+ | Fedora 41 (ARM) | PASS | SKIPPED | SKIPPED | SKIPPED | +-----------------------------+----------------+--------------+---------------------------+------------------------------+ | Fedora 41 (ARM Clang) | PASS | SKIPPED | SKIPPED | SKIPPED | +-----------------------------+----------------+--------------+---------------------------+------------------------------+ | Ubuntu 20.04 (ARM) | PASS | SKIPPED | SKIPPED | SKIPPED | +-----------------------------+----------------+--------------+---------------------------+------------------------------+ | RHEL9 (ARM) | PASS | SKIPPED | SKIPPED | SKIPPED | +-----------------------------+----------------+--------------+---------------------------+------------------------------+ | Ubuntu 22.04 (ARM) | PASS | SKIPPED | SKIPPED | SKIPPED | +-----------------------------+----------------+--------------+---------------------------+------------------------------+ | Ubuntu 24.04 (ARM) | PASS | SKIPPED | SKIPPED | SKIPPED | +-----------------------------+----------------+--------------+---------------------------+------------------------------+ | 32-bit Ubuntu 22.04.4 (ARM) | PASS | SKIPPED | SKIPPED | SKIPPED | +-----------------------------+----------------+--------------+---------------------------+------------------------------+ | Ubuntu 20.04 ARM SVE | SKIPPED | PASS | SKIPPED | SKIPPED | +-----------------------------+----------------+--------------+---------------------------+------------------------------+ CentOS Stream 9 (ARM) Kernel: Depends on container host Compiler: gcc 11.5.0 20240719 (Red Hat 11.5.0-2) Debian 12 (arm) Kernel: Depends on container host Compiler: gcc (Debian 12.2.0-14) 12.2.0 CentOS Stream 10 (ARM) Kernel: Depends on container host Compiler: gcc 14.2.1 20241104 (Red Hat 14.2.1-6) Fedora 40 (ARM Clang) Kernel: Depends on container host Compiler: clang 18.1.8 (Fedora 18.1.8-1.fc40) Fedora 40 (ARM) Kernel: Depends on container host Compiler: gcc 14.2.1 20240912 (Red Hat 14.2.1-3) Fedora 41 (ARM) Kernel: Depends on container host Compiler: gcc 14.2.1 20240912 (Red Hat 14.2.1-3) Fedora 41 (ARM Clang) Kernel: Depends on container host Compiler: clang 19.1.5 (Fedora 19.1.5-1.fc41) Ubuntu 20.04 (ARM) Kernel: Depends on container host Compiler: gcc (Ubuntu 9.4.0-1ubuntu1~20.04.2) 9.4.0 RHEL9 (ARM) Kernel: Depends on container host Compiler: gcc 11.5.0 20240719 (Red Hat 11.5.0-2) Ubuntu 22.04 (ARM) Kernel: Depends on container host Compiler: gcc (Ubuntu 11.4.0-1ubuntu1~22.04) 11.4.0 Ubuntu 24.04 (ARM) Kernel: Depends on container host Compiler: gcc (Ubuntu 13.3.0-6ubuntu2~24.04) 13.3.0 32-bit Ubuntu 22.04.4 (ARM) Kernel: 5.15.83+ aarch64 Compiler: gcc (Ubuntu 11.4.0-1ubuntu1~22.04) 11.4.0 Ubuntu 20.04 ARM SVE Kernel: Depends on container host Compiler: gcc (Ubuntu 10.5.0-1ubuntu1~20.04) 10.5.0 To view detailed results, visit: https://lab.dpdk.org/results/dashboard/patchsets/33095/ UNH-IOL DPDK Community Lab To manage your email subscriptions, visit: https://lab.dpdk.org/results/dashboard/preferences/subscriptions/