From mboxrd@z Thu Jan 1 00:00:00 1970 Return-Path: Received: from mails.dpdk.org (mails.dpdk.org [217.70.189.124]) by inbox.dpdk.org (Postfix) with ESMTP id E6AFB46661 for ; Fri, 2 May 2025 13:57:08 +0200 (CEST) Received: from mails.dpdk.org (localhost [127.0.0.1]) by mails.dpdk.org (Postfix) with ESMTP id DB984402A0; Fri, 2 May 2025 13:57:08 +0200 (CEST) Received: from mail-yb1-f228.google.com (mail-yb1-f228.google.com [209.85.219.228]) by mails.dpdk.org (Postfix) with ESMTP id 4531A4029E for ; Fri, 2 May 2025 13:57:07 +0200 (CEST) Received: by mail-yb1-f228.google.com with SMTP id 3f1490d57ef6-e743bffc234so1556092276.3 for ; Fri, 02 May 2025 04:57:07 -0700 (PDT) DKIM-Signature: v=1; a=rsa-sha256; c=relaxed/relaxed; d=iol.unh.edu; s=unh-iol; t=1746187026; x=1746791826; darn=dpdk.org; h=references:in-reply-to:cc:to:from:subject:message-id:date:from:to :cc:subject:date:message-id:reply-to; bh=ahgilCXjYWzzQ/eumBdLz7uM38jna/Bw0hrwYzxu0Nw=; b=CLUPw4WqFs7Er3tkUkK7xlxQ0qNo2IZEKjtvTT20eizC2WBrQj4xZN845G9QbsrEAl NC+YmVljn/I1X9NQvzoS/3vhaH2R/il0+02uB3aCOYAcfHON/KvB6auanD6PjJ8nTHoU EciWjOTk/rSePvj7UdoOzp1ER4AQ4huiDyU34= X-Google-DKIM-Signature: v=1; a=rsa-sha256; c=relaxed/relaxed; d=1e100.net; s=20230601; t=1746187026; x=1746791826; h=references:in-reply-to:cc:to:from:subject:message-id:date :x-gm-message-state:from:to:cc:subject:date:message-id:reply-to; bh=ahgilCXjYWzzQ/eumBdLz7uM38jna/Bw0hrwYzxu0Nw=; b=JWpBSYDVA847ComCIjF+ttponlPsjpKaiHbBQK9zZvAGsGe6d2V+vvWT4rO1D2+Y0J GF6jVAPxsdDgdYY5AAaq4nA4XGw994KK84CH/9p1mcggdIbOnGcds4J1ooEnmFOZoD0u dF9MJ3Ds50ikwzTABOqBTflHB6KJMz9UKTvTO/oZmTDzUvn0U1eSxLs3jPrST+zEWT5a tK7xcQeDcH1rzEPVcJwx6/6pQZ+KgRE1NxA2AkSjbp8NdKGkNy4W+wiLYTzjFSxJiK+X Td034N08H7bfuuIwZi8XS4HmViCyPMkeaD5BbFuiNwloiVRtsj2LQo/qI0mNa/Rgw9SX O6Tg== X-Gm-Message-State: AOJu0YwxwaUlD6ibPHwyftSufHCLhEJNxvgSvrsJHXMkVBqf/fj5121O qqrc0elhNYn3UNdnFg9ULVf6J+7m7EyJu2P2BjnUMDiHuz0+JVwEWS3W+lJRkq3rhRIKrp0hd6X ksbgSEGHDVKozpP08Un2Aby7DpsOGUuC3BR9WfAqK X-Gm-Gg: ASbGncutILRCuP1L7ow4UA/J9y4KwDWFaL+IV3IsUn8Qc+ExrjaCkvx2glr0saTY9GI 1nvybIH/HFTqogPwNHvzN+NT0PcaoMZTf3PSrZHfHd2PYg7TxEJ69BTC4tAXG+Ry1qTS0Vgkgc+ UtU/IKpgN2ol/hLyQw34/Eg9rXKV9JYY+O/+btB68MJBsldsw/IfO+HjTVQbnT5hC9PIr7uhnEw irWdanRKjrAc+taZNqbECeT910GJ2R39mSuJg+jq9dD+HBtGejMBNnpuRtu4EqXHhR6IEPwlQzB WyQS8+0kJjYR3ARuDUvd7zL9xixUgZEeRrPbKV+J4JVnmfF8FW1XL/ERXXM= X-Google-Smtp-Source: AGHT+IERtjAJoXYMr6yXonJzLOE78n1GsQHJAA3WNpS7U87FLjPTiWu0WTR/8PaDOJ+ZtDSvPSABKOdppPgI X-Received: by 2002:a05:6902:150a:b0:e72:887e:c75a with SMTP id 3f1490d57ef6-e756553f50amr3302488276.5.1746187026580; Fri, 02 May 2025 04:57:06 -0700 (PDT) Received: from postal.iol.unh.edu (postal.iol.unh.edu. [132.177.123.84]) by smtp-relay.gmail.com with ESMTPS id 3f1490d57ef6-e755e79df7csm458938276.19.2025.05.02.04.57.06 (version=TLS1_2 cipher=ECDHE-ECDSA-AES128-GCM-SHA256 bits=128/128); Fri, 02 May 2025 04:57:06 -0700 (PDT) X-Relaying-Domain: iol.unh.edu Date: Fri, 02 May 2025 04:57:06 -0700 (PDT) Message-ID: <6814b312.050a0220.2d554e.2f54SMTPIN_ADDED_MISSING@mx.google.com> Received: from [172.21.0.6] (unknown [172.18.0.240]) by postal.iol.unh.edu (Postfix) with ESMTP id 386226052471; Fri, 2 May 2025 07:57:06 -0400 (EDT) Subject: |SUCCESS| pw153222 [PATCH] [v1] app/test-crypto-perf: remove decrypt From: dpdklab@iol.unh.edu To: Test Report Cc: dpdk-test-reports@iol.unh.edu In-Reply-To: <20250502101226.1405274-1-kai.ji@intel.com> References: <20250502101226.1405274-1-kai.ji@intel.com> Content-Type: text/plain X-BeenThere: test-report@dpdk.org X-Mailman-Version: 2.1.29 Precedence: list List-Id: automatic DPDK test reports List-Unsubscribe: , List-Archive: List-Post: List-Help: List-Subscribe: , Errors-To: test-report-bounces@dpdk.org Test-Label: iol-unit-arm64-testing Test-Status: SUCCESS http://dpdk.org/patch/153222 _Testing PASS_ Submitter: Kai Ji Date: Friday, May 02 2025 10:12:26 DPDK git baseline: Repo:dpdk Branch: master CommitID:ca1690ebd224f148268285b15b97441ccdbdd07e 153222 --> testing pass Upstream job id: Generic-Unit-Test-DPDK#334791 Test environment and result as below: +-----------------------------+----------------+--------------+---------------------------+------------------------------+ | Environment | dpdk_unit_test | lpm_autotest | cryptodev_sw_zuc_autotest | cryptodev_sw_snow3g_autotest | +=============================+================+==============+===========================+==============================+ | CentOS Stream 9 (ARM) | PASS | SKIPPED | SKIPPED | SKIPPED | +-----------------------------+----------------+--------------+---------------------------+------------------------------+ | Debian 12 (arm) | PASS | SKIPPED | PASS | PASS | +-----------------------------+----------------+--------------+---------------------------+------------------------------+ | CentOS Stream 10 (ARM) | PASS | SKIPPED | SKIPPED | SKIPPED | +-----------------------------+----------------+--------------+---------------------------+------------------------------+ | Fedora 40 (ARM Clang) | PASS | SKIPPED | SKIPPED | SKIPPED | +-----------------------------+----------------+--------------+---------------------------+------------------------------+ | Fedora 40 (ARM) | PASS | SKIPPED | SKIPPED | SKIPPED | +-----------------------------+----------------+--------------+---------------------------+------------------------------+ | Fedora 41 (ARM) | PASS | SKIPPED | SKIPPED | SKIPPED | +-----------------------------+----------------+--------------+---------------------------+------------------------------+ | Fedora 41 (ARM Clang) | PASS | SKIPPED | SKIPPED | SKIPPED | +-----------------------------+----------------+--------------+---------------------------+------------------------------+ | Ubuntu 20.04 (ARM) | PASS | SKIPPED | SKIPPED | SKIPPED | +-----------------------------+----------------+--------------+---------------------------+------------------------------+ | RHEL9 (ARM) | PASS | SKIPPED | SKIPPED | SKIPPED | +-----------------------------+----------------+--------------+---------------------------+------------------------------+ | Ubuntu 22.04 (ARM) | PASS | SKIPPED | SKIPPED | SKIPPED | +-----------------------------+----------------+--------------+---------------------------+------------------------------+ | Ubuntu 24.04 (ARM) | PASS | SKIPPED | SKIPPED | SKIPPED | +-----------------------------+----------------+--------------+---------------------------+------------------------------+ | 32-bit Ubuntu 22.04.4 (ARM) | PASS | SKIPPED | SKIPPED | SKIPPED | +-----------------------------+----------------+--------------+---------------------------+------------------------------+ | Ubuntu 20.04 ARM SVE | SKIPPED | PASS | SKIPPED | SKIPPED | +-----------------------------+----------------+--------------+---------------------------+------------------------------+ CentOS Stream 9 (ARM) Kernel: Depends on container host Compiler: gcc 11.5.0 20240719 (Red Hat 11.5.0-2) Debian 12 (arm) Kernel: Depends on container host Compiler: gcc (Debian 12.2.0-14) 12.2.0 CentOS Stream 10 (ARM) Kernel: Depends on container host Compiler: gcc 14.2.1 20241104 (Red Hat 14.2.1-6) Fedora 40 (ARM Clang) Kernel: Depends on container host Compiler: clang 18.1.8 (Fedora 18.1.8-1.fc40) Fedora 40 (ARM) Kernel: Depends on container host Compiler: gcc 14.2.1 20240912 (Red Hat 14.2.1-3) Fedora 41 (ARM) Kernel: Depends on container host Compiler: gcc 14.2.1 20240912 (Red Hat 14.2.1-3) Fedora 41 (ARM Clang) Kernel: Depends on container host Compiler: clang 19.1.5 (Fedora 19.1.5-1.fc41) Ubuntu 20.04 (ARM) Kernel: Depends on container host Compiler: gcc (Ubuntu 9.4.0-1ubuntu1~20.04.2) 9.4.0 RHEL9 (ARM) Kernel: Depends on container host Compiler: gcc 11.5.0 20240719 (Red Hat 11.5.0-2) Ubuntu 22.04 (ARM) Kernel: Depends on container host Compiler: gcc (Ubuntu 11.4.0-1ubuntu1~22.04) 11.4.0 Ubuntu 24.04 (ARM) Kernel: Depends on container host Compiler: gcc (Ubuntu 13.3.0-6ubuntu2~24.04) 13.3.0 32-bit Ubuntu 22.04.4 (ARM) Kernel: 5.15.83+ aarch64 Compiler: gcc (Ubuntu 11.4.0-1ubuntu1~22.04) 11.4.0 Ubuntu 20.04 ARM SVE Kernel: Depends on container host Compiler: gcc (Ubuntu 10.5.0-1ubuntu1~20.04) 10.5.0 To view detailed results, visit: https://lab.dpdk.org/results/dashboard/patchsets/33095/ UNH-IOL DPDK Community Lab To manage your email subscriptions, visit: https://lab.dpdk.org/results/dashboard/preferences/subscriptions/