From mboxrd@z Thu Jan 1 00:00:00 1970 Return-Path: Received: from mails.dpdk.org (mails.dpdk.org [217.70.189.124]) by inbox.dpdk.org (Postfix) with ESMTP id 466DD4669E for ; Fri, 2 May 2025 14:10:16 +0200 (CEST) Received: from mails.dpdk.org (localhost [127.0.0.1]) by mails.dpdk.org (Postfix) with ESMTP id 1D668402A0; Fri, 2 May 2025 14:10:16 +0200 (CEST) Received: from mail-qv1-f100.google.com (mail-qv1-f100.google.com [209.85.219.100]) by mails.dpdk.org (Postfix) with ESMTP id 35FBA4029E for ; Fri, 2 May 2025 14:10:15 +0200 (CEST) Received: by mail-qv1-f100.google.com with SMTP id 6a1803df08f44-6ecfbf8fa76so28003766d6.0 for ; Fri, 02 May 2025 05:10:15 -0700 (PDT) DKIM-Signature: v=1; a=rsa-sha256; c=relaxed/relaxed; d=iol.unh.edu; s=unh-iol; t=1746187814; x=1746792614; darn=dpdk.org; h=references:in-reply-to:cc:to:from:subject:message-id:date:from:to :cc:subject:date:message-id:reply-to; bh=NnOsMvIz54vEa9x2cUyX5R+2QhAlYHRvYRI9rRjskcU=; b=NWOY9IkYkS7JKRU7YBA6tJXjIIIyBGqA8LulUo6Xh/A5NGG5/tYr3ezZ4cM2F14fTS s46hjTAfvluoAw4Ca5gcIhv11TSZcwX1Lxco14/os3+MpdUEJW4SPHGNKeCO+FGvpstO tE1iHHZi/Xpq+r0cV4PhgugfZa6DCtYLL+sek= X-Google-DKIM-Signature: v=1; a=rsa-sha256; c=relaxed/relaxed; d=1e100.net; s=20230601; t=1746187814; x=1746792614; h=references:in-reply-to:cc:to:from:subject:message-id:date :x-gm-message-state:from:to:cc:subject:date:message-id:reply-to; bh=NnOsMvIz54vEa9x2cUyX5R+2QhAlYHRvYRI9rRjskcU=; b=Anpgw/tr/RryQIH9dffZYgBRvQohh+uY8edAdP0U3r6+J/bB/zWIDeCHK2Tyi6rkSu 8hiSVDDYdR0tcwFFCDC/+TQDA3MQmSgdZ3duLCizzHx9fPss1sEC/FQlXaUqCJoRbX6f 3voACpKa3ccdnOwpeSUiqKDXXViIQX4dp4zrwpOA728n0Rvs2VcJH2CZrI+8mXS++ryL gmH65A7Iiu22NertFRnVcB+cqo8xwmrRXXpR2DujgQMUJdpU9jlt9A+t8DQD6UH026LZ htgdvfT4HBHzsYPVgI+u+CVoP/AiA4nVKekIDkQFWKG9MaTNPQlIZL3LbU5ix34DO9gY wPGA== X-Gm-Message-State: AOJu0YwUnfVBjUPtonR/croR/XJl9pB+CK8OWKYXvRp+qTfK4cWxogZh PRQSUidp8hzkvP1aWQNXxIQkHfaelZi+TnLUcOjOJdza/Qorcpk01s7WS8G7OFAWUod7mC7+jWN IHMYNvvf1OJdM/ohbISeOku9PKc46TbJ3vjKaABIql4K8cryML+vj+5kT X-Gm-Gg: ASbGnctgUP+vTzTLRWVdz7Z2gIleoA8HBPqVCevSNJC0xLVbyNxspcfvdR91B9Smh9y leTJH4Y/FXKEPxwstvPT5j0W3Lbfe75O/wXKvp60thG8wAbkHOWzdbwmbTC6vaSogM5scAmpT71 ksZHMJqNadq8LYdRqmP87N+2/kKzYnxLoqgHlHN07/5nzPqaOvbmhVP6bAx76so9Pirhl5HNmfq Nh0cl26G2io3hWxYvKhFHXnWJAGSqkr68RhhjbFiiex+icTt5xLA/vvK0XMu0sTi95dYZQMSw0d FGogBU286vLXudziuog8EFhakrTznXT5cR5O X-Google-Smtp-Source: AGHT+IGwKvRA3zzF7Hcbj3m+y2Shl1cdGPvmBnp4QCqtMnfDaYSGaTt1cc/PRD51Ab0oEfPkB+SD90AlSS/y X-Received: by 2002:a05:6214:1bcb:b0:6eb:28e4:8519 with SMTP id 6a1803df08f44-6f51538d979mr40725436d6.21.1746187814315; Fri, 02 May 2025 05:10:14 -0700 (PDT) Received: from postal.iol.unh.edu (postal.iol.unh.edu. [2606:4100:3880:1234::84]) by smtp-relay.gmail.com with ESMTPS id 6a1803df08f44-6f50f3be761sm6553546d6.16.2025.05.02.05.10.14 (version=TLS1_2 cipher=ECDHE-ECDSA-AES128-GCM-SHA256 bits=128/128); Fri, 02 May 2025 05:10:14 -0700 (PDT) X-Relaying-Domain: iol.unh.edu Date: Fri, 02 May 2025 05:10:14 -0700 (PDT) Message-ID: <6814b626.050a0220.1b4c94.63c9SMTPIN_ADDED_MISSING@mx.google.com> Received: from [172.17.0.3] (unknown [172.18.0.74]) by postal.iol.unh.edu (Postfix) with ESMTP id 004EF6052471; Fri, 2 May 2025 08:10:13 -0400 (EDT) Subject: |SUCCESS| pw153222 [PATCH] [v1] app/test-crypto-perf: remove decrypt From: dpdklab@iol.unh.edu To: Test Report Cc: dpdk-test-reports@iol.unh.edu In-Reply-To: <20250502101226.1405274-1-kai.ji@intel.com> References: <20250502101226.1405274-1-kai.ji@intel.com> Content-Type: text/plain X-BeenThere: test-report@dpdk.org X-Mailman-Version: 2.1.29 Precedence: list List-Id: automatic DPDK test reports List-Unsubscribe: , List-Archive: List-Post: List-Help: List-Subscribe: , Errors-To: test-report-bounces@dpdk.org Test-Label: iol-sample-apps-testing Test-Status: SUCCESS http://dpdk.org/patch/153222 _Testing PASS_ Submitter: Kai Ji Date: Friday, May 02 2025 10:12:26 DPDK git baseline: Repo:dpdk Branch: master CommitID:ca1690ebd224f148268285b15b97441ccdbdd07e 153222 --> testing pass Upstream job id: ACVP-FIPS-testing#9690 Test environment and result as below: +--------------------+----------------------+----------------------+ | Environment | dpdk_fips_validation | compressdev_zlib_pmd | +====================+======================+======================+ | Ubuntu 20.04 | PASS | SKIPPED | +--------------------+----------------------+----------------------+ | Ubuntu 22.04 (ARM) | SKIPPED | PASS | +--------------------+----------------------+----------------------+ | Ubuntu 22.04 | SKIPPED | PASS | +--------------------+----------------------+----------------------+ Ubuntu 20.04 Kernel: Depends on container host Compiler: gcc (Ubuntu 9.4.0-1ubuntu1~20.04.2) 9.4.0 Ubuntu 22.04 (ARM) Kernel: 5.15.0-97-generic Compiler: gcc gcc (Ubuntu 11.4.0-1ubuntu1~22.04) 11.4.0 Ubuntu 22.04 Kernel: 5.15.0-100-generic Compiler: gcc gcc (Ubuntu 11.4.0-1ubuntu1~22.04) 11.4.0 To view detailed results, visit: https://lab.dpdk.org/results/dashboard/patchsets/33095/ UNH-IOL DPDK Community Lab To manage your email subscriptions, visit: https://lab.dpdk.org/results/dashboard/preferences/subscriptions/