From mboxrd@z Thu Jan 1 00:00:00 1970 Return-Path: Received: from mails.dpdk.org (mails.dpdk.org [217.70.189.124]) by inbox.dpdk.org (Postfix) with ESMTP id 5CDD04669E for ; Fri, 2 May 2025 14:53:29 +0200 (CEST) Received: from mails.dpdk.org (localhost [127.0.0.1]) by mails.dpdk.org (Postfix) with ESMTP id 39F0C402A0; Fri, 2 May 2025 14:53:29 +0200 (CEST) Received: from mail-il1-f228.google.com (mail-il1-f228.google.com [209.85.166.228]) by mails.dpdk.org (Postfix) with ESMTP id 4A4F94029E for ; Fri, 2 May 2025 14:53:28 +0200 (CEST) Received: by mail-il1-f228.google.com with SMTP id e9e14a558f8ab-3d96d16b375so10953325ab.1 for ; Fri, 02 May 2025 05:53:28 -0700 (PDT) DKIM-Signature: v=1; a=rsa-sha256; c=relaxed/relaxed; d=iol.unh.edu; s=unh-iol; t=1746190407; x=1746795207; darn=dpdk.org; h=references:in-reply-to:cc:to:from:subject:message-id:date:from:to :cc:subject:date:message-id:reply-to; bh=c242Yvosm4byKnwAWFQdAbETcOO5vFyHxT3C7gcAbMs=; b=bPtBtdOECFqEGT7eG/gt8mOE54XcQ9I5J6LcbLGJ56RayaAoBY39qZO9yIhc4FG6+q 3lM3qGvkvDxFznqo+OS5q1MZCIgbzdjRYz2df3JDEZV4zy+Uh7KVf9KPH09n7G57JnCF U6mBcY3H/sWKlnE+NYN8jwlJpbgY28jcYKGOc= X-Google-DKIM-Signature: v=1; a=rsa-sha256; c=relaxed/relaxed; d=1e100.net; s=20230601; t=1746190407; x=1746795207; h=references:in-reply-to:cc:to:from:subject:message-id:date :x-gm-message-state:from:to:cc:subject:date:message-id:reply-to; bh=c242Yvosm4byKnwAWFQdAbETcOO5vFyHxT3C7gcAbMs=; b=GIzEAQVkR2Ut4p7pwdZ4kuiVXddjdxx6CvxgDVKvCoCG31mnO3BV26Yh4YEtNMTK4O v0cED4po1YpsuJVzSS2X+pdzR56TX0FYX//mLQUHrTi5Y+NcgKb90fQ3WZ7uRT2DLq+g EmgLASGSYIw0arSlw+xbqYHJmsxaiRI6GvHBcCMrgopYusGwp03EFmFztiefPApcoaew mFjbQSVKFzRpAVKo8F74XzlDOoSV1Z12NtxkveZAfqbRUjk7EXNZDB92sSParzd+mZQ5 5/vl1hXQYrzok+mOflmHSpdJRg4E4qbOHBUpvB1OfXF0BtVYWonqPTbU/Gt87a59mUdD L7iA== X-Gm-Message-State: AOJu0Ywh2tPZ4qBHCVwFb8L6F9cjdTOFO+dS//sIJqiLzkaggl1+Tick zShSVt3KxGY/2ZKcU3PYj2BxadDLzDHGatx1XY0SlZTSJjkwqAGffcCK2pRLa4kN2KumY9fXUh1 YLaGg74F+JUjXfAdd9NCYNV+OxWIxapj2w5DjKkuD X-Gm-Gg: ASbGncvNE1JjeRfitISSOhnSWivU92XldwILgYuMtfXVU4OTamvflZpxPML96augZfR wbbYC4T9AmnBsDCBkf0WyUeFPYi5cMukAZJaemf2dIm/vGrIMWKR6Vz4bSKpHMzWc8hd5+XgGHJ xS00/B9BxjdTPhWWznOXcHSFxlDq4KyfxGxelGSLzBmWBt39scfFe0mEYmZByY1hEsja+B7CtR/ bELLpVhFITxqBe1O3DqhqkCFeTpgx/nP+MyCXUcHD0/O/Rc3GC92F5YzDs1+Qh3U2xxHXEQPu8C mlckS8/lOV5OIdA+Q8om54K9UeHQGQE5+J3MHDQsrQOQ+A0/sJefJaKDnkY= X-Google-Smtp-Source: AGHT+IGJZF8CgWOevjiCtMDg0wxtuSWMxuJlcObhl/L4KQtSo08YICFb0GmIC+WsdMQ2hLP4aa6zd5BHckGV X-Received: by 2002:a05:6e02:1fef:b0:3d9:64e7:959f with SMTP id e9e14a558f8ab-3d97c2607demr30736395ab.21.1746190407287; Fri, 02 May 2025 05:53:27 -0700 (PDT) Received: from postal.iol.unh.edu (postal.iol.unh.edu. [132.177.123.84]) by smtp-relay.gmail.com with ESMTPS id 8926c6da1cb9f-4f88a8cd8ccsm358414173.5.2025.05.02.05.53.27 (version=TLS1_2 cipher=ECDHE-ECDSA-AES128-GCM-SHA256 bits=128/128); Fri, 02 May 2025 05:53:27 -0700 (PDT) X-Relaying-Domain: iol.unh.edu Date: Fri, 02 May 2025 05:53:27 -0700 (PDT) Message-ID: <6814c047.050a0220.3a278f.3dfbSMTPIN_ADDED_MISSING@mx.google.com> Received: from [172.21.0.6] (unknown [172.18.0.240]) by postal.iol.unh.edu (Postfix) with ESMTP id 87F146052471; Fri, 2 May 2025 08:53:26 -0400 (EDT) Subject: |SUCCESS| pw153222 [PATCH] [v1] app/test-crypto-perf: remove decrypt From: dpdklab@iol.unh.edu To: Test Report Cc: dpdk-test-reports@iol.unh.edu In-Reply-To: <20250502101226.1405274-1-kai.ji@intel.com> References: <20250502101226.1405274-1-kai.ji@intel.com> Content-Type: text/plain X-BeenThere: test-report@dpdk.org X-Mailman-Version: 2.1.29 Precedence: list List-Id: automatic DPDK test reports List-Unsubscribe: , List-Archive: List-Post: List-Help: List-Subscribe: , Errors-To: test-report-bounces@dpdk.org Test-Label: iol-unit-amd64-testing Test-Status: SUCCESS http://dpdk.org/patch/153222 _Testing PASS_ Submitter: Kai Ji Date: Friday, May 02 2025 10:12:26 DPDK git baseline: Repo:dpdk Branch: master CommitID:ca1690ebd224f148268285b15b97441ccdbdd07e 153222 --> testing pass Upstream job id: Generic-Unit-Test-DPDK#334772 Test environment and result as below: +---------------------+----------------+ | Environment | dpdk_unit_test | +=====================+================+ | CentOS Stream 9 | PASS | +---------------------+----------------+ | Fedora 40 | PASS | +---------------------+----------------+ | Debian 12 | PASS | +---------------------+----------------+ | Fedora 40 (Clang) | PASS | +---------------------+----------------+ | CentOS Stream 10 | PASS | +---------------------+----------------+ | RHEL9 | PASS | +---------------------+----------------+ | Fedora 41 | PASS | +---------------------+----------------+ | Fedora 41 (Clang) | PASS | +---------------------+----------------+ | RHEL8 | PASS | +---------------------+----------------+ | Ubuntu 20.04 | PASS | +---------------------+----------------+ | Ubuntu 24.04 | PASS | +---------------------+----------------+ | Ubuntu 22.04 | PASS | +---------------------+----------------+ | Windows Server 2022 | PASS | +---------------------+----------------+ CentOS Stream 9 Kernel: Depends on container host Compiler: gcc 11.5.0 20240719 (Red Hat 11.5.0-2) Fedora 40 Kernel: Depends on container host Compiler: gcc 14.2.1 20240912 (Red Hat 14.2.1-3) Debian 12 Kernel: Depends on container host Compiler: gcc (Debian 12.2.0-14) 12.2.0 Fedora 40 (Clang) Kernel: Depends on container host Compiler: clang 18.1.8 (Fedora 18.1.8-1.fc40) CentOS Stream 10 Kernel: Depends on container host Compiler: gcc 14.2.1 20241104 (Red Hat 14.2.1-6) RHEL9 Kernel: Depends on container host Compiler: gcc 11.5.0 20240719 (Red Hat 11.5.0-2) Fedora 41 Kernel: Depends on container host Compiler: gcc 14.2.1 20240912 (Red Hat 14.2.1-3) Fedora 41 (Clang) Kernel: Depends on container host Compiler: clang 19.1.5 (Fedora 19.1.5-1.fc41) RHEL8 Kernel: Depends on container host Compiler: gcc 8.5.0 20210514 (Red Hat 8.5.0-22) Ubuntu 20.04 Kernel: Depends on container host Compiler: gcc (Ubuntu 9.4.0-1ubuntu1~20.04.2) 9.4.0 Ubuntu 24.04 Kernel: Depends on container host Compiler: gcc (Ubuntu 13.3.0-6ubuntu2~24.04) 13.3.0 Ubuntu 22.04 Kernel: Depends on container host Compiler: gcc (Ubuntu 11.4.0-1ubuntu1~22.04) 11.4.0 Windows Server 2022 Kernel: 10.0.20348.2031 Compiler: clang 15.0.7, gcc 14.1.0 (MinGW), and MSVC VS 19.39.33521 To view detailed results, visit: https://lab.dpdk.org/results/dashboard/patchsets/33095/ UNH-IOL DPDK Community Lab To manage your email subscriptions, visit: https://lab.dpdk.org/results/dashboard/preferences/subscriptions/