From mboxrd@z Thu Jan 1 00:00:00 1970 Return-Path: Received: from mails.dpdk.org (mails.dpdk.org [217.70.189.124]) by inbox.dpdk.org (Postfix) with ESMTP id 1B4284669E for ; Fri, 2 May 2025 15:36:39 +0200 (CEST) Received: from mails.dpdk.org (localhost [127.0.0.1]) by mails.dpdk.org (Postfix) with ESMTP id 9BD4E402A0; Fri, 2 May 2025 15:36:34 +0200 (CEST) Received: from mail-il1-f227.google.com (mail-il1-f227.google.com [209.85.166.227]) by mails.dpdk.org (Postfix) with ESMTP id 699A54029E for ; Fri, 2 May 2025 15:36:33 +0200 (CEST) Received: by mail-il1-f227.google.com with SMTP id e9e14a558f8ab-3d4436ba324so17355845ab.2 for ; Fri, 02 May 2025 06:36:33 -0700 (PDT) DKIM-Signature: v=1; a=rsa-sha256; c=relaxed/relaxed; d=iol.unh.edu; s=unh-iol; t=1746192993; x=1746797793; darn=dpdk.org; h=cc:to:from:subject:message-id:date:from:to:cc:subject:date :message-id:reply-to; bh=mUse3A8aYc3NSIezkmcFNxW1QautlylcuwxAl/qRXBo=; b=KPCMr4jj26uwg+iR14Y/elCtHc+GlXitOIW0e1wSUIQqVBGSBSl8B6B2shDj5XNvQ1 Z5UUEA8VKY7hoVHl7FjD86XPDJ9VdhTh14I3SaxfHVY48/4IZvx8jCf/YyZtR0Fu132J loZ3BSuUiZgFp4ZfzKsY6OK4t6ozic8RGzk1Y= X-Google-DKIM-Signature: v=1; a=rsa-sha256; c=relaxed/relaxed; d=1e100.net; s=20230601; t=1746192993; x=1746797793; h=cc:to:from:subject:message-id:date:x-gm-message-state:from:to:cc :subject:date:message-id:reply-to; bh=mUse3A8aYc3NSIezkmcFNxW1QautlylcuwxAl/qRXBo=; b=Ox4LfmGYfCVyH4urFbaa8qqDs12vIHadi51lypKmFmcBBvnFl3CMDx5dOO8uivIRdq bSXy7MdzCyd5y8qqyy6i5Wd9I+4hFtqo02A746yI7qT8ihe7NXADs5bULrvRkyqgadn0 I4SoWukMYz0QBsyFVt9hrsTu7fu2xOBdxF5p18YRQWW5GCpbb5AFqQ6u9jJkfIFrINgL 37JUwo09JEa4648xOX+nQeFdKUAzR7pRffqVdM830wMIq295lXt6uJpAvnhjIYE6KCjX zD9CwzFsIyCK8jKCqQ4FX0CrEvvN3p1Uxao2gyyqnuoqxyRzMFYlWg4xtox8HlRHG+91 1aBA== X-Gm-Message-State: AOJu0Yy1eXPezFftGRLg9KFERUGBs4O4ku5Vlvd22UOpH5d50KHqImEn 17XLZFiLA/hz4xdMSg3w6Fw2rcHxJnS9P+d1w3gs/2tcBjPuXTxWaqMnCTGVMklqVbZI/dwnGuz yxPCktjhVxyZ+X1hpLiGmU+pasNRbyJ4rXHWDHN8Y X-Gm-Gg: ASbGncvKR+WFGMKZ0BJBuy8W/APaMFfYXsRTXGVbBzdmVNwbgIw7LZi/bVO7Gz0BJRR GflNyjcABbxDDuDVStqtYmEZolyxNLOPKqm6uG0p6wPittWDi8Hr3F5Fq/NPZ94xszMLvs6Mmy6 QNt4a/GdV0kWHy+jSK+Mf/GQHSQK4HaqZ755RRzJoMTwTUCAzLMxnQa1QsZYxkZFuPz5F0/tTAY eFmsRYgalkDQMpVDnweQI1aNr8ITRUXYKEpN9LU0BLBxjLuo5pEBWsaqE7wl3GymFwDkppPPqW8 j9TLlZQtWtzmc4pq+qBxDpqYIZ5mTehSiTIUWGJoDkkjhJJ09nyEPH+s9Kg= X-Google-Smtp-Source: AGHT+IF8PHWhJ+r7XjjP6sYpYA5cL02WND0lhakRsoJR9lvXFrbz30bOWKv2z1TEfa1L3hdc/46/qLaTvwDA X-Received: by 2002:a05:6e02:148d:b0:3d5:deaf:b443 with SMTP id e9e14a558f8ab-3d97c13449bmr32178805ab.3.1746192992646; Fri, 02 May 2025 06:36:32 -0700 (PDT) Received: from postal.iol.unh.edu (postal.iol.unh.edu. [132.177.123.84]) by smtp-relay.gmail.com with ESMTPS id 8926c6da1cb9f-4f88a9145f3sm357953173.17.2025.05.02.06.36.32 (version=TLS1_2 cipher=ECDHE-ECDSA-AES128-GCM-SHA256 bits=128/128); Fri, 02 May 2025 06:36:32 -0700 (PDT) X-Relaying-Domain: iol.unh.edu Date: Fri, 02 May 2025 06:36:32 -0700 (PDT) Message-ID: <6814ca60.050a0220.37122d.42ddSMTPIN_ADDED_MISSING@mx.google.com> Received: from [172.17.0.5] (unknown [172.18.0.74]) by postal.iol.unh.edu (Postfix) with ESMTP id 16B0C6052471; Fri, 2 May 2025 09:36:31 -0400 (EDT) Subject: |SUCCESS| [GIT MASTER] 92cfb0fbf114ae88c74bf1cb48dcb1dbd043524f From: dpdklab@iol.unh.edu To: Test Report Cc: dpdk-test-reports@iol.unh.edu, Bruce Richardson Content-Type: text/plain X-BeenThere: test-report@dpdk.org X-Mailman-Version: 2.1.29 Precedence: list List-Id: automatic DPDK test reports List-Unsubscribe: , List-Archive: List-Post: List-Help: List-Subscribe: , Errors-To: test-report-bounces@dpdk.org _Testing PASS_ Branch: dpdk-next-net-intel 92cfb0fbf114ae88c74bf1cb48dcb1dbd043524f --> testing pass Upstream job id: Aarch32-Unit-Test#6112 Test environment and result as below: +-----------------------------+--------------+---------------------------+------------------------------+----------------+ | Environment | lpm_autotest | cryptodev_sw_zuc_autotest | cryptodev_sw_snow3g_autotest | dpdk_unit_test | +=============================+==============+===========================+==============================+================+ | Ubuntu 20.04 ARM SVE | PASS | SKIPPED | SKIPPED | SKIPPED | +-----------------------------+--------------+---------------------------+------------------------------+----------------+ | Debian 12 (arm) | SKIPPED | PASS | PASS | PASS | +-----------------------------+--------------+---------------------------+------------------------------+----------------+ | CentOS Stream 9 (ARM) | SKIPPED | SKIPPED | SKIPPED | PASS | +-----------------------------+--------------+---------------------------+------------------------------+----------------+ | CentOS Stream 10 (ARM) | SKIPPED | SKIPPED | SKIPPED | PASS | +-----------------------------+--------------+---------------------------+------------------------------+----------------+ | Fedora 40 (ARM) | SKIPPED | SKIPPED | SKIPPED | PASS | +-----------------------------+--------------+---------------------------+------------------------------+----------------+ | Fedora 40 (ARM Clang) | SKIPPED | SKIPPED | SKIPPED | PASS | +-----------------------------+--------------+---------------------------+------------------------------+----------------+ | Fedora 41 (ARM) | SKIPPED | SKIPPED | SKIPPED | PASS | +-----------------------------+--------------+---------------------------+------------------------------+----------------+ | Fedora 41 (ARM Clang) | SKIPPED | SKIPPED | SKIPPED | PASS | +-----------------------------+--------------+---------------------------+------------------------------+----------------+ | Ubuntu 20.04 (ARM) | SKIPPED | SKIPPED | SKIPPED | PASS | +-----------------------------+--------------+---------------------------+------------------------------+----------------+ | Ubuntu 24.04 (ARM) | SKIPPED | SKIPPED | SKIPPED | PASS | +-----------------------------+--------------+---------------------------+------------------------------+----------------+ | Ubuntu 22.04 (ARM) | SKIPPED | SKIPPED | SKIPPED | PASS | +-----------------------------+--------------+---------------------------+------------------------------+----------------+ | RHEL9 (ARM) | SKIPPED | SKIPPED | SKIPPED | PASS | +-----------------------------+--------------+---------------------------+------------------------------+----------------+ | 32-bit Ubuntu 22.04.4 (ARM) | SKIPPED | SKIPPED | SKIPPED | PASS | +-----------------------------+--------------+---------------------------+------------------------------+----------------+ Ubuntu 20.04 ARM SVE Kernel: Depends on container host Compiler: gcc (Ubuntu 10.5.0-1ubuntu1~20.04) 10.5.0 Debian 12 (arm) Kernel: Depends on container host Compiler: gcc (Debian 12.2.0-14) 12.2.0 CentOS Stream 9 (ARM) Kernel: Depends on container host Compiler: gcc 11.5.0 20240719 (Red Hat 11.5.0-2) CentOS Stream 10 (ARM) Kernel: Depends on container host Compiler: gcc 14.2.1 20241104 (Red Hat 14.2.1-6) Fedora 40 (ARM) Kernel: Depends on container host Compiler: gcc 14.2.1 20240912 (Red Hat 14.2.1-3) Fedora 40 (ARM Clang) Kernel: Depends on container host Compiler: clang 18.1.8 (Fedora 18.1.8-1.fc40) Fedora 41 (ARM) Kernel: Depends on container host Compiler: gcc 14.2.1 20240912 (Red Hat 14.2.1-3) Fedora 41 (ARM Clang) Kernel: Depends on container host Compiler: clang 19.1.5 (Fedora 19.1.5-1.fc41) Ubuntu 20.04 (ARM) Kernel: Depends on container host Compiler: gcc (Ubuntu 9.4.0-1ubuntu1~20.04.2) 9.4.0 Ubuntu 24.04 (ARM) Kernel: Depends on container host Compiler: gcc (Ubuntu 13.3.0-6ubuntu2~24.04) 13.3.0 Ubuntu 22.04 (ARM) Kernel: Depends on container host Compiler: gcc (Ubuntu 11.4.0-1ubuntu1~22.04) 11.4.0 RHEL9 (ARM) Kernel: Depends on container host Compiler: gcc 11.5.0 20240719 (Red Hat 11.5.0-2) 32-bit Ubuntu 22.04.4 (ARM) Kernel: 5.15.83+ aarch64 Compiler: gcc (Ubuntu 11.4.0-1ubuntu1~22.04) 11.4.0 To view detailed results, visit: https://lab.dpdk.org/results/dashboard/tarballs/33411/ UNH-IOL DPDK Community Lab To manage your email subscriptions, visit: https://lab.dpdk.org/results/dashboard/preferences/subscriptions/