From mboxrd@z Thu Jan 1 00:00:00 1970 Return-Path: Received: from mails.dpdk.org (mails.dpdk.org [217.70.189.124]) by inbox.dpdk.org (Postfix) with ESMTP id 4B04B4669E for ; Fri, 2 May 2025 15:51:50 +0200 (CEST) Received: from mails.dpdk.org (localhost [127.0.0.1]) by mails.dpdk.org (Postfix) with ESMTP id 0313A402A0; Fri, 2 May 2025 15:51:49 +0200 (CEST) Received: from mail-pf1-f226.google.com (mail-pf1-f226.google.com [209.85.210.226]) by mails.dpdk.org (Postfix) with ESMTP id 336394029E for ; Fri, 2 May 2025 15:51:48 +0200 (CEST) Received: by mail-pf1-f226.google.com with SMTP id d2e1a72fcca58-73972a54919so2036479b3a.3 for ; Fri, 02 May 2025 06:51:48 -0700 (PDT) DKIM-Signature: v=1; a=rsa-sha256; c=relaxed/relaxed; d=iol.unh.edu; s=unh-iol; t=1746193907; x=1746798707; darn=dpdk.org; h=cc:to:from:subject:message-id:date:from:to:cc:subject:date :message-id:reply-to; bh=owuxy3kPGwo1+o8tMCdQIFHucLscdq86YT61r4b97So=; b=hGGZqOGLc7XqxmtWkuu6WhkMpVGqgthyqlp9nI6wSgljgsZ64O4m6PVmM5yMIJjqPb RYw/IIpKPdW91vB9OK131D/FHKx0GYXQOYcDI/lNG3saWCCzYaGcCycH/eADrkC5fMLa qxHoP1EYhY547HW2iabwJ7eZQNbCF21j+u7QI= X-Google-DKIM-Signature: v=1; a=rsa-sha256; c=relaxed/relaxed; d=1e100.net; s=20230601; t=1746193907; x=1746798707; h=cc:to:from:subject:message-id:date:x-gm-message-state:from:to:cc :subject:date:message-id:reply-to; bh=owuxy3kPGwo1+o8tMCdQIFHucLscdq86YT61r4b97So=; b=PFyXX1XM6vJQBHDP0e6AIve3eHzijT4h2/yocUduTncqdJQRqMZ4CqBJw6toc4L7II 9z5Y/yW86OYvW6IG2VJQTq0/oj/7x8/ccm5kUdjM2ra7F88SXeRbJITBHA6LFxafN1sK vcMtNXjz9dajjwVCqa+EOH+qSX3JFbgOgRR/78hDMzB1fu25KS/ijaNfC31A3HkMTeSB 9jfUVlmRy4OtHXYscror5nIMSqjWy8G0WxEDQUISt56JqVICfk79Q5Zd9jicfvDa17MQ Iz389HeYEG/QLu3zu/DzFQWjCvycDXh7Sv5vs8ElbZzdYgdGRNNhSQ2kjIc8VSpeNOrq 7irA== X-Gm-Message-State: AOJu0YyVpaItR4zI65ns4zslvSzCZFRAo8pSpZZV9T+psSbwQkT6jqik 5Yl9sTFYUQDzzi2opVAVj3dww6C+fN9I7n9abwGJ0Fg6i1Kd0j9JJZwkq4loPbWTL+wx4587qXH PXc5mNwRaLjZQP9QJZ0kGe/GKu4nj+IWtou3y3nGcCOFGW//u9ImalxVb X-Gm-Gg: ASbGnctbV+miqQtvSTP1ybiqNoooMWIypTigFHRvmeYWquF7DQDO6eDeMNlKdhH9RcT vOyfPKBoq0A2fURXvIOSrvFCzrQE64CJbXIO/AEBCPSsoqwfbaFpkDUPnHf/AbNYCwfqwX4pTSa oD3hjxlww12YOO9nwrIoqCKileBXOkTvop8QxWPrGBmSRCKgICzhBII4yQQaSa5Qu8/ieygsI2m I6bhWSvdyhjpgf8TU3G8dDx9HFTKpupHs9KRA8GjPxROhz3EmTDUbicFeqYUS/BI6yvRP8ykTW8 FJ6KCKTo433+bPQOhK3MnA+aMUkr+CenEggP X-Google-Smtp-Source: AGHT+IHxwiPWN05fyoefljtLWQjJKhLZNM1Gqj1paBKESZsxQwzVNOrLE9HavZSFH4FMOyOAyXOTZap6KA16 X-Received: by 2002:a05:6a20:d499:b0:1ee:a914:1d67 with SMTP id adf61e73a8af0-20cde46ba5cmr4499305637.2.1746193906781; Fri, 02 May 2025 06:51:46 -0700 (PDT) Received: from postal.iol.unh.edu (postal.iol.unh.edu. [2606:4100:3880:1234::84]) by smtp-relay.gmail.com with ESMTPS id d2e1a72fcca58-74058d7a58esm353444b3a.5.2025.05.02.06.51.46 (version=TLS1_2 cipher=ECDHE-ECDSA-AES128-GCM-SHA256 bits=128/128); Fri, 02 May 2025 06:51:46 -0700 (PDT) X-Relaying-Domain: iol.unh.edu Date: Fri, 02 May 2025 06:51:46 -0700 (PDT) Message-ID: <6814cdf2.050a0220.a8a3a.47e6SMTPIN_ADDED_MISSING@mx.google.com> Received: from [172.17.0.2] (unknown [172.18.0.74]) by postal.iol.unh.edu (Postfix) with ESMTP id E89C56052471; Fri, 2 May 2025 09:51:45 -0400 (EDT) Subject: |SUCCESS| [GIT MASTER] 92cfb0fbf114ae88c74bf1cb48dcb1dbd043524f From: dpdklab@iol.unh.edu To: Test Report Cc: dpdk-test-reports@iol.unh.edu, Bruce Richardson Content-Type: text/plain X-BeenThere: test-report@dpdk.org X-Mailman-Version: 2.1.29 Precedence: list List-Id: automatic DPDK test reports List-Unsubscribe: , List-Archive: List-Post: List-Help: List-Subscribe: , Errors-To: test-report-bounces@dpdk.org _Testing PASS_ Branch: dpdk-next-net-intel 92cfb0fbf114ae88c74bf1cb48dcb1dbd043524f --> testing pass Upstream job id: Generic-Unit-Test-DPDK#334807 Test environment and result as below: +---------------------+----------------+ | Environment | dpdk_unit_test | +=====================+================+ | CentOS Stream 10 | PASS | +---------------------+----------------+ | Debian 12 | PASS | +---------------------+----------------+ | CentOS Stream 9 | PASS | +---------------------+----------------+ | Fedora 40 (Clang) | PASS | +---------------------+----------------+ | Fedora 40 | PASS | +---------------------+----------------+ | RHEL8 | PASS | +---------------------+----------------+ | RHEL9 | PASS | +---------------------+----------------+ | Fedora 41 | PASS | +---------------------+----------------+ | Ubuntu 22.04 | PASS | +---------------------+----------------+ | Ubuntu 20.04 | PASS | +---------------------+----------------+ | Fedora 41 (Clang) | PASS | +---------------------+----------------+ | Ubuntu 24.04 | PASS | +---------------------+----------------+ | Windows Server 2022 | PASS | +---------------------+----------------+ CentOS Stream 10 Kernel: Depends on container host Compiler: gcc 14.2.1 20241104 (Red Hat 14.2.1-6) Debian 12 Kernel: Depends on container host Compiler: gcc (Debian 12.2.0-14) 12.2.0 CentOS Stream 9 Kernel: Depends on container host Compiler: gcc 11.5.0 20240719 (Red Hat 11.5.0-2) Fedora 40 (Clang) Kernel: Depends on container host Compiler: clang 18.1.8 (Fedora 18.1.8-1.fc40) Fedora 40 Kernel: Depends on container host Compiler: gcc 14.2.1 20240912 (Red Hat 14.2.1-3) RHEL8 Kernel: Depends on container host Compiler: gcc 8.5.0 20210514 (Red Hat 8.5.0-22) RHEL9 Kernel: Depends on container host Compiler: gcc 11.5.0 20240719 (Red Hat 11.5.0-2) Fedora 41 Kernel: Depends on container host Compiler: gcc 14.2.1 20240912 (Red Hat 14.2.1-3) Ubuntu 22.04 Kernel: Depends on container host Compiler: gcc (Ubuntu 11.4.0-1ubuntu1~22.04) 11.4.0 Ubuntu 20.04 Kernel: Depends on container host Compiler: gcc (Ubuntu 9.4.0-1ubuntu1~20.04.2) 9.4.0 Fedora 41 (Clang) Kernel: Depends on container host Compiler: clang 19.1.5 (Fedora 19.1.5-1.fc41) Ubuntu 24.04 Kernel: Depends on container host Compiler: gcc (Ubuntu 13.3.0-6ubuntu2~24.04) 13.3.0 Windows Server 2022 Kernel: 10.0.20348.2031 Compiler: clang 15.0.7, gcc 14.1.0 (MinGW), and MSVC VS 19.39.33521 To view detailed results, visit: https://lab.dpdk.org/results/dashboard/tarballs/33411/ UNH-IOL DPDK Community Lab To manage your email subscriptions, visit: https://lab.dpdk.org/results/dashboard/preferences/subscriptions/