From mboxrd@z Thu Jan 1 00:00:00 1970 Return-Path: Received: from mails.dpdk.org (mails.dpdk.org [217.70.189.124]) by inbox.dpdk.org (Postfix) with ESMTP id 1D7D64669E for ; Fri, 2 May 2025 15:52:14 +0200 (CEST) Received: from mails.dpdk.org (localhost [127.0.0.1]) by mails.dpdk.org (Postfix) with ESMTP id 188D0402A0; Fri, 2 May 2025 15:52:14 +0200 (CEST) Received: from mail-io1-f97.google.com (mail-io1-f97.google.com [209.85.166.97]) by mails.dpdk.org (Postfix) with ESMTP id B9D254029E for ; Fri, 2 May 2025 15:52:12 +0200 (CEST) Received: by mail-io1-f97.google.com with SMTP id ca18e2360f4ac-85b41281b50so66788539f.3 for ; Fri, 02 May 2025 06:52:12 -0700 (PDT) DKIM-Signature: v=1; a=rsa-sha256; c=relaxed/relaxed; d=iol.unh.edu; s=unh-iol; t=1746193932; x=1746798732; darn=dpdk.org; h=cc:to:from:subject:message-id:date:from:to:cc:subject:date :message-id:reply-to; bh=ZJbVJKoxF6wNq1UOUEVmfPlnsWUZsLIAY3hlzi8pSVQ=; b=W1JEVkBOIzvgdoWadcfl+8Objfje2jlCn/we2TYtOd/9PJsXnc9wejuVfSQ/1GiEP8 ZWlcjZgdfFn+QUX9zbA3XI/u4xGVR446VXWSgLp9eS/CydpQoP+xvzvQDRZ9RDqmmygs nmIdN0Ond2KziYSX9sjZAkM9Js3woSQFiUj7w= X-Google-DKIM-Signature: v=1; a=rsa-sha256; c=relaxed/relaxed; d=1e100.net; s=20230601; t=1746193932; x=1746798732; h=cc:to:from:subject:message-id:date:x-gm-message-state:from:to:cc :subject:date:message-id:reply-to; bh=ZJbVJKoxF6wNq1UOUEVmfPlnsWUZsLIAY3hlzi8pSVQ=; b=XDsNf1lfk4NA9YQEQuKBOWMoYinbEVWgs9Jn+f4yKFk8i1FvkXzGwW+4r6J2zb0MFp bkqFqZzwWqXOkoJJ6SgNVu//gOH+f3HWyqUkTbpDHnqtO0eQf46IKhnBhk23FMK/MWAK fLp13ljurzFXdhsqMIboF7BFUZrM8H2VKtCJvxc2s0FSsZSHjV0658AjlfqI92DPyJS5 kzW3Omv5jLiT3abDNSBrsqMQy72NDXEb0YYgTlJJTFdu3e4uNNRkFIVziCi7DVchmJjM msxCL5jHz8/FqZ+6zqEgROcEVGCKsjncCPWVn4BEK+Dv+bjDwJr6E2YsoIPbvx0ehRAP Sw7g== X-Gm-Message-State: AOJu0Yxl3e68inDpzR0JmHOhQ2bUkZfQOPlUbn4igoq/4AQAoUQVH34V ICniNsZFgA0D0YS31tK/qEzaETcWWduszP7NpYrrx0bdQI79+rEIO8kR/2v6dbbmMHfxPYMiKc/ zHMjhs12p7UEN+D88qxxnTwrmKmlIYBOf33f4PBLZ X-Gm-Gg: ASbGnctvOIKzm7tB/jz+fosLOwGoaJFhDZoTQo+oolbsbVEn0d4kWiwvF+xPpiFvurM oYrKYWkH9k/CL5HzmkGZoOq52uEJk/tI21l4rBnUz34kVPL5SVem1I4O6RRfy/84Iu0W8eH4jsH 513VSdJNZGPKRSOxQDmUOIrCBF1V0WbzmyhpGjykYdzrtlx/MA2F48HYIpl53KTMVwNJVqFdMD2 jfRXFACiNvZjiLdYTh+/VW0RFE+uJ4S3piuDfLrbZCmip8Py6GVnKUnWNw17f3tyzUFhIwNC8SE KUljDAZK3yGQRa30IPeZYCZyUEn/9umSzafkM/5mQlkruxtWJpnAXvcDxG0= X-Google-Smtp-Source: AGHT+IHibXzgeGsOYnbp6JIkuCyE1SgqqBWDpWhZiYYMrBGodagMhRsTEWiLLGOUm767+AQI2X1vM4yjJ/AX X-Received: by 2002:a92:cdaf:0:b0:3cf:bc71:94f5 with SMTP id e9e14a558f8ab-3d97c253c56mr34218515ab.22.1746193931910; Fri, 02 May 2025 06:52:11 -0700 (PDT) Received: from postal.iol.unh.edu (postal.iol.unh.edu. [132.177.123.84]) by smtp-relay.gmail.com with ESMTPS id e9e14a558f8ab-3d975e34e7bsm6146475ab.10.2025.05.02.06.52.11 (version=TLS1_2 cipher=ECDHE-ECDSA-AES128-GCM-SHA256 bits=128/128); Fri, 02 May 2025 06:52:11 -0700 (PDT) X-Relaying-Domain: iol.unh.edu Date: Fri, 02 May 2025 06:52:11 -0700 (PDT) Message-ID: <6814ce0b.050a0220.2501ef.67d8SMTPIN_ADDED_MISSING@mx.google.com> Received: from [172.17.0.3] (unknown [172.18.0.74]) by postal.iol.unh.edu (Postfix) with ESMTP id 3359C6052471; Fri, 2 May 2025 09:52:10 -0400 (EDT) Subject: |SUCCESS| [GIT MASTER] 92cfb0fbf114ae88c74bf1cb48dcb1dbd043524f From: dpdklab@iol.unh.edu To: Test Report Cc: dpdk-test-reports@iol.unh.edu, Bruce Richardson Content-Type: text/plain X-BeenThere: test-report@dpdk.org X-Mailman-Version: 2.1.29 Precedence: list List-Id: automatic DPDK test reports List-Unsubscribe: , List-Archive: List-Post: List-Help: List-Subscribe: , Errors-To: test-report-bounces@dpdk.org _Testing PASS_ Branch: dpdk-next-net-intel 92cfb0fbf114ae88c74bf1cb48dcb1dbd043524f --> testing pass Upstream job id: Generic-DPDK-Compile-Meson#384448 Test environment and result as below: +-----------------------------------+--------------------+-------------------+------------------+-------------------+-------------------------+----------------------+ | Environment | dpdk_meson_compile | dpdk_compile_spdk | dpdk_compile_ovs | dpdk_msvc_compile | dpdk_llvm_clang_compile | dpdk_mingw64_compile | +===================================+====================+===================+==================+===================+=========================+======================+ | CentOS Stream 9 | PASS | PASS | SKIPPED | SKIPPED | SKIPPED | SKIPPED | +-----------------------------------+--------------------+-------------------+------------------+-------------------+-------------------------+----------------------+ | CentOS Stream 10 | PASS | SKIPPED | SKIPPED | SKIPPED | SKIPPED | SKIPPED | +-----------------------------------+--------------------+-------------------+------------------+-------------------+-------------------------+----------------------+ | Debian 12 | PASS | PASS | SKIPPED | SKIPPED | SKIPPED | SKIPPED | +-----------------------------------+--------------------+-------------------+------------------+-------------------+-------------------------+----------------------+ | Fedora 40 | PASS | PASS | SKIPPED | SKIPPED | SKIPPED | SKIPPED | +-----------------------------------+--------------------+-------------------+------------------+-------------------+-------------------------+----------------------+ | Fedora 40 (Clang) | PASS | PASS | SKIPPED | SKIPPED | SKIPPED | SKIPPED | +-----------------------------------+--------------------+-------------------+------------------+-------------------+-------------------------+----------------------+ | Fedora 41 (Clang) | PASS | PASS | PASS | SKIPPED | SKIPPED | SKIPPED | +-----------------------------------+--------------------+-------------------+------------------+-------------------+-------------------------+----------------------+ | Fedora 41 | PASS | PASS | PASS | SKIPPED | SKIPPED | SKIPPED | +-----------------------------------+--------------------+-------------------+------------------+-------------------+-------------------------+----------------------+ | openSUSE Leap 15 | PASS | SKIPPED | SKIPPED | SKIPPED | SKIPPED | SKIPPED | +-----------------------------------+--------------------+-------------------+------------------+-------------------+-------------------------+----------------------+ | RHEL9 | PASS | SKIPPED | SKIPPED | SKIPPED | SKIPPED | SKIPPED | +-----------------------------------+--------------------+-------------------+------------------+-------------------+-------------------------+----------------------+ | RHEL8 | PASS | SKIPPED | SKIPPED | SKIPPED | SKIPPED | SKIPPED | +-----------------------------------+--------------------+-------------------+------------------+-------------------+-------------------------+----------------------+ | Ubuntu 20.04 | PASS | SKIPPED | SKIPPED | SKIPPED | SKIPPED | SKIPPED | +-----------------------------------+--------------------+-------------------+------------------+-------------------+-------------------------+----------------------+ | Ubuntu 22.04 | PASS | PASS | SKIPPED | SKIPPED | SKIPPED | SKIPPED | +-----------------------------------+--------------------+-------------------+------------------+-------------------+-------------------------+----------------------+ | Ubuntu 24.04 | PASS | PASS | PASS | SKIPPED | SKIPPED | SKIPPED | +-----------------------------------+--------------------+-------------------+------------------+-------------------+-------------------------+----------------------+ | Alpine | PASS | SKIPPED | SKIPPED | SKIPPED | SKIPPED | SKIPPED | +-----------------------------------+--------------------+-------------------+------------------+-------------------+-------------------------+----------------------+ | Ubuntu 24.04 32 Bit Cross Compile | PASS | SKIPPED | SKIPPED | SKIPPED | SKIPPED | SKIPPED | +-----------------------------------+--------------------+-------------------+------------------+-------------------+-------------------------+----------------------+ | FreeBSD 13.5 | PASS | SKIPPED | SKIPPED | SKIPPED | SKIPPED | SKIPPED | +-----------------------------------+--------------------+-------------------+------------------+-------------------+-------------------------+----------------------+ | FreeBSD 14.2 | PASS | SKIPPED | SKIPPED | SKIPPED | SKIPPED | SKIPPED | +-----------------------------------+--------------------+-------------------+------------------+-------------------+-------------------------+----------------------+ | Windows Server 2022 | SKIPPED | SKIPPED | SKIPPED | PASS | PASS | PASS | +-----------------------------------+--------------------+-------------------+------------------+-------------------+-------------------------+----------------------+ CentOS Stream 9 Kernel: Depends on container host Compiler: gcc 11.5.0 20240719 (Red Hat 11.5.0-2) CentOS Stream 10 Kernel: Depends on container host Compiler: gcc 14.2.1 20241104 (Red Hat 14.2.1-6) Debian 12 Kernel: Depends on container host Compiler: gcc (Debian 12.2.0-14) 12.2.0 Fedora 40 Kernel: Depends on container host Compiler: gcc 14.2.1 20240912 (Red Hat 14.2.1-3) Fedora 40 (Clang) Kernel: Depends on container host Compiler: clang 18.1.8 (Fedora 18.1.8-1.fc40) Fedora 41 (Clang) Kernel: Depends on container host Compiler: clang 19.1.5 (Fedora 19.1.5-1.fc41) Fedora 41 Kernel: Depends on container host Compiler: gcc 14.2.1 20240912 (Red Hat 14.2.1-3) openSUSE Leap 15 Kernel: Depends on container host Compiler: gcc (SUSE Linux) 7.5.0 RHEL9 Kernel: Depends on container host Compiler: gcc 11.5.0 20240719 (Red Hat 11.5.0-2) RHEL8 Kernel: Depends on container host Compiler: gcc 8.5.0 20210514 (Red Hat 8.5.0-22) Ubuntu 20.04 Kernel: Depends on container host Compiler: gcc (Ubuntu 9.4.0-1ubuntu1~20.04.2) 9.4.0 Ubuntu 22.04 Kernel: Depends on container host Compiler: gcc (Ubuntu 11.4.0-1ubuntu1~22.04) 11.4.0 Ubuntu 24.04 Kernel: Depends on container host Compiler: gcc (Ubuntu 13.3.0-6ubuntu2~24.04) 13.3.0 Alpine Kernel: Depends on container host Compiler: gcc (Alpine 14.2.0) 14.2.0 Ubuntu 24.04 32 Bit Cross Compile Kernel: Depends on container host Compiler: gcc (Ubuntu 13.3.0-6ubuntu2~24.04) 13.3.0 FreeBSD 13.5 Kernel: 13.5-RELEASE Compiler: clang 19.1.7 FreeBSD 14.2 Kernel: 14.2-RELEASE Compiler: clang 18.1.6 Windows Server 2022 Kernel: 10.0.20348.2031 Compiler: clang 15.0.7, gcc 14.1.0 (MinGW), and MSVC VS 19.39.33521 To view detailed results, visit: https://lab.dpdk.org/results/dashboard/tarballs/33411/ UNH-IOL DPDK Community Lab To manage your email subscriptions, visit: https://lab.dpdk.org/results/dashboard/preferences/subscriptions/