From mboxrd@z Thu Jan 1 00:00:00 1970 Return-Path: Received: from mails.dpdk.org (mails.dpdk.org [217.70.189.124]) by inbox.dpdk.org (Postfix) with ESMTP id DC1D14669E for ; Fri, 2 May 2025 15:57:17 +0200 (CEST) Received: from mails.dpdk.org (localhost [127.0.0.1]) by mails.dpdk.org (Postfix) with ESMTP id A0993402A0; Fri, 2 May 2025 15:57:15 +0200 (CEST) Received: from mail-oo1-f99.google.com (mail-oo1-f99.google.com [209.85.161.99]) by mails.dpdk.org (Postfix) with ESMTP id 76EB14029E for ; Fri, 2 May 2025 15:57:14 +0200 (CEST) Received: by mail-oo1-f99.google.com with SMTP id 006d021491bc7-606477d77easo1279688eaf.1 for ; Fri, 02 May 2025 06:57:14 -0700 (PDT) DKIM-Signature: v=1; a=rsa-sha256; c=relaxed/relaxed; d=iol.unh.edu; s=unh-iol; t=1746194233; x=1746799033; darn=dpdk.org; h=cc:to:from:subject:message-id:date:from:to:cc:subject:date :message-id:reply-to; bh=WdyXrwxV0DncFlkxg+hp68YjUBDonp9toaveJLU9LU8=; b=GqPFdaSXjK1pvxpimX0oeRB8cvYtRZ27P/Cbf4K9iPdB7LcAq5Df4+q9krQ8nRwzr8 fXxcaqHmSGgNZaacag3a1p6NNjIFlA/z47s1EIaYF2lSOMom4oUc4jJ/DTOl8DWsR4dC u43lwOgKnj9VfBf8/ArMpTpnoT7TO3/D3vjKk= X-Google-DKIM-Signature: v=1; a=rsa-sha256; c=relaxed/relaxed; d=1e100.net; s=20230601; t=1746194233; x=1746799033; h=cc:to:from:subject:message-id:date:x-gm-message-state:from:to:cc :subject:date:message-id:reply-to; bh=WdyXrwxV0DncFlkxg+hp68YjUBDonp9toaveJLU9LU8=; b=iFBPccAluv2Yq3q3WysO2grVpKBgugufsqhcGBlAyBRr1FIony5f599GkvgagfEa75 ACZ++FPUnZQKDCMkgu2tYs8tGe+LGNKPeEaNsIomA6NG69KaoZcOhSpdNWzArDs2EKam CR955nFN6SlQpzfvVuvMlzMl6GCtg784FUn987QErJ1HJijH07u1pR9OwnWfTaOC9kln /mHPXZhw+Nhn6VxWIBHEj5zV7g3HF9b6J2NVsVJ0+0TMWpSXXC1cXJaiqUBH7IJD60Lp SqeNEHVbmcPtsQJes/S9bW39t97jAMZcg3Rg4oJpAj5W6qaGJITbQvSFAn8pLhpfpagu PWbQ== X-Gm-Message-State: AOJu0YyZjJdIgOl/mVBFC6uz6ahNyqopsAAbdgnzlY/hh2J/xKEJlCYe nhAemznpq4G2I9o2GyVpKjS2/F7uwfoWKQ0lD7+D596cz0P7fTzSQewvnxXUCRnQkHsrMX1DjX0 tfilKL7UCWky+c8bZgDooYQR1EwOHvijLZLJP9c5q X-Gm-Gg: ASbGncts1jRwJqr9Am/eCz/gkOWZP7AjdDxAVjb/9uA3gjIr9j0XhaTvuS86gogMR2d I8mQFKi/LTyEcYMFS5PF+MHCmwcBau/vtdMYfPjgfNFJAY55I+GGX5cMsOvYDXlKfKFdgKnyRyZ 7YupcqjRCB3kTTwtz5YCMnFxtTM5A7hEIWMuNDOa3WWCkNyWzijIUzRCsQWLNficTCevAitDatS DTOJYPnOMvQgeec0+sytx9BIQesExtvX94cetOEy08/taoPEmUIXeZUQFuWoAxx57hVWEIEhWNc vtB19WhcMfP71U0KE0kZGAXqz0CqcI1amhU6ZBxx+C3ATgCkEa0PHYMu9sE= X-Google-Smtp-Source: AGHT+IGFUX20fQiXHdMHpjI1AvgWAtjoFJgi64BMPMF7NPHlKdzNFgQi/6CA5mNS1DzBfJVRDSH6yCq0GSv2 X-Received: by 2002:a05:6820:308d:b0:604:99a6:4e90 with SMTP id 006d021491bc7-607ed857cd7mr1818534eaf.0.1746194233433; Fri, 02 May 2025 06:57:13 -0700 (PDT) Received: from postal.iol.unh.edu (postal.iol.unh.edu. [132.177.123.84]) by smtp-relay.gmail.com with ESMTPS id 006d021491bc7-607e7fa268dsm465298eaf.19.2025.05.02.06.57.13 (version=TLS1_2 cipher=ECDHE-ECDSA-AES128-GCM-SHA256 bits=128/128); Fri, 02 May 2025 06:57:13 -0700 (PDT) X-Relaying-Domain: iol.unh.edu Date: Fri, 02 May 2025 06:57:13 -0700 (PDT) Message-ID: <6814cf39.050a0220.1f348b.50c9SMTPIN_ADDED_MISSING@mx.google.com> Received: from [172.17.0.2] (unknown [172.18.0.74]) by postal.iol.unh.edu (Postfix) with ESMTP id 61F2C6052471; Fri, 2 May 2025 09:57:12 -0400 (EDT) Subject: |SUCCESS| [GIT MASTER] 92cfb0fbf114ae88c74bf1cb48dcb1dbd043524f From: dpdklab@iol.unh.edu To: Test Report Cc: dpdk-test-reports@iol.unh.edu, Bruce Richardson Content-Type: text/plain X-BeenThere: test-report@dpdk.org X-Mailman-Version: 2.1.29 Precedence: list List-Id: automatic DPDK test reports List-Unsubscribe: , List-Archive: List-Post: List-Help: List-Subscribe: , Errors-To: test-report-bounces@dpdk.org _Testing PASS_ Branch: dpdk-next-net-intel 92cfb0fbf114ae88c74bf1cb48dcb1dbd043524f --> testing pass Upstream job id: ACVP-FIPS-testing#9691 Test environment and result as below: +--------------------+----------------------+----------------------+ | Environment | compressdev_zlib_pmd | dpdk_fips_validation | +====================+======================+======================+ | Ubuntu 22.04 (ARM) | PASS | SKIPPED | +--------------------+----------------------+----------------------+ | Ubuntu 22.04 | PASS | SKIPPED | +--------------------+----------------------+----------------------+ | Ubuntu 20.04 | SKIPPED | PASS | +--------------------+----------------------+----------------------+ Ubuntu 22.04 (ARM) Kernel: 5.15.0-97-generic Compiler: gcc gcc (Ubuntu 11.4.0-1ubuntu1~22.04) 11.4.0 Ubuntu 22.04 Kernel: 5.15.0-100-generic Compiler: gcc gcc (Ubuntu 11.4.0-1ubuntu1~22.04) 11.4.0 Ubuntu 20.04 Kernel: Depends on container host Compiler: gcc (Ubuntu 9.4.0-1ubuntu1~20.04.2) 9.4.0 To view detailed results, visit: https://lab.dpdk.org/results/dashboard/tarballs/33411/ UNH-IOL DPDK Community Lab To manage your email subscriptions, visit: https://lab.dpdk.org/results/dashboard/preferences/subscriptions/