From mboxrd@z Thu Jan 1 00:00:00 1970 Return-Path: Received: from mails.dpdk.org (mails.dpdk.org [217.70.189.124]) by inbox.dpdk.org (Postfix) with ESMTP id BEEDC4669F for ; Fri, 2 May 2025 16:41:04 +0200 (CEST) Received: from mails.dpdk.org (localhost [127.0.0.1]) by mails.dpdk.org (Postfix) with ESMTP id C06D3402A0; Fri, 2 May 2025 16:41:00 +0200 (CEST) Received: from mail-yw1-f226.google.com (mail-yw1-f226.google.com [209.85.128.226]) by mails.dpdk.org (Postfix) with ESMTP id 8BE9B4029E for ; Fri, 2 May 2025 16:40:59 +0200 (CEST) Received: by mail-yw1-f226.google.com with SMTP id 00721157ae682-708ccf87fdbso11067477b3.0 for ; Fri, 02 May 2025 07:40:59 -0700 (PDT) DKIM-Signature: v=1; a=rsa-sha256; c=relaxed/relaxed; d=iol.unh.edu; s=unh-iol; t=1746196859; x=1746801659; darn=dpdk.org; h=cc:to:from:subject:message-id:date:from:to:cc:subject:date :message-id:reply-to; bh=w3jD3WP7ujGpsdywXhRGlOd9itpkU42sHfLJC2VqPN4=; b=N7XI3AoGlYznxY3mNLbAi64UIwznicypIVc4VNv64m8xPtBaodY/lMnEAjuEDOhm+Y bhgUAV5zfik3f4T61czBIAh4yslXwakuxBIaSnCYATDTiLZJOnUOBU4aG+iAz1+voAYg GBDlKxnO4FxFwYQ1AKqCOioI0A/OdBfOBgRFQ= X-Google-DKIM-Signature: v=1; a=rsa-sha256; c=relaxed/relaxed; d=1e100.net; s=20230601; t=1746196859; x=1746801659; h=cc:to:from:subject:message-id:date:x-gm-message-state:from:to:cc :subject:date:message-id:reply-to; bh=w3jD3WP7ujGpsdywXhRGlOd9itpkU42sHfLJC2VqPN4=; b=s6lR+aEeOjf9gALOE981rBjh/QViSSs0U16yHFv7yONhQtTyCaAm4YeaVjh2DCfoi+ i3kqdEEUfLv4py1jHbP30bT+8tYBZlt/NKInd3ZyZKtoBejFnLqcehv/ATAdXahuYJbZ wvYCB3uuClAPAMWZGW8HNn5fBh36wXjaTVUDN4Si+WK6OeeCxj+uGWiDNc6FdoY3VOzE kd6oVzWOaDwJJWPY//LIpiSymhBVIWaTHwSXhYLZ9MnzExYiAOS0GvcLObD0w8gGxfAs yx6bvq5rzDC6EBT0ukWzuB5+xDQBAZE//7T4Evw4PqSI/mvbIVYLo8PkB8Cw+poZnFYq cYmA== X-Gm-Message-State: AOJu0Yx+J0kM9dr9lhlitWDmA0pCP9DU9y4+5Vw7gpEHGAQY5YoF5TAL R9zSYrbcW6JAYoikeJkDwds5qTt50moHBo7n19UqJcehNu8PVR1cS1fEAVjALpzi9YtflVPPr5s dzQz4kTr+RgfQUySZIX/u6xwxh5yL5Bk9IbmIDnzS X-Gm-Gg: ASbGncvPqzGWxHFDpcvNkBaqu2WV0foA2iw3hUIVY8HxSSvlHm0Y8BonlEuao04VU3F JlrrIasbM+MLSTvxVqLXQKLuYLqYRn8QbC2z/vocKMChu93QWntGhu+oPmjfwEEhqroPhrRfjVl 8lNKJGR7Kur3jPlEXCVoMF+tPiaAbcbQZrRBo0zkFFOiq5w5RyhfX2neHGZ/nKp4gh7j7glOfyI 0LNBxizgZsrRlXMdbXqxHsvnVBSEuJlEa/SJPTiH+X7dSWhrKdBubmMrGANrM+tHDeubow5Ljg0 b2Var5KPPQAEzoUu9wHUfwBk7b1R+7IJ60tqFrW0QMwfV22Htm76FaUECZ8= X-Google-Smtp-Source: AGHT+IHnwTuVT7Unj9dZLtA0L/cGhc4mBbP4YJ6VxI8HOEKsB6MMZJfrwp1e3eGSvah3pzUyeriUqHW79cHd X-Received: by 2002:a05:690c:4493:b0:708:bc6e:f9b7 with SMTP id 00721157ae682-708cebc7b5bmr47722177b3.0.1746196858893; Fri, 02 May 2025 07:40:58 -0700 (PDT) Received: from postal.iol.unh.edu (postal.iol.unh.edu. [132.177.123.84]) by smtp-relay.gmail.com with ESMTPS id 00721157ae682-708c46f219csm5948297b3.60.2025.05.02.07.40.58 (version=TLS1_2 cipher=ECDHE-ECDSA-AES128-GCM-SHA256 bits=128/128); Fri, 02 May 2025 07:40:58 -0700 (PDT) X-Relaying-Domain: iol.unh.edu Date: Fri, 02 May 2025 07:40:58 -0700 (PDT) Message-ID: <6814d97a.050a0220.be99.5e89SMTPIN_ADDED_MISSING@mx.google.com> Received: from [172.21.0.6] (unknown [172.18.0.240]) by postal.iol.unh.edu (Postfix) with ESMTP id 772876052471; Fri, 2 May 2025 10:40:58 -0400 (EDT) Subject: |SUCCESS| [GIT MASTER] 92cfb0fbf114ae88c74bf1cb48dcb1dbd043524f From: dpdklab@iol.unh.edu To: Test Report Cc: dpdk-test-reports@iol.unh.edu, Bruce Richardson Content-Type: text/plain X-BeenThere: test-report@dpdk.org X-Mailman-Version: 2.1.29 Precedence: list List-Id: automatic DPDK test reports List-Unsubscribe: , List-Archive: List-Post: List-Help: List-Subscribe: , Errors-To: test-report-bounces@dpdk.org _Testing PASS_ Branch: dpdk-next-net-intel 92cfb0fbf114ae88c74bf1cb48dcb1dbd043524f --> testing pass Upstream job id: Generic-DPDK-Compile-Meson#384464 Test environment and result as below: +----------------------------------------+--------------------+ | Environment | dpdk_meson_compile | +========================================+====================+ | RHEL9 (ARM) | PASS | +----------------------------------------+--------------------+ | Ubuntu 20.04 ARM GCC Cross Compile | PASS | +----------------------------------------+--------------------+ | Debian 12 with MUSDK | PASS | +----------------------------------------+--------------------+ | Ubuntu 20.04 ARM SVE | PASS | +----------------------------------------+--------------------+ | Fedora 40 (ARM Clang) | PASS | +----------------------------------------+--------------------+ | Fedora 40 (ARM) | PASS | +----------------------------------------+--------------------+ | Fedora 41 (ARM) | PASS | +----------------------------------------+--------------------+ | Fedora 41 (ARM Clang) | PASS | +----------------------------------------+--------------------+ | Ubuntu 20.04 (ARM) | PASS | +----------------------------------------+--------------------+ | Ubuntu 22.04 (ARM) | PASS | +----------------------------------------+--------------------+ | Ubuntu 24.04 (ARM) | PASS | +----------------------------------------+--------------------+ | CentOS Stream 9 (ARM) | PASS | +----------------------------------------+--------------------+ | Ubuntu 20.04 ARM Clang Cross Compile | PASS | +----------------------------------------+--------------------+ | Debian 12 (arm) | PASS | +----------------------------------------+--------------------+ | Ubuntu 20.04 aarch32 GCC Cross Compile | PASS | +----------------------------------------+--------------------+ | CentOS Stream 10 (ARM) | PASS | +----------------------------------------+--------------------+ RHEL9 (ARM) Kernel: Depends on container host Compiler: gcc 11.5.0 20240719 (Red Hat 11.5.0-2) Ubuntu 20.04 ARM GCC Cross Compile Kernel: Depends on container host Compiler: aarch64-linux-gnu-gcc (Ubuntu 9.4.0-1ubuntu1~20.04.2) 9.4.0 Debian 12 with MUSDK Kernel: Depends on container host Compiler: gcc (Debian 12.2.0-14) 12.2.0 Ubuntu 20.04 ARM SVE Kernel: Depends on container host Compiler: gcc (Ubuntu 10.5.0-1ubuntu1~20.04) 10.5.0 Fedora 40 (ARM Clang) Kernel: Depends on container host Compiler: clang 18.1.8 (Fedora 18.1.8-1.fc40) Fedora 40 (ARM) Kernel: Depends on container host Compiler: gcc 14.2.1 20240912 (Red Hat 14.2.1-3) Fedora 41 (ARM) Kernel: Depends on container host Compiler: gcc 14.2.1 20240912 (Red Hat 14.2.1-3) Fedora 41 (ARM Clang) Kernel: Depends on container host Compiler: clang 19.1.5 (Fedora 19.1.5-1.fc41) Ubuntu 20.04 (ARM) Kernel: Depends on container host Compiler: gcc (Ubuntu 9.4.0-1ubuntu1~20.04.2) 9.4.0 Ubuntu 22.04 (ARM) Kernel: Depends on container host Compiler: gcc (Ubuntu 11.4.0-1ubuntu1~22.04) 11.4.0 Ubuntu 24.04 (ARM) Kernel: Depends on container host Compiler: gcc (Ubuntu 13.3.0-6ubuntu2~24.04) 13.3.0 CentOS Stream 9 (ARM) Kernel: Depends on container host Compiler: gcc 11.5.0 20240719 (Red Hat 11.5.0-2) Ubuntu 20.04 ARM Clang Cross Compile Kernel: Depends on container host Compiler: clang 10.0.0-4ubuntu1 Debian 12 (arm) Kernel: Depends on container host Compiler: gcc (Debian 12.2.0-14) 12.2.0 Ubuntu 20.04 aarch32 GCC Cross Compile Kernel: Depends on container host Compiler: gcc 9.4.0 CentOS Stream 10 (ARM) Kernel: Depends on container host Compiler: gcc 14.2.1 20241104 (Red Hat 14.2.1-6) To view detailed results, visit: https://lab.dpdk.org/results/dashboard/tarballs/33411/ UNH-IOL DPDK Community Lab To manage your email subscriptions, visit: https://lab.dpdk.org/results/dashboard/preferences/subscriptions/