From mboxrd@z Thu Jan 1 00:00:00 1970 Return-Path: Received: from mails.dpdk.org (mails.dpdk.org [217.70.189.124]) by inbox.dpdk.org (Postfix) with ESMTP id 28E6D4669F for ; Fri, 2 May 2025 16:47:32 +0200 (CEST) Received: from mails.dpdk.org (localhost [127.0.0.1]) by mails.dpdk.org (Postfix) with ESMTP id 58202402A0; Fri, 2 May 2025 16:47:32 +0200 (CEST) Received: from mail-io1-f99.google.com (mail-io1-f99.google.com [209.85.166.99]) by mails.dpdk.org (Postfix) with ESMTP id 32F064029E for ; Fri, 2 May 2025 16:47:31 +0200 (CEST) Received: by mail-io1-f99.google.com with SMTP id ca18e2360f4ac-8644aa73dfcso75913339f.0 for ; Fri, 02 May 2025 07:47:31 -0700 (PDT) DKIM-Signature: v=1; a=rsa-sha256; c=relaxed/relaxed; d=iol.unh.edu; s=unh-iol; t=1746197250; x=1746802050; darn=dpdk.org; h=references:in-reply-to:cc:to:from:subject:message-id:date:from:to :cc:subject:date:message-id:reply-to; bh=c0Ys7rgLRoX8vKnIBL3H/jVzeI7rFRLHrTVw852pDlg=; b=dpGLcn2ccghu+/1759+whdMBaSLUDAyUiGeLQKjSIXnk09CHgGtAXDWdviJkOLfJRb zwV+IjrXCaR3RC4oM2odvrPIFcL7p9/R7zCBghCCqMIdU85D6fC5siriW6OUJPmTpL58 no9GPxEXCydhe1VtHS+nZCfgFB9ZergBprEMA= X-Google-DKIM-Signature: v=1; a=rsa-sha256; c=relaxed/relaxed; d=1e100.net; s=20230601; t=1746197250; x=1746802050; h=references:in-reply-to:cc:to:from:subject:message-id:date :x-gm-message-state:from:to:cc:subject:date:message-id:reply-to; bh=c0Ys7rgLRoX8vKnIBL3H/jVzeI7rFRLHrTVw852pDlg=; b=BNCNc6LqMRdSXx24nft8hsNGNp/8CYAIFq/rXQj10pBlMbO4nrW2a1WzesX7+lRock C8SfZCTrrYcso22ZBOjjBQ3RGFA58Xz1dQ9y3SMbpDJpD1UIwFV0LQyMzbTnlW/yAdY9 m5Jf80PKeKMGEyKCytj/p34/XwdE933rrKzbCsNoBGlj0qP1hZvr792OSzOuA+Xl9YVc oMELue1h/Y8sRvJL+zH20Z3Waigc/fkzyP/fc8avIrccHrV/0uBGD/cFtyVh2Oa3VA3s 2P7f1VzRC2qx2W/Xhwe6JDHQgdMiAg0nT+HXrsGVP83mtwgyddtidiwRC+ijEfdIUEw3 Ss4g== X-Gm-Message-State: AOJu0YznJTmcR3Re7dlv6Zhm2ioOqenuh9JP/j2GLDxztWh46ajOCmY3 38ud4sEQ7+mfA1msY/5NU+pBv0Hu5ERMPWbyhbr7Nn8gkfeiZ6WnAZSyj6qHOS7pCmVHoWMlIqS 6D0N4xtbxMpVCh79q+I91E0G0hZcCqsMgLHrSk0fv X-Gm-Gg: ASbGncuQKhbLDHLhIrADo/LwWtkJRQrVhzYqnxOmc8btS+ma0Alh76frsM0QlgcGt5t 1jyfUMmPvX8qTOwfrxbX+uHKraTd30yIRPF0nl2iYcDO1kZL5Jd9qiGjxFG0OpIa/AXKDCg1h0Y fxDzNSOgLXk9K7VC7niBc+tFbutp9zZi/oiceih/d+3/GT1Bcxy1tok5qJQCRoVpoq46cM3hK8C i4JGizjNlrUuDSRPqTe43GMiyiPZ2vArSRhoUUVycNJtvVm/gR7MLzlmaT/mSn9fBZVYyFmeH5x J3LjMtD7WzePSKyJX8pjMIOrVo7oFiRbCI81wELU/YLZ3yGNrdlG+YdtxnU= X-Google-Smtp-Source: AGHT+IGUjh/PCm7QlSVlUEKQjlJak3eHX3uts34pfWO/YPloeF6EkSJaczTuEOo+7+soWd5NGs3h9SO6kzB+ X-Received: by 2002:a05:6e02:164c:b0:3d0:2fcb:e7f with SMTP id e9e14a558f8ab-3d97be8be17mr27276555ab.0.1746197250356; Fri, 02 May 2025 07:47:30 -0700 (PDT) Received: from postal.iol.unh.edu (postal.iol.unh.edu. [132.177.123.84]) by smtp-relay.gmail.com with ESMTPS id 8926c6da1cb9f-4f88a8cf774sm372489173.13.2025.05.02.07.47.30 (version=TLS1_2 cipher=ECDHE-ECDSA-AES128-GCM-SHA256 bits=128/128); Fri, 02 May 2025 07:47:30 -0700 (PDT) X-Relaying-Domain: iol.unh.edu Date: Fri, 02 May 2025 07:47:30 -0700 (PDT) Message-ID: <6814db02.050a0220.10e4c4.471cSMTPIN_ADDED_MISSING@mx.google.com> Received: from [172.21.0.7] (unknown [172.18.0.240]) by postal.iol.unh.edu (Postfix) with ESMTP id D3C536052471; Fri, 2 May 2025 10:47:29 -0400 (EDT) Subject: |SUCCESS| pw153222 [PATCH] [v1] app/test-crypto-perf: remove decrypt From: dpdklab@iol.unh.edu To: Test Report Cc: dpdk-test-reports@iol.unh.edu In-Reply-To: <20250502101226.1405274-1-kai.ji@intel.com> References: <20250502101226.1405274-1-kai.ji@intel.com> Content-Type: text/plain X-BeenThere: test-report@dpdk.org X-Mailman-Version: 2.1.29 Precedence: list List-Id: automatic DPDK test reports List-Unsubscribe: , List-Archive: List-Post: List-Help: List-Subscribe: , Errors-To: test-report-bounces@dpdk.org Test-Label: iol-compile-arm64-testing Test-Status: SUCCESS http://dpdk.org/patch/153222 _Testing PASS_ Submitter: Kai Ji Date: Friday, May 02 2025 10:12:26 DPDK git baseline: Repo:dpdk Branch: master CommitID:ca1690ebd224f148268285b15b97441ccdbdd07e 153222 --> testing pass Upstream job id: Generic-DPDK-Compile-Meson#384440 Test environment and result as below: +----------------------------------------+--------------------+ | Environment | dpdk_meson_compile | +========================================+====================+ | RHEL9 (ARM) | PASS | +----------------------------------------+--------------------+ | Ubuntu 20.04 ARM GCC Cross Compile | PASS | +----------------------------------------+--------------------+ | Debian 12 with MUSDK | PASS | +----------------------------------------+--------------------+ | Ubuntu 20.04 ARM SVE | PASS | +----------------------------------------+--------------------+ | Fedora 40 (ARM Clang) | PASS | +----------------------------------------+--------------------+ | Fedora 41 (ARM) | PASS | +----------------------------------------+--------------------+ | Fedora 40 (ARM) | PASS | +----------------------------------------+--------------------+ | Ubuntu 20.04 (ARM) | PASS | +----------------------------------------+--------------------+ | Fedora 41 (ARM Clang) | PASS | +----------------------------------------+--------------------+ | Ubuntu 22.04 (ARM) | PASS | +----------------------------------------+--------------------+ | Ubuntu 24.04 (ARM) | PASS | +----------------------------------------+--------------------+ | CentOS Stream 9 (ARM) | PASS | +----------------------------------------+--------------------+ | CentOS Stream 10 (ARM) | PASS | +----------------------------------------+--------------------+ | Debian 12 (arm) | PASS | +----------------------------------------+--------------------+ | Ubuntu 20.04 ARM Clang Cross Compile | PASS | +----------------------------------------+--------------------+ | Ubuntu 20.04 aarch32 GCC Cross Compile | PASS | +----------------------------------------+--------------------+ RHEL9 (ARM) Kernel: Depends on container host Compiler: gcc 11.5.0 20240719 (Red Hat 11.5.0-2) Ubuntu 20.04 ARM GCC Cross Compile Kernel: Depends on container host Compiler: aarch64-linux-gnu-gcc (Ubuntu 9.4.0-1ubuntu1~20.04.2) 9.4.0 Debian 12 with MUSDK Kernel: Depends on container host Compiler: gcc (Debian 12.2.0-14) 12.2.0 Ubuntu 20.04 ARM SVE Kernel: Depends on container host Compiler: gcc (Ubuntu 10.5.0-1ubuntu1~20.04) 10.5.0 Fedora 40 (ARM Clang) Kernel: Depends on container host Compiler: clang 18.1.8 (Fedora 18.1.8-1.fc40) Fedora 41 (ARM) Kernel: Depends on container host Compiler: gcc 14.2.1 20240912 (Red Hat 14.2.1-3) Fedora 40 (ARM) Kernel: Depends on container host Compiler: gcc 14.2.1 20240912 (Red Hat 14.2.1-3) Ubuntu 20.04 (ARM) Kernel: Depends on container host Compiler: gcc (Ubuntu 9.4.0-1ubuntu1~20.04.2) 9.4.0 Fedora 41 (ARM Clang) Kernel: Depends on container host Compiler: clang 19.1.5 (Fedora 19.1.5-1.fc41) Ubuntu 22.04 (ARM) Kernel: Depends on container host Compiler: gcc (Ubuntu 11.4.0-1ubuntu1~22.04) 11.4.0 Ubuntu 24.04 (ARM) Kernel: Depends on container host Compiler: gcc (Ubuntu 13.3.0-6ubuntu2~24.04) 13.3.0 CentOS Stream 9 (ARM) Kernel: Depends on container host Compiler: gcc 11.5.0 20240719 (Red Hat 11.5.0-2) CentOS Stream 10 (ARM) Kernel: Depends on container host Compiler: gcc 14.2.1 20241104 (Red Hat 14.2.1-6) Debian 12 (arm) Kernel: Depends on container host Compiler: gcc (Debian 12.2.0-14) 12.2.0 Ubuntu 20.04 ARM Clang Cross Compile Kernel: Depends on container host Compiler: clang 10.0.0-4ubuntu1 Ubuntu 20.04 aarch32 GCC Cross Compile Kernel: Depends on container host Compiler: gcc 9.4.0 To view detailed results, visit: https://lab.dpdk.org/results/dashboard/patchsets/33095/ UNH-IOL DPDK Community Lab To manage your email subscriptions, visit: https://lab.dpdk.org/results/dashboard/preferences/subscriptions/