From mboxrd@z Thu Jan  1 00:00:00 1970
Return-Path: <test-report-bounces@dpdk.org>
Received: from mails.dpdk.org (mails.dpdk.org [217.70.189.124])
	by inbox.dpdk.org (Postfix) with ESMTP id 648574669F
	for <public@inbox.dpdk.org>; Fri,  2 May 2025 16:48:47 +0200 (CEST)
Received: from mails.dpdk.org (localhost [127.0.0.1])
	by mails.dpdk.org (Postfix) with ESMTP id 81E91402A0;
	Fri,  2 May 2025 16:48:46 +0200 (CEST)
Received: from mail-pl1-f228.google.com (mail-pl1-f228.google.com
 [209.85.214.228])
 by mails.dpdk.org (Postfix) with ESMTP id 3F4884029E
 for <test-report@dpdk.org>; Fri,  2 May 2025 16:48:45 +0200 (CEST)
Received: by mail-pl1-f228.google.com with SMTP id
 d9443c01a7336-22928d629faso21232115ad.3
 for <test-report@dpdk.org>; Fri, 02 May 2025 07:48:45 -0700 (PDT)
DKIM-Signature: v=1; a=rsa-sha256; c=relaxed/relaxed;
 d=iol.unh.edu; s=unh-iol; t=1746197324; x=1746802124; darn=dpdk.org;
 h=references:in-reply-to:cc:to:from:subject:message-id:date:from:to
 :cc:subject:date:message-id:reply-to;
 bh=qFOLTbLHSXBPyNxi4B58CzVuaZZ7e0DfBzrqom95cMY=;
 b=FIUut1O0hQJlAreKswBEms1An3lc7bFnWY/iWfWegDjVT2PIEjyvQR801nwCLX2ujY
 juJPuDHyVGp8+SIePyl2nTagozo7mEAOdwZz9uRvVTg4Rc4iIVekTfGq99TER9/oQwqz
 9lDKGCcO8MvikHEwmdIxUAzdfgSy6gTnxMyvg=
X-Google-DKIM-Signature: v=1; a=rsa-sha256; c=relaxed/relaxed;
 d=1e100.net; s=20230601; t=1746197324; x=1746802124;
 h=references:in-reply-to:cc:to:from:subject:message-id:date
 :x-gm-message-state:from:to:cc:subject:date:message-id:reply-to;
 bh=qFOLTbLHSXBPyNxi4B58CzVuaZZ7e0DfBzrqom95cMY=;
 b=G/rYBQ9w7MfHMAKt80QLxoubpvNEfVn3TnT83AybVWppoSJR0hDOrJ3b4aJ7ECu1px
 HfrTy8xWv2VdVhPCGYlKDl1Xg7VcNC9K2azjZvXcTiMgS67sbWAKPUHFzhKjlFwC6N7c
 mZQZUyJDuUJclvgdrtnetFgcNuDMEUfVst/uhOWiSGS+DfSD0lHl/UVt/o48l1AcrAKK
 4+IK3xPRmy0Hkwjyotmg4+sK29K5oLfCNvuObYVVyNftDqeG0XWO+ktYilla0NT5SOKY
 KPIsZeKLUbavYbgfD1lsokDOgPSAaUWOkPkxvx0cKcUW7/qHJv9v926yXauYi4/YnvzJ
 iYKQ==
X-Gm-Message-State: AOJu0YwcoShsROn04GcFInH9clEAfhU578Cf6GGSv3QRidh6cXr/2qYe
 FmkjDEgRn6SoyqrfFIswP22vHz79EetGktdMygz1rkOldnWzsP3zj9XD7uITA3X/YODHU3zcEXe
 mXWNREBp9H6u2RZ7l3K2RETnSQ+5S14hO1GEPMSHzU4hdjWaKf1tYVXM9
X-Gm-Gg: ASbGncsmPLu1Hwz6lbXNtaAk2HgfPEfgNgeG+ha2ywpFOYcGpdkYVmVVR21XnSkyMXc
 OCVrsig+IEsFh91vYCCXWZSSfkd1jev3KRvydB02y5QXXtRy45ABLiHUGHwhitz5NY7DfcXToD+
 1RM/yUPJW9W1WoaedxbuEl8bnNhVp7U81WZEbsj699RRuKoRlOrBiyrqgpvbNz63wdL3l2o0guk
 utdEKZMlfkaZhSjZjvMymdMXnGCL1OUhSb2UsBP0w5f+QnaOcxaA6rW88yTtaRRz+o56yZP4ZeH
 0A1DxadJWhia5Uydh5nazM2AMSEDrCwfwLsQ
X-Google-Smtp-Source: AGHT+IGQFnJr6/BHwNCPZqVTVpjZlDIBPjt8kMsvE+43u8FNQz28jGI1gd712g9NJH3wwsnZfcwYfoE67rc7
X-Received: by 2002:a17:903:2f91:b0:224:191d:8a87 with SMTP id
 d9443c01a7336-22e1034418bmr45664325ad.26.1746197324156; 
 Fri, 02 May 2025 07:48:44 -0700 (PDT)
Received: from postal.iol.unh.edu (postal.iol.unh.edu.
 [2606:4100:3880:1234::84]) by smtp-relay.gmail.com with ESMTPS id
 d9443c01a7336-22e150eaf5fsm964895ad.2.2025.05.02.07.48.44
 (version=TLS1_2 cipher=ECDHE-ECDSA-AES128-GCM-SHA256 bits=128/128);
 Fri, 02 May 2025 07:48:44 -0700 (PDT)
X-Relaying-Domain: iol.unh.edu
Date: Fri, 02 May 2025 07:48:44 -0700 (PDT)
Message-ID: <6814db4c.170a0220.2bcf27.1ec2SMTPIN_ADDED_MISSING@mx.google.com>
Received: from [172.21.0.7] (unknown [172.18.0.240])
 by postal.iol.unh.edu (Postfix) with ESMTP id 56BBA6052471;
 Fri,  2 May 2025 10:48:43 -0400 (EDT)
Subject: |SUCCESS| pw153223 [PATCH] [v1,1/1] app/testpmd: add sleep command
From: dpdklab@iol.unh.edu
To: Test Report <test-report@dpdk.org>
Cc: dpdk-test-reports@iol.unh.edu
In-Reply-To: <7ac1444b7d2d64dc467a22e7ac65cf3cc16246dc.1746188833.git.anatoly.burakov@intel.com>
References: <7ac1444b7d2d64dc467a22e7ac65cf3cc16246dc.1746188833.git.anatoly.burakov@intel.com>
Content-Type: text/plain
X-BeenThere: test-report@dpdk.org
X-Mailman-Version: 2.1.29
Precedence: list
List-Id: automatic DPDK test reports <test-report.dpdk.org>
List-Unsubscribe: <https://mails.dpdk.org/options/test-report>,
 <mailto:test-report-request@dpdk.org?subject=unsubscribe>
List-Archive: <http://mails.dpdk.org/archives/test-report/>
List-Post: <mailto:test-report@dpdk.org>
List-Help: <mailto:test-report-request@dpdk.org?subject=help>
List-Subscribe: <https://mails.dpdk.org/listinfo/test-report>,
 <mailto:test-report-request@dpdk.org?subject=subscribe>
Errors-To: test-report-bounces@dpdk.org

Test-Label: iol-sample-apps-testing
Test-Status: SUCCESS
http://dpdk.org/patch/153223

_Testing PASS_

Submitter: Burakov, Anatoly <anatoly.burakov@intel.com>
Date: Friday, May 02 2025 12:27:29 
DPDK git baseline: Repo:dpdk
  Branch: master
  CommitID:ff05ee3e3f8fb4ce958a2ce6461e8141aea959c6

153223 --> testing pass

Upstream job id: ACVP-FIPS-testing#9692

Test environment and result as below:

+--------------------+----------------------+----------------------+
|    Environment     | compressdev_zlib_pmd | dpdk_fips_validation |
+====================+======================+======================+
| Ubuntu 22.04 (ARM) | PASS                 | SKIPPED              |
+--------------------+----------------------+----------------------+
| Ubuntu 22.04       | PASS                 | SKIPPED              |
+--------------------+----------------------+----------------------+
| Ubuntu 20.04       | SKIPPED              | PASS                 |
+--------------------+----------------------+----------------------+


Ubuntu 22.04 (ARM)
	Kernel: 5.15.0-97-generic
	Compiler: gcc gcc (Ubuntu 11.4.0-1ubuntu1~22.04) 11.4.0

Ubuntu 22.04
	Kernel: 5.15.0-100-generic
	Compiler: gcc gcc (Ubuntu 11.4.0-1ubuntu1~22.04) 11.4.0

Ubuntu 20.04
	Kernel: Depends on container host
	Compiler: gcc (Ubuntu 9.4.0-1ubuntu1~20.04.2) 9.4.0

To view detailed results, visit:
https://lab.dpdk.org/results/dashboard/patchsets/33096/

UNH-IOL DPDK Community Lab

To manage your email subscriptions, visit: 
https://lab.dpdk.org/results/dashboard/preferences/subscriptions/