From mboxrd@z Thu Jan 1 00:00:00 1970 Return-Path: Received: from mails.dpdk.org (mails.dpdk.org [217.70.189.124]) by inbox.dpdk.org (Postfix) with ESMTP id 385634669F for ; Fri, 2 May 2025 17:16:45 +0200 (CEST) Received: from mails.dpdk.org (localhost [127.0.0.1]) by mails.dpdk.org (Postfix) with ESMTP id 34F464065F; Fri, 2 May 2025 17:16:45 +0200 (CEST) Received: from mail-pl1-f227.google.com (mail-pl1-f227.google.com [209.85.214.227]) by mails.dpdk.org (Postfix) with ESMTP id 08BE14029E for ; Fri, 2 May 2025 17:16:44 +0200 (CEST) Received: by mail-pl1-f227.google.com with SMTP id d9443c01a7336-22c33677183so25436955ad.2 for ; Fri, 02 May 2025 08:16:43 -0700 (PDT) DKIM-Signature: v=1; a=rsa-sha256; c=relaxed/relaxed; d=iol.unh.edu; s=unh-iol; t=1746199003; x=1746803803; darn=dpdk.org; h=references:in-reply-to:cc:to:from:subject:message-id:date:from:to :cc:subject:date:message-id:reply-to; bh=TEUzzMNhJnLeZdnHEa/G4+iKHBT6CZwZ9sbA9YfU/AE=; b=N5VpDPZc1rQFLWNGiRv+m+226b9hWcJR0N2pnsGR1qpN59jfkZ8z1uc2kfk4TUACGE rU9/6uNiyhc1yc2fAnDF07FM0clPZPCl1/eH7VXGSMXcmkV9FqS2G3dQ8jrrEl4Riyd8 GKswVwW+dhDX8fNEz8BR3ci/2NuutdTyFD+IE= X-Google-DKIM-Signature: v=1; a=rsa-sha256; c=relaxed/relaxed; d=1e100.net; s=20230601; t=1746199003; x=1746803803; h=references:in-reply-to:cc:to:from:subject:message-id:date :x-gm-message-state:from:to:cc:subject:date:message-id:reply-to; bh=TEUzzMNhJnLeZdnHEa/G4+iKHBT6CZwZ9sbA9YfU/AE=; b=BSX/epqwRFo61uApAGCUWhfdxWf81zsv1HSpNFie1//gYavln8a/Egf7DzKfhvNIgL CQpK+oLA60mDX6sKIeSt+F5zJMSt8tg/otOlZSyhjipe119j+JVEgWVpFDZ7Bkagr4aw /nyGR9k3M6EqaKpxZtPoFxWL+ezw0xMdn28tW/ikoDZVfj5GTuMcnu6EBZFIR7ZHbQ2S OVKM20bG4afSx05QuzJnb3OqAU7srqtus+iEkJ7L5X3gsIza8Qg1hpczmaKBMUZ4DFFH tblCoLPB2JnDKbGWxV7BjQ2YfiWHqGtTs7VdX7TfyHnQg69l/nGzDClUns8WibCBFheb L/SQ== X-Gm-Message-State: AOJu0YxVY3iXdxrqH3ybBH321mwOtejwCVk0ZFc/VMGfg0McMMPzd6HO RtYpafjxoxCOi5hrc3r2+NzDkRf+aIcZv1iYVo1g92DDLATFdjChU/w3KCnlUxIHljYPl4QPsah 9Pjoe20+BKE2TnW9kqZc9uwnesg6l6l9HUPX3qmqg5mBhSqPYu3nBJOdy X-Gm-Gg: ASbGnctmAtw+PJgYi+0F43DmSCVc2d5Ix0r+K6E80U1r48ghN20RH3xI5yC9dvbWeP4 0144relpX9zTae9IndZt+k7LdeIIWjuQp3R/EVHE4cblEDs2bAG4O75ikjeb/MPvQQuvTBmNAGH QFCBXMR3nqO8piqIj6gUg9/eHueftOhXZEa6fjgn9OIzkE21EidxJZJE/l/s5xQjn1PnB/zR5K1 rEzs3D3d9Uz4sMk3ZyIEJ9pgFOAPkR4toGao+oCWlGl9UveacJduyHeuEtCTbEutTtLIQr9eojs OkUcvw3hxlh9Qp2O/UHfmFCtOjUE+RqGgyo8 X-Google-Smtp-Source: AGHT+IEpIXDPUlIbYZ3eTnKyk94/p4apCeFwdoqvKEgZJIYUTb9aBPQeBDLjt2Y1atjNcpqZ9gOrS0C4m8Gf X-Received: by 2002:a17:902:cf0c:b0:21f:2ded:76ea with SMTP id d9443c01a7336-22e103b4341mr56190475ad.36.1746199003155; Fri, 02 May 2025 08:16:43 -0700 (PDT) Received: from postal.iol.unh.edu (postal.iol.unh.edu. [2606:4100:3880:1234::84]) by smtp-relay.gmail.com with ESMTPS id d9443c01a7336-22e151f2eebsm980445ad.69.2025.05.02.08.16.43 (version=TLS1_2 cipher=ECDHE-ECDSA-AES128-GCM-SHA256 bits=128/128); Fri, 02 May 2025 08:16:43 -0700 (PDT) X-Relaying-Domain: iol.unh.edu Date: Fri, 02 May 2025 08:16:43 -0700 (PDT) Message-ID: <6814e1db.170a0220.45be7.1fd5SMTPIN_ADDED_MISSING@mx.google.com> Received: from [172.17.0.2] (unknown [172.18.0.74]) by postal.iol.unh.edu (Postfix) with ESMTP id 48A696052471; Fri, 2 May 2025 11:16:42 -0400 (EDT) Subject: |SUCCESS| pw153223 [PATCH] [v1,1/1] app/testpmd: add sleep command From: dpdklab@iol.unh.edu To: Test Report Cc: dpdk-test-reports@iol.unh.edu In-Reply-To: <7ac1444b7d2d64dc467a22e7ac65cf3cc16246dc.1746188833.git.anatoly.burakov@intel.com> References: <7ac1444b7d2d64dc467a22e7ac65cf3cc16246dc.1746188833.git.anatoly.burakov@intel.com> Content-Type: text/plain X-BeenThere: test-report@dpdk.org X-Mailman-Version: 2.1.29 Precedence: list List-Id: automatic DPDK test reports List-Unsubscribe: , List-Archive: List-Post: List-Help: List-Subscribe: , Errors-To: test-report-bounces@dpdk.org Test-Label: iol-unit-amd64-testing Test-Status: SUCCESS http://dpdk.org/patch/153223 _Testing PASS_ Submitter: Burakov, Anatoly Date: Friday, May 02 2025 12:27:29 DPDK git baseline: Repo:dpdk Branch: master CommitID:ff05ee3e3f8fb4ce958a2ce6461e8141aea959c6 153223 --> testing pass Upstream job id: Generic-VM-Unit-Test-DPDK#28284 Test environment and result as below: +---------------------+----------------+ | Environment | dpdk_unit_test | +=====================+================+ | CentOS Stream 10 | PASS | +---------------------+----------------+ | CentOS Stream 9 | PASS | +---------------------+----------------+ | Fedora 40 (Clang) | PASS | +---------------------+----------------+ | Fedora 41 (Clang) | PASS | +---------------------+----------------+ | Debian 12 | PASS | +---------------------+----------------+ | Fedora 41 | PASS | +---------------------+----------------+ | RHEL8 | PASS | +---------------------+----------------+ | Fedora 40 | PASS | +---------------------+----------------+ | RHEL9 | PASS | +---------------------+----------------+ | Ubuntu 20.04 | PASS | +---------------------+----------------+ | Ubuntu 22.04 | PASS | +---------------------+----------------+ | Ubuntu 24.04 | PASS | +---------------------+----------------+ | Windows Server 2022 | PASS | +---------------------+----------------+ CentOS Stream 10 Kernel: Depends on container host Compiler: gcc 14.2.1 20241104 (Red Hat 14.2.1-6) CentOS Stream 9 Kernel: Depends on container host Compiler: gcc 11.5.0 20240719 (Red Hat 11.5.0-2) Fedora 40 (Clang) Kernel: Depends on container host Compiler: clang 18.1.8 (Fedora 18.1.8-1.fc40) Fedora 41 (Clang) Kernel: Depends on container host Compiler: clang 19.1.5 (Fedora 19.1.5-1.fc41) Debian 12 Kernel: Depends on container host Compiler: gcc (Debian 12.2.0-14) 12.2.0 Fedora 41 Kernel: Depends on container host Compiler: gcc 14.2.1 20240912 (Red Hat 14.2.1-3) RHEL8 Kernel: Depends on container host Compiler: gcc 8.5.0 20210514 (Red Hat 8.5.0-22) Fedora 40 Kernel: Depends on container host Compiler: gcc 14.2.1 20240912 (Red Hat 14.2.1-3) RHEL9 Kernel: Depends on container host Compiler: gcc 11.5.0 20240719 (Red Hat 11.5.0-2) Ubuntu 20.04 Kernel: Depends on container host Compiler: gcc (Ubuntu 9.4.0-1ubuntu1~20.04.2) 9.4.0 Ubuntu 22.04 Kernel: Depends on container host Compiler: gcc (Ubuntu 11.4.0-1ubuntu1~22.04) 11.4.0 Ubuntu 24.04 Kernel: Depends on container host Compiler: gcc (Ubuntu 13.3.0-6ubuntu2~24.04) 13.3.0 Windows Server 2022 Kernel: 10.0.20348.2031 Compiler: clang 15.0.7, gcc 14.1.0 (MinGW), and MSVC VS 19.39.33521 To view detailed results, visit: https://lab.dpdk.org/results/dashboard/patchsets/33096/ UNH-IOL DPDK Community Lab To manage your email subscriptions, visit: https://lab.dpdk.org/results/dashboard/preferences/subscriptions/