From mboxrd@z Thu Jan 1 00:00:00 1970 Return-Path: Received: from mails.dpdk.org (mails.dpdk.org [217.70.189.124]) by inbox.dpdk.org (Postfix) with ESMTP id 495624669F for ; Fri, 2 May 2025 17:16:47 +0200 (CEST) Received: from mails.dpdk.org (localhost [127.0.0.1]) by mails.dpdk.org (Postfix) with ESMTP id 453D4402A0; Fri, 2 May 2025 17:16:47 +0200 (CEST) Received: from mail-yw1-f227.google.com (mail-yw1-f227.google.com [209.85.128.227]) by mails.dpdk.org (Postfix) with ESMTP id 310FE4029E for ; Fri, 2 May 2025 17:16:45 +0200 (CEST) Received: by mail-yw1-f227.google.com with SMTP id 00721157ae682-6febbd3b75cso20778457b3.0 for ; Fri, 02 May 2025 08:16:45 -0700 (PDT) DKIM-Signature: v=1; a=rsa-sha256; c=relaxed/relaxed; d=iol.unh.edu; s=unh-iol; t=1746199004; x=1746803804; darn=dpdk.org; h=references:in-reply-to:cc:to:from:subject:message-id:date:from:to :cc:subject:date:message-id:reply-to; bh=37tHT1AOljRlPOxwlnTcwssGxhtgObnXMq3/54pFHuA=; b=B/oNWVqwc0J85awxSItzbg4gPEjjk9MJKiBMq+TfXUU3/IlBfWXFHtIj7jPDsdSrH0 heWOl66nNv6wHGAZKl/v0sKdb/scbADcEZwAFUaiOeteXYBgVtIOGlu3XWHaFHk5fPu4 c9Uu2GZiVTHO3t0hTOc99VvqGXts/62XLDyY4= X-Google-DKIM-Signature: v=1; a=rsa-sha256; c=relaxed/relaxed; d=1e100.net; s=20230601; t=1746199004; x=1746803804; h=references:in-reply-to:cc:to:from:subject:message-id:date :x-gm-message-state:from:to:cc:subject:date:message-id:reply-to; bh=37tHT1AOljRlPOxwlnTcwssGxhtgObnXMq3/54pFHuA=; b=OLPtWUSJdbQ30tF8XR1gRE2VrZhXgJW3H/XYXf5PjabrxPxd9qgA2EYQXlxARw+Kds XOgvhY0UskvL0gtjzPiEDOCsygZJC0oMwoh6PSLg2SCC0aVQaAr0KPvtx5eO2KRfjySC sfsVEDlwbO2TjSxMMcgI1zCdemQCNLs3BdvYCpklRjrUEyPdOEO81MnvINM7d+IRzzit 2HHlo8wrF5e5HdOsHktNKNFu4j8sUol2UQfajS2VWyHBYz2mPiXEh+5kIe8Ha8qOG8/g kHJC0i84RqFA+RS+GDHW/rC8bYYIfFhpKFs+6xTu3J4FXnU0DKLNrjZO4WwoxKPB9HGY JJBA== X-Gm-Message-State: AOJu0YyVhlBX9Ua+PQcdaAR8MFuYquEArb0KQ16FaUVjELQI0Fvd5Bkf LmVgWdh64AZVh+j6/xv0wTyEyvKmS0p8+uI2UodLfYAloXaCfqmIA729zfud36XNIx9lrua7yvh d5tQnTzwBHUY1Nlh0Ijwy52h0U1ldUGi7JkSN/3zSd6HmoJU/5t8OmpjL X-Gm-Gg: ASbGnctqbmTvbxlZakIpYC69O8ewrflGt7FSfLqT9v7YrF0htbE0WO0fgvqW8XZvESR IVL5guqb1tL6nwrC+GTBCy7vgwjAACmTHM1wczqGTemjhDnqCly+qcMQWIBgIiHBm1Cs4b9bEOE V/KyPw7dR9a1RoR6gwdEs3jLqJ4x03KnVk72Xky5MkzeEczhTAqxKVazQz+WF7JAOUKnmL7V/KZ tTZR8uP/23pkOREfAEyi5sZbvcu8POqwVqqjwNzDzjdJOJPh5D1LP4cqLVWA5OKVqfAuNRpjkHc CXoddprRx+dOtFy7MHQNNNNSP2s+iyNFR7U+ X-Google-Smtp-Source: AGHT+IGdOj3Iqr7IuOJ0Vz+j+M7Yvp4tDE457KYJb7ZVwhC1rOgAwNOQX/F1H9QM0/3SC+c/WaAWLMHrW07s X-Received: by 2002:a05:690c:d1b:b0:6fb:1f78:d9ee with SMTP id 00721157ae682-708ced3e997mr47049577b3.15.1746199004539; Fri, 02 May 2025 08:16:44 -0700 (PDT) Received: from postal.iol.unh.edu (postal.iol.unh.edu. [2606:4100:3880:1234::84]) by smtp-relay.gmail.com with ESMTPS id 00721157ae682-708c46b8d80sm5629357b3.50.2025.05.02.08.16.44 (version=TLS1_2 cipher=ECDHE-ECDSA-AES128-GCM-SHA256 bits=128/128); Fri, 02 May 2025 08:16:44 -0700 (PDT) X-Relaying-Domain: iol.unh.edu Date: Fri, 02 May 2025 08:16:44 -0700 (PDT) Message-ID: <6814e1dc.050a0220.21c36.5268SMTPIN_ADDED_MISSING@mx.google.com> Received: from [172.17.0.4] (unknown [172.18.0.74]) by postal.iol.unh.edu (Postfix) with ESMTP id 319256052471; Fri, 2 May 2025 11:16:44 -0400 (EDT) Subject: |SUCCESS| pw153223 [PATCH] [v1,1/1] app/testpmd: add sleep command From: dpdklab@iol.unh.edu To: Test Report Cc: dpdk-test-reports@iol.unh.edu In-Reply-To: <7ac1444b7d2d64dc467a22e7ac65cf3cc16246dc.1746188833.git.anatoly.burakov@intel.com> References: <7ac1444b7d2d64dc467a22e7ac65cf3cc16246dc.1746188833.git.anatoly.burakov@intel.com> Content-Type: text/plain X-BeenThere: test-report@dpdk.org X-Mailman-Version: 2.1.29 Precedence: list List-Id: automatic DPDK test reports List-Unsubscribe: , List-Archive: List-Post: List-Help: List-Subscribe: , Errors-To: test-report-bounces@dpdk.org Test-Label: iol-unit-arm64-testing Test-Status: SUCCESS http://dpdk.org/patch/153223 _Testing PASS_ Submitter: Burakov, Anatoly Date: Friday, May 02 2025 12:27:29 DPDK git baseline: Repo:dpdk Branch: master CommitID:ff05ee3e3f8fb4ce958a2ce6461e8141aea959c6 153223 --> testing pass Upstream job id: Generic-Unit-Test-DPDK#334843 Test environment and result as below: +-----------------------------+----------------+---------------------------+------------------------------+--------------+ | Environment | dpdk_unit_test | cryptodev_sw_zuc_autotest | cryptodev_sw_snow3g_autotest | lpm_autotest | +=============================+================+===========================+==============================+==============+ | CentOS Stream 9 (ARM) | PASS | SKIPPED | SKIPPED | SKIPPED | +-----------------------------+----------------+---------------------------+------------------------------+--------------+ | CentOS Stream 10 (ARM) | PASS | SKIPPED | SKIPPED | SKIPPED | +-----------------------------+----------------+---------------------------+------------------------------+--------------+ | RHEL9 (ARM) | PASS | SKIPPED | SKIPPED | SKIPPED | +-----------------------------+----------------+---------------------------+------------------------------+--------------+ | Fedora 40 (ARM) | PASS | SKIPPED | SKIPPED | SKIPPED | +-----------------------------+----------------+---------------------------+------------------------------+--------------+ | Debian 12 (arm) | PASS | PASS | PASS | SKIPPED | +-----------------------------+----------------+---------------------------+------------------------------+--------------+ | Fedora 41 (ARM Clang) | PASS | SKIPPED | SKIPPED | SKIPPED | +-----------------------------+----------------+---------------------------+------------------------------+--------------+ | Fedora 41 (ARM) | PASS | SKIPPED | SKIPPED | SKIPPED | +-----------------------------+----------------+---------------------------+------------------------------+--------------+ | Fedora 40 (ARM Clang) | PASS | SKIPPED | SKIPPED | SKIPPED | +-----------------------------+----------------+---------------------------+------------------------------+--------------+ | Ubuntu 20.04 (ARM) | PASS | SKIPPED | SKIPPED | SKIPPED | +-----------------------------+----------------+---------------------------+------------------------------+--------------+ | Ubuntu 22.04 (ARM) | PASS | SKIPPED | SKIPPED | SKIPPED | +-----------------------------+----------------+---------------------------+------------------------------+--------------+ | Ubuntu 24.04 (ARM) | PASS | SKIPPED | SKIPPED | SKIPPED | +-----------------------------+----------------+---------------------------+------------------------------+--------------+ | 32-bit Ubuntu 22.04.4 (ARM) | PASS | SKIPPED | SKIPPED | SKIPPED | +-----------------------------+----------------+---------------------------+------------------------------+--------------+ | Ubuntu 20.04 ARM SVE | SKIPPED | SKIPPED | SKIPPED | PASS | +-----------------------------+----------------+---------------------------+------------------------------+--------------+ CentOS Stream 9 (ARM) Kernel: Depends on container host Compiler: gcc 11.5.0 20240719 (Red Hat 11.5.0-2) CentOS Stream 10 (ARM) Kernel: Depends on container host Compiler: gcc 14.2.1 20241104 (Red Hat 14.2.1-6) RHEL9 (ARM) Kernel: Depends on container host Compiler: gcc 11.5.0 20240719 (Red Hat 11.5.0-2) Fedora 40 (ARM) Kernel: Depends on container host Compiler: gcc 14.2.1 20240912 (Red Hat 14.2.1-3) Debian 12 (arm) Kernel: Depends on container host Compiler: gcc (Debian 12.2.0-14) 12.2.0 Fedora 41 (ARM Clang) Kernel: Depends on container host Compiler: clang 19.1.5 (Fedora 19.1.5-1.fc41) Fedora 41 (ARM) Kernel: Depends on container host Compiler: gcc 14.2.1 20240912 (Red Hat 14.2.1-3) Fedora 40 (ARM Clang) Kernel: Depends on container host Compiler: clang 18.1.8 (Fedora 18.1.8-1.fc40) Ubuntu 20.04 (ARM) Kernel: Depends on container host Compiler: gcc (Ubuntu 9.4.0-1ubuntu1~20.04.2) 9.4.0 Ubuntu 22.04 (ARM) Kernel: Depends on container host Compiler: gcc (Ubuntu 11.4.0-1ubuntu1~22.04) 11.4.0 Ubuntu 24.04 (ARM) Kernel: Depends on container host Compiler: gcc (Ubuntu 13.3.0-6ubuntu2~24.04) 13.3.0 32-bit Ubuntu 22.04.4 (ARM) Kernel: 5.15.83+ aarch64 Compiler: gcc (Ubuntu 11.4.0-1ubuntu1~22.04) 11.4.0 Ubuntu 20.04 ARM SVE Kernel: Depends on container host Compiler: gcc (Ubuntu 10.5.0-1ubuntu1~20.04) 10.5.0 To view detailed results, visit: https://lab.dpdk.org/results/dashboard/patchsets/33096/ UNH-IOL DPDK Community Lab To manage your email subscriptions, visit: https://lab.dpdk.org/results/dashboard/preferences/subscriptions/