From mboxrd@z Thu Jan 1 00:00:00 1970 Return-Path: Received: from mails.dpdk.org (mails.dpdk.org [217.70.189.124]) by inbox.dpdk.org (Postfix) with ESMTP id 4ACF54669F for ; Fri, 2 May 2025 17:36:12 +0200 (CEST) Received: from mails.dpdk.org (localhost [127.0.0.1]) by mails.dpdk.org (Postfix) with ESMTP id 474FF4066F; Fri, 2 May 2025 17:36:12 +0200 (CEST) Received: from mail-io1-f100.google.com (mail-io1-f100.google.com [209.85.166.100]) by mails.dpdk.org (Postfix) with ESMTP id 65CC0402F0 for ; Fri, 2 May 2025 17:36:11 +0200 (CEST) Received: by mail-io1-f100.google.com with SMTP id ca18e2360f4ac-861b1f04b99so88635439f.0 for ; Fri, 02 May 2025 08:36:11 -0700 (PDT) DKIM-Signature: v=1; a=rsa-sha256; c=relaxed/relaxed; d=iol.unh.edu; s=unh-iol; t=1746200171; x=1746804971; darn=dpdk.org; h=references:in-reply-to:cc:to:from:subject:message-id:date:from:to :cc:subject:date:message-id:reply-to; bh=RuuKXiWbQB+v1FbgE5enolunRfyk7YOMmIBH0LTNICo=; b=SAAlz7UcRBLOE1QyPpfgX4a0XwSwdYazSt11Q/9K6iP7YxWKVthhppwHGNV5+NbwnX 9NtcWZLXl/w5sRAlXNXWVpvVtMpzRKWYgh0/cwTmbU00rw43xhzPVCAxtdCwSX2TB5MV OuPSeAvURLd5id1qEs7LmhdGWMMoRB7iRlA78= X-Google-DKIM-Signature: v=1; a=rsa-sha256; c=relaxed/relaxed; d=1e100.net; s=20230601; t=1746200171; x=1746804971; h=references:in-reply-to:cc:to:from:subject:message-id:date :x-gm-message-state:from:to:cc:subject:date:message-id:reply-to; bh=RuuKXiWbQB+v1FbgE5enolunRfyk7YOMmIBH0LTNICo=; b=W/OYw8jtQWBQ8WzEWR9Rlg+MvkdWG6q5OgRhZjGHp3C+HfIMDuc95iPJ6T2T6SZkCX F3ozZF+0/9Wd4MWPC6JCE+tUFO9SB7j9h/d8zBBiN0J/iHZSwfieapRQflMtvm36gX0G aF5pd3hAhZpdhhgnoul+xaRiOEkZZF4mkHUNB6mbde5SwudVreGhN64dHyU94NmVC4FR p4FXVDG/Y/+AOcItExn67lzMzWq3kvmu2CeDdhHRFrfZfXhb/loXyOfXf0SpTUUsdrTl Jnfdik6nMskBH1/jbYLdCIVd1CRg10O9lqGFZwPWPUieBRzFX9UCMNr+HF0J2h5DiFjt GoQA== X-Gm-Message-State: AOJu0YxKWZgi4doAbTb7549TzUQeORX1Gwuhnwo930rADDVUNeiPft4Z yYkl+Xl2i2Alr/HnWpvaec6gPBOQ3s6Fqq35kXe1iPUlGbzJHPzs8YX/yjiK/xyzt2OVSbCPAgT kBYA3SxhK47JAboUC9qJTH3LCGDC6CSx95q0VklRk X-Gm-Gg: ASbGncvBEATY5jO0Uzd29V99pVc8VMxpEnDwpZ09v9aBzgJefA+QGhLTXYeP1PIeb3f 3/VI2dt2Uit7jMphnnXY6uDqSgcyT1Axa70iqpGiMH75quEED39z14U5TTxmy6EZFuBIdUpDkm8 iyX+aTY1HiEh+ndPXWrxkBPE6Rdr3CeB7iJVhwJjgTJmqvKeoMD5xbJYVhGOxi0RbzG7QEoxUpr IFTXkM04+4U8648dXMCfv8+rOs3v68NJYBxX+Yyws0diYUPNYkHwrfLrjVuNFqPS0Iz4Jr1/y6Q D5sXjsAnbSJb1nYSyfqE4sJ1sGLFHtunpEAsL/GYHjL7WhBGGsjtuU20uBE= X-Google-Smtp-Source: AGHT+IHsJ6yrTjQoR0a9BVEwl60WE/HE4g0gsvWRCoVyYs9dBdRTRQUZt+jW5Xmr8G7gcc2b1kM8x0bKzXEh X-Received: by 2002:a05:6e02:1a8f:b0:3d8:1a87:89ce with SMTP id e9e14a558f8ab-3d97c147d40mr37693595ab.3.1746200170753; Fri, 02 May 2025 08:36:10 -0700 (PDT) Received: from postal.iol.unh.edu (postal.iol.unh.edu. [132.177.123.84]) by smtp-relay.gmail.com with ESMTPS id e9e14a558f8ab-3d975f6d6f7sm6170685ab.48.2025.05.02.08.36.10 (version=TLS1_2 cipher=ECDHE-ECDSA-AES128-GCM-SHA256 bits=128/128); Fri, 02 May 2025 08:36:10 -0700 (PDT) X-Relaying-Domain: iol.unh.edu Date: Fri, 02 May 2025 08:36:10 -0700 (PDT) Message-ID: <6814e66a.050a0220.216037.6f20SMTPIN_ADDED_MISSING@mx.google.com> Received: from [172.17.0.2] (unknown [172.18.0.74]) by postal.iol.unh.edu (Postfix) with ESMTP id 33A686052471; Fri, 2 May 2025 11:36:10 -0400 (EDT) Subject: |SUCCESS| pw153223 [PATCH] [v1,1/1] app/testpmd: add sleep command From: dpdklab@iol.unh.edu To: Test Report Cc: dpdk-test-reports@iol.unh.edu In-Reply-To: <7ac1444b7d2d64dc467a22e7ac65cf3cc16246dc.1746188833.git.anatoly.burakov@intel.com> References: <7ac1444b7d2d64dc467a22e7ac65cf3cc16246dc.1746188833.git.anatoly.burakov@intel.com> Content-Type: text/plain X-BeenThere: test-report@dpdk.org X-Mailman-Version: 2.1.29 Precedence: list List-Id: automatic DPDK test reports List-Unsubscribe: , List-Archive: List-Post: List-Help: List-Subscribe: , Errors-To: test-report-bounces@dpdk.org Test-Label: iol-compile-amd64-testing Test-Status: SUCCESS http://dpdk.org/patch/153223 _Testing PASS_ Submitter: Burakov, Anatoly Date: Friday, May 02 2025 12:27:29 DPDK git baseline: Repo:dpdk Branch: master CommitID:ff05ee3e3f8fb4ce958a2ce6461e8141aea959c6 153223 --> testing pass Upstream job id: Generic-DPDK-Compile-Meson#384481 Test environment and result as below: +-----------------------------------+--------------------+-------------------+------------------+-------------------------+-------------------+----------------------+ | Environment | dpdk_meson_compile | dpdk_compile_spdk | dpdk_compile_ovs | dpdk_llvm_clang_compile | dpdk_msvc_compile | dpdk_mingw64_compile | +===================================+====================+===================+==================+=========================+===================+======================+ | CentOS Stream 9 | PASS | PASS | SKIPPED | SKIPPED | SKIPPED | SKIPPED | +-----------------------------------+--------------------+-------------------+------------------+-------------------------+-------------------+----------------------+ | CentOS Stream 10 | PASS | SKIPPED | SKIPPED | SKIPPED | SKIPPED | SKIPPED | +-----------------------------------+--------------------+-------------------+------------------+-------------------------+-------------------+----------------------+ | Fedora 41 (Clang) | PASS | PASS | PASS | SKIPPED | SKIPPED | SKIPPED | +-----------------------------------+--------------------+-------------------+------------------+-------------------------+-------------------+----------------------+ | Fedora 40 (Clang) | PASS | PASS | SKIPPED | SKIPPED | SKIPPED | SKIPPED | +-----------------------------------+--------------------+-------------------+------------------+-------------------------+-------------------+----------------------+ | Fedora 41 | PASS | PASS | PASS | SKIPPED | SKIPPED | SKIPPED | +-----------------------------------+--------------------+-------------------+------------------+-------------------------+-------------------+----------------------+ | Debian 12 | PASS | PASS | SKIPPED | SKIPPED | SKIPPED | SKIPPED | +-----------------------------------+--------------------+-------------------+------------------+-------------------------+-------------------+----------------------+ | openSUSE Leap 15 | PASS | SKIPPED | SKIPPED | SKIPPED | SKIPPED | SKIPPED | +-----------------------------------+--------------------+-------------------+------------------+-------------------------+-------------------+----------------------+ | RHEL9 | PASS | SKIPPED | SKIPPED | SKIPPED | SKIPPED | SKIPPED | +-----------------------------------+--------------------+-------------------+------------------+-------------------------+-------------------+----------------------+ | Ubuntu 20.04 | PASS | SKIPPED | SKIPPED | SKIPPED | SKIPPED | SKIPPED | +-----------------------------------+--------------------+-------------------+------------------+-------------------------+-------------------+----------------------+ | Ubuntu 24.04 | PASS | PASS | PASS | SKIPPED | SKIPPED | SKIPPED | +-----------------------------------+--------------------+-------------------+------------------+-------------------------+-------------------+----------------------+ | Ubuntu 24.04 32 Bit Cross Compile | PASS | SKIPPED | SKIPPED | SKIPPED | SKIPPED | SKIPPED | +-----------------------------------+--------------------+-------------------+------------------+-------------------------+-------------------+----------------------+ | Alpine | PASS | SKIPPED | SKIPPED | SKIPPED | SKIPPED | SKIPPED | +-----------------------------------+--------------------+-------------------+------------------+-------------------------+-------------------+----------------------+ | FreeBSD 13.5 | PASS | SKIPPED | SKIPPED | SKIPPED | SKIPPED | SKIPPED | +-----------------------------------+--------------------+-------------------+------------------+-------------------------+-------------------+----------------------+ | RHEL8 | PASS | SKIPPED | SKIPPED | SKIPPED | SKIPPED | SKIPPED | +-----------------------------------+--------------------+-------------------+------------------+-------------------------+-------------------+----------------------+ | Ubuntu 22.04 | PASS | PASS | SKIPPED | SKIPPED | SKIPPED | SKIPPED | +-----------------------------------+--------------------+-------------------+------------------+-------------------------+-------------------+----------------------+ | Windows Server 2022 | SKIPPED | SKIPPED | SKIPPED | PASS | PASS | PASS | +-----------------------------------+--------------------+-------------------+------------------+-------------------------+-------------------+----------------------+ CentOS Stream 9 Kernel: Depends on container host Compiler: gcc 11.5.0 20240719 (Red Hat 11.5.0-2) CentOS Stream 10 Kernel: Depends on container host Compiler: gcc 14.2.1 20241104 (Red Hat 14.2.1-6) Fedora 41 (Clang) Kernel: Depends on container host Compiler: clang 19.1.5 (Fedora 19.1.5-1.fc41) Fedora 40 (Clang) Kernel: Depends on container host Compiler: clang 18.1.8 (Fedora 18.1.8-1.fc40) Fedora 41 Kernel: Depends on container host Compiler: gcc 14.2.1 20240912 (Red Hat 14.2.1-3) Debian 12 Kernel: Depends on container host Compiler: gcc (Debian 12.2.0-14) 12.2.0 openSUSE Leap 15 Kernel: Depends on container host Compiler: gcc (SUSE Linux) 7.5.0 RHEL9 Kernel: Depends on container host Compiler: gcc 11.5.0 20240719 (Red Hat 11.5.0-2) Ubuntu 20.04 Kernel: Depends on container host Compiler: gcc (Ubuntu 9.4.0-1ubuntu1~20.04.2) 9.4.0 Ubuntu 24.04 Kernel: Depends on container host Compiler: gcc (Ubuntu 13.3.0-6ubuntu2~24.04) 13.3.0 Ubuntu 24.04 32 Bit Cross Compile Kernel: Depends on container host Compiler: gcc (Ubuntu 13.3.0-6ubuntu2~24.04) 13.3.0 Alpine Kernel: Depends on container host Compiler: gcc (Alpine 14.2.0) 14.2.0 FreeBSD 13.5 Kernel: 13.5-RELEASE Compiler: clang 19.1.7 RHEL8 Kernel: Depends on container host Compiler: gcc 8.5.0 20210514 (Red Hat 8.5.0-22) Ubuntu 22.04 Kernel: Depends on container host Compiler: gcc (Ubuntu 11.4.0-1ubuntu1~22.04) 11.4.0 Windows Server 2022 Kernel: 10.0.20348.2031 Compiler: clang 15.0.7, gcc 14.1.0 (MinGW), and MSVC VS 19.39.33521 To view detailed results, visit: https://lab.dpdk.org/results/dashboard/patchsets/33096/ UNH-IOL DPDK Community Lab To manage your email subscriptions, visit: https://lab.dpdk.org/results/dashboard/preferences/subscriptions/