From mboxrd@z Thu Jan 1 00:00:00 1970 Return-Path: Received: from mails.dpdk.org (mails.dpdk.org [217.70.189.124]) by inbox.dpdk.org (Postfix) with ESMTP id C7DDD466A0 for ; Fri, 2 May 2025 18:25:34 +0200 (CEST) Received: from mails.dpdk.org (localhost [127.0.0.1]) by mails.dpdk.org (Postfix) with ESMTP id 2C4E3402F0; Fri, 2 May 2025 18:25:33 +0200 (CEST) Received: from mail-io1-f98.google.com (mail-io1-f98.google.com [209.85.166.98]) by mails.dpdk.org (Postfix) with ESMTP id 99232402E6 for ; Fri, 2 May 2025 18:25:31 +0200 (CEST) Received: by mail-io1-f98.google.com with SMTP id ca18e2360f4ac-85e15dc801aso207314939f.2 for ; Fri, 02 May 2025 09:25:31 -0700 (PDT) DKIM-Signature: v=1; a=rsa-sha256; c=relaxed/relaxed; d=iol.unh.edu; s=unh-iol; t=1746203131; x=1746807931; darn=dpdk.org; h=references:in-reply-to:cc:to:from:subject:message-id:date:from:to :cc:subject:date:message-id:reply-to; bh=Zy2/tSdqQkWAsLrLfwB5qRIa1azN3z6ddMaU3/ajsRs=; b=HytSwa6vJP5YqD5FFOM5RgelHCeIoUsxxgWZ1GRiJa1dHeJyxGNxqUbjuNqWU5IpaH 3o4QSO82+kQfxLCnW2jC3j9Hr2WnuYWpnRG4DHQXRi71XEUMqGfPv31PrjSRhblPeo6Y ROyXUFdxdkFyLQ7joW4AA7TNWVRdJl83DY/O0= X-Google-DKIM-Signature: v=1; a=rsa-sha256; c=relaxed/relaxed; d=1e100.net; s=20230601; t=1746203131; x=1746807931; h=references:in-reply-to:cc:to:from:subject:message-id:date :x-gm-message-state:from:to:cc:subject:date:message-id:reply-to; bh=Zy2/tSdqQkWAsLrLfwB5qRIa1azN3z6ddMaU3/ajsRs=; b=JTrS5xpGqtwRP8sohwNXa9t56uu9PrlEe+3UDYo9TsK0HTcb+jVOajTNCJYGvihAyw 4Yfk9KwegcUCUuDwICtOQRYiJO+qn815gSaPVoYLCOWS96LWokKaoquvsczMd6QNG9QD DdXF0sGuVhE+h1FDYsvp8ZyaJStZhq4iQBV2ivVyme8nxWJH7fHmns8tCDgpsCUJfBYO vIMRmYmHq400wqYN+pvbod4/ZPfiCRgFEduSPHpwLJB69oqXs+77rjtruKA+rVfaGX9u 97+jh6SSqenEE3mOOVsej9FGZLaJnOs6kryLyoZ/bWdm0xxaOU5G463UbDK813TeHtBs FOGQ== X-Gm-Message-State: AOJu0YzUaM598CSquDcmc8CrQ27lbCn7SefoO0S9hBO7ep7uXRQ+f9fC +0Rt3gsrC1AxC/iFDukBHnyxaykOLKtOliHmx3q+763/ZoPQJ5A/WlVWP4Rm8IzS9ZqcjrzBtHN TQcbOxUOvlyT4+HWOqQnP/sxfyWiMvkXRu5XtLB81JczLbkuaJUqD1VQn X-Gm-Gg: ASbGncshatqO2wGToxI+l3Fq0+SPl+PhSLhgqmM3rzSCDTbRmHg0LvEX5v23oUVhbq8 0fDoLR+BjBYPAy8PKsGL6akUrXWQlMkuyE/XeHkVp7OXmu7UdD7rFsoiGjZcy7fVbc4ObJ0UhX+ zXIL3brNyYFupYLEa0FB34eYBd5LCSKncKZr1zQsvoKgAAw9/FoRsBgoNU3kFGhX3kp/QjCHhb2 B9rOGIYcd8dbDOYUgdlB0ki9s1RWMzYfsEXSROJYK7DRpdbjlCpSc+ccFQ5Fd+na3q3k8vYkj+b d7MOseMdocdspH6Ce0zfqoUCwY8U+soAKbgl X-Google-Smtp-Source: AGHT+IHXVgGjI4XYD+dt3AQ8l2EL166PsPZmLnS+P8L8eLpZvSgBJXEvQa52xjlNhxpuV4RCH8YWTL3ADY7J X-Received: by 2002:a05:6e02:178f:b0:3d5:8103:1a77 with SMTP id e9e14a558f8ab-3d97c158b39mr40094355ab.1.1746203130882; Fri, 02 May 2025 09:25:30 -0700 (PDT) Received: from postal.iol.unh.edu (postal.iol.unh.edu. [2606:4100:3880:1234::84]) by smtp-relay.gmail.com with ESMTPS id 8926c6da1cb9f-4f88a8cda2fsm363741173.14.2025.05.02.09.25.30 (version=TLS1_2 cipher=ECDHE-ECDSA-AES128-GCM-SHA256 bits=128/128); Fri, 02 May 2025 09:25:30 -0700 (PDT) X-Relaying-Domain: iol.unh.edu Date: Fri, 02 May 2025 09:25:30 -0700 (PDT) Message-ID: <6814f1fa.050a0220.2ae321.4e6dSMTPIN_ADDED_MISSING@mx.google.com> Received: from [172.17.0.3] (unknown [172.18.0.74]) by postal.iol.unh.edu (Postfix) with ESMTP id 6137A6052471; Fri, 2 May 2025 12:25:30 -0400 (EDT) Subject: |SUCCESS| pw153224-153227 [PATCH] [v3,4/4] eal: add option for auto- From: dpdklab@iol.unh.edu To: Test Report Cc: dpdk-test-reports@iol.unh.edu In-Reply-To: <20250502151134.536799-5-bruce.richardson@intel.com> References: <20250502151134.536799-5-bruce.richardson@intel.com> Content-Type: text/plain X-BeenThere: test-report@dpdk.org X-Mailman-Version: 2.1.29 Precedence: list List-Id: automatic DPDK test reports List-Unsubscribe: , List-Archive: List-Post: List-Help: List-Subscribe: , Errors-To: test-report-bounces@dpdk.org Test-Label: iol-unit-amd64-testing Test-Status: SUCCESS http://dpdk.org/patch/153227 _Testing PASS_ Submitter: Bruce Richardson Date: Friday, May 02 2025 15:11:34 DPDK git baseline: Repo:dpdk Branch: master CommitID:ca1690ebd224f148268285b15b97441ccdbdd07e 153224-153227 --> testing pass Upstream job id: Generic-Unit-Test-DPDK#334866 Test environment and result as below: +---------------------+----------------+ | Environment | dpdk_unit_test | +=====================+================+ | CentOS Stream 9 | PASS | +---------------------+----------------+ | CentOS Stream 10 | PASS | +---------------------+----------------+ | Fedora 41 | PASS | +---------------------+----------------+ | Fedora 40 (Clang) | PASS | +---------------------+----------------+ | Fedora 40 | PASS | +---------------------+----------------+ | Fedora 41 (Clang) | PASS | +---------------------+----------------+ | Ubuntu 20.04 | PASS | +---------------------+----------------+ | Debian 12 | PASS | +---------------------+----------------+ | Ubuntu 22.04 | PASS | +---------------------+----------------+ | RHEL8 | PASS | +---------------------+----------------+ | RHEL9 | PASS | +---------------------+----------------+ | Ubuntu 24.04 | PASS | +---------------------+----------------+ | Windows Server 2022 | PASS | +---------------------+----------------+ CentOS Stream 9 Kernel: Depends on container host Compiler: gcc 11.5.0 20240719 (Red Hat 11.5.0-2) CentOS Stream 10 Kernel: Depends on container host Compiler: gcc 14.2.1 20241104 (Red Hat 14.2.1-6) Fedora 41 Kernel: Depends on container host Compiler: gcc 14.2.1 20240912 (Red Hat 14.2.1-3) Fedora 40 (Clang) Kernel: Depends on container host Compiler: clang 18.1.8 (Fedora 18.1.8-1.fc40) Fedora 40 Kernel: Depends on container host Compiler: gcc 14.2.1 20240912 (Red Hat 14.2.1-3) Fedora 41 (Clang) Kernel: Depends on container host Compiler: clang 19.1.5 (Fedora 19.1.5-1.fc41) Ubuntu 20.04 Kernel: Depends on container host Compiler: gcc (Ubuntu 9.4.0-1ubuntu1~20.04.2) 9.4.0 Debian 12 Kernel: Depends on container host Compiler: gcc (Debian 12.2.0-14) 12.2.0 Ubuntu 22.04 Kernel: Depends on container host Compiler: gcc (Ubuntu 11.4.0-1ubuntu1~22.04) 11.4.0 RHEL8 Kernel: Depends on container host Compiler: gcc 8.5.0 20210514 (Red Hat 8.5.0-22) RHEL9 Kernel: Depends on container host Compiler: gcc 11.5.0 20240719 (Red Hat 11.5.0-2) Ubuntu 24.04 Kernel: Depends on container host Compiler: gcc (Ubuntu 13.3.0-6ubuntu2~24.04) 13.3.0 Windows Server 2022 Kernel: 10.0.20348.2031 Compiler: clang 15.0.7, gcc 14.1.0 (MinGW), and MSVC VS 19.39.33521 To view detailed results, visit: https://lab.dpdk.org/results/dashboard/patchsets/33097/ UNH-IOL DPDK Community Lab To manage your email subscriptions, visit: https://lab.dpdk.org/results/dashboard/preferences/subscriptions/