From: dpdklab@iol.unh.edu
To: Test Report <test-report@dpdk.org>
Cc: dpdk-test-reports@iol.unh.edu
Subject: |SUCCESS| pw153224-153227 [PATCH] [v3,4/4] eal: add option for auto-
Date: Fri, 02 May 2025 09:33:59 -0700 (PDT) [thread overview]
Message-ID: <6814f3f7.170a0220.26bac7.29c2SMTPIN_ADDED_MISSING@mx.google.com> (raw)
In-Reply-To: <20250502151134.536799-5-bruce.richardson@intel.com>
Test-Label: iol-unit-arm64-testing
Test-Status: SUCCESS
http://dpdk.org/patch/153227
_Testing PASS_
Submitter: Bruce Richardson <bruce.richardson@intel.com>
Date: Friday, May 02 2025 15:11:34
DPDK git baseline: Repo:dpdk
Branch: master
CommitID:ca1690ebd224f148268285b15b97441ccdbdd07e
153224-153227 --> testing pass
Upstream job id: Generic-Unit-Test-DPDK#334865
Test environment and result as below:
+------------------------+----------------+------------------------------+--------------+---------------------------+
| Environment | dpdk_unit_test | cryptodev_sw_snow3g_autotest | lpm_autotest | cryptodev_sw_zuc_autotest |
+========================+================+==============================+==============+===========================+
| CentOS Stream 10 (ARM) | PASS | SKIPPED | SKIPPED | SKIPPED |
+------------------------+----------------+------------------------------+--------------+---------------------------+
| CentOS Stream 9 (ARM) | PASS | SKIPPED | SKIPPED | SKIPPED |
+------------------------+----------------+------------------------------+--------------+---------------------------+
| Fedora 41 (ARM) | PASS | SKIPPED | SKIPPED | SKIPPED |
+------------------------+----------------+------------------------------+--------------+---------------------------+
| Fedora 41 (ARM Clang) | PASS | SKIPPED | SKIPPED | SKIPPED |
+------------------------+----------------+------------------------------+--------------+---------------------------+
| Fedora 40 (ARM Clang) | PASS | SKIPPED | SKIPPED | SKIPPED |
+------------------------+----------------+------------------------------+--------------+---------------------------+
| Debian 12 (arm) | PASS | PASS | SKIPPED | PASS |
+------------------------+----------------+------------------------------+--------------+---------------------------+
| RHEL9 (ARM) | PASS | SKIPPED | SKIPPED | SKIPPED |
+------------------------+----------------+------------------------------+--------------+---------------------------+
| Ubuntu 24.04 (ARM) | PASS | SKIPPED | SKIPPED | SKIPPED |
+------------------------+----------------+------------------------------+--------------+---------------------------+
| Fedora 40 (ARM) | PASS | SKIPPED | SKIPPED | SKIPPED |
+------------------------+----------------+------------------------------+--------------+---------------------------+
| Ubuntu 22.04 (ARM) | PASS | SKIPPED | SKIPPED | SKIPPED |
+------------------------+----------------+------------------------------+--------------+---------------------------+
| Ubuntu 20.04 (ARM) | PASS | SKIPPED | SKIPPED | SKIPPED |
+------------------------+----------------+------------------------------+--------------+---------------------------+
| Ubuntu 20.04 ARM SVE | SKIPPED | SKIPPED | PASS | SKIPPED |
+------------------------+----------------+------------------------------+--------------+---------------------------+
CentOS Stream 10 (ARM)
Kernel: Depends on container host
Compiler: gcc 14.2.1 20241104 (Red Hat 14.2.1-6)
CentOS Stream 9 (ARM)
Kernel: Depends on container host
Compiler: gcc 11.5.0 20240719 (Red Hat 11.5.0-2)
Fedora 41 (ARM)
Kernel: Depends on container host
Compiler: gcc 14.2.1 20240912 (Red Hat 14.2.1-3)
Fedora 41 (ARM Clang)
Kernel: Depends on container host
Compiler: clang 19.1.5 (Fedora 19.1.5-1.fc41)
Fedora 40 (ARM Clang)
Kernel: Depends on container host
Compiler: clang 18.1.8 (Fedora 18.1.8-1.fc40)
Debian 12 (arm)
Kernel: Depends on container host
Compiler: gcc (Debian 12.2.0-14) 12.2.0
RHEL9 (ARM)
Kernel: Depends on container host
Compiler: gcc 11.5.0 20240719 (Red Hat 11.5.0-2)
Ubuntu 24.04 (ARM)
Kernel: Depends on container host
Compiler: gcc (Ubuntu 13.3.0-6ubuntu2~24.04) 13.3.0
Fedora 40 (ARM)
Kernel: Depends on container host
Compiler: gcc 14.2.1 20240912 (Red Hat 14.2.1-3)
Ubuntu 22.04 (ARM)
Kernel: Depends on container host
Compiler: gcc (Ubuntu 11.4.0-1ubuntu1~22.04) 11.4.0
Ubuntu 20.04 (ARM)
Kernel: Depends on container host
Compiler: gcc (Ubuntu 9.4.0-1ubuntu1~20.04.2) 9.4.0
Ubuntu 20.04 ARM SVE
Kernel: Depends on container host
Compiler: gcc (Ubuntu 10.5.0-1ubuntu1~20.04) 10.5.0
To view detailed results, visit:
https://lab.dpdk.org/results/dashboard/patchsets/33097/
UNH-IOL DPDK Community Lab
To manage your email subscriptions, visit:
https://lab.dpdk.org/results/dashboard/preferences/subscriptions/
next prev parent reply other threads:[~2025-05-02 16:34 UTC|newest]
Thread overview: 24+ messages / expand[flat|nested] mbox.gz Atom feed top
[not found] <20250502151134.536799-5-bruce.richardson@intel.com>
2025-05-02 14:39 ` |SUCCESS| pw153224-153227 [PATCH v3 4/4] eal: add option for auto-mapping cpu ids to low lcore ids qemudev
2025-05-02 14:43 ` qemudev
2025-05-02 15:13 ` |SUCCESS| pw153227 " checkpatch
2025-05-02 15:41 ` |SUCCESS| pw153224-153227 [PATCH] [v3,4/4] eal: add option for auto- dpdklab
2025-05-02 15:47 ` dpdklab
2025-05-02 15:48 ` |PENDING| " dpdklab
2025-05-02 15:51 ` |WARNING| " dpdklab
2025-05-02 15:55 ` |SUCCESS| " dpdklab
2025-05-02 15:56 ` |PENDING| " dpdklab
2025-05-02 15:57 ` |SUCCESS| " dpdklab
2025-05-02 16:05 ` dpdklab
2025-05-02 16:05 ` dpdklab
2025-05-02 16:05 ` dpdklab
2025-05-02 16:13 ` dpdklab
2025-05-02 16:24 ` |PENDING| " dpdklab
2025-05-02 16:25 ` |SUCCESS| " dpdklab
2025-05-02 16:26 ` |SUCCESS| pw153227 [PATCH v3 4/4] eal: add option for auto-mapping cpu ids to low lcore ids 0-day Robot
2025-05-02 16:33 ` dpdklab [this message]
2025-05-02 16:36 ` |SUCCESS| pw153224-153227 [PATCH] [v3,4/4] eal: add option for auto- dpdklab
2025-05-02 16:43 ` |WARNING| " dpdklab
2025-05-02 16:43 ` |SUCCESS| " dpdklab
2025-05-02 16:57 ` dpdklab
2025-05-02 16:59 ` dpdklab
2025-05-02 17:32 ` dpdklab
Reply instructions:
You may reply publicly to this message via plain-text email
using any one of the following methods:
* Save the following mbox file, import it into your mail client,
and reply-to-all from there: mbox
Avoid top-posting and favor interleaved quoting:
https://en.wikipedia.org/wiki/Posting_style#Interleaved_style
* Reply using the --to, --cc, and --in-reply-to
switches of git-send-email(1):
git send-email \
--in-reply-to=6814f3f7.170a0220.26bac7.29c2SMTPIN_ADDED_MISSING@mx.google.com \
--to=dpdklab@iol.unh.edu \
--cc=dpdk-test-reports@iol.unh.edu \
--cc=test-report@dpdk.org \
/path/to/YOUR_REPLY
https://kernel.org/pub/software/scm/git/docs/git-send-email.html
* If your mail client supports setting the In-Reply-To header
via mailto: links, try the mailto: link
Be sure your reply has a Subject: header at the top and a blank line
before the message body.
This is a public inbox, see mirroring instructions
for how to clone and mirror all data and code used for this inbox;
as well as URLs for NNTP newsgroup(s).