From mboxrd@z Thu Jan 1 00:00:00 1970 Return-Path: Received: from mails.dpdk.org (mails.dpdk.org [217.70.189.124]) by inbox.dpdk.org (Postfix) with ESMTP id 090B4466A0 for ; Fri, 2 May 2025 18:34:03 +0200 (CEST) Received: from mails.dpdk.org (localhost [127.0.0.1]) by mails.dpdk.org (Postfix) with ESMTP id EF90C402F0; Fri, 2 May 2025 18:34:01 +0200 (CEST) Received: from mail-pl1-f225.google.com (mail-pl1-f225.google.com [209.85.214.225]) by mails.dpdk.org (Postfix) with ESMTP id 87794402E6 for ; Fri, 2 May 2025 18:34:00 +0200 (CEST) Received: by mail-pl1-f225.google.com with SMTP id d9443c01a7336-2255003f4c6so25849955ad.0 for ; Fri, 02 May 2025 09:34:00 -0700 (PDT) DKIM-Signature: v=1; a=rsa-sha256; c=relaxed/relaxed; d=iol.unh.edu; s=unh-iol; t=1746203639; x=1746808439; darn=dpdk.org; h=references:in-reply-to:cc:to:from:subject:message-id:date:from:to :cc:subject:date:message-id:reply-to; bh=WMC7OQc36dP1z4+bKrqbOr6FG7Y2opdPHpt5CHsQs64=; b=cQQqxN8PbAnOT48UzKgo7bC7QgUyTmGkiZC7GX6xnOMCdCycChIM0Oe5pFlJ6AvsuP SX9gmNdYoJnl7pY/K75TIJLgZvGtnJMird+zCFDQezDOJhqpUCW+MsSY8J8mCpajHfL8 HJOtGwRdjw7l/SuOpjdo5+gZPYwvLaIOJivyQ= X-Google-DKIM-Signature: v=1; a=rsa-sha256; c=relaxed/relaxed; d=1e100.net; s=20230601; t=1746203639; x=1746808439; h=references:in-reply-to:cc:to:from:subject:message-id:date :x-gm-message-state:from:to:cc:subject:date:message-id:reply-to; bh=WMC7OQc36dP1z4+bKrqbOr6FG7Y2opdPHpt5CHsQs64=; b=Ia85+bQg9EgzrxT0ZQw2zunvSJOmVZwo4ogPj8DLELV7jU6FTWmDyyQLJtIqe1U5Rs NaO9D/mWdlVm3UPSptLMfsxPU8pOWhmP9XTRxC1QOT6ukdreWL5sUCPKdUFwpxM1h62L XGXLSTNy4jGItsyDZwDgyoYLXUtfS2xWUjRP650ZDilwySey6cuPoIL5i6I5EsU5hdn5 q33EK1YYcrT2B+nDmrk2kFnLdEoSvYa74ki1rL+CusdK+EUQ0PO3umvBNDjE3m8bcCTq RUogetiS3puL2fhmE8GzePsWSw7yqoXabAO7+O6ugZ6oxa5S30Tbh+lU9iUYbBsYFB9I Zm2Q== X-Gm-Message-State: AOJu0YwKvmf2gAlyc58lcmZdVFg9VEw3zrY05MKwClqtRpKGGYyIfI+g H0JVAx0XfBw/npfp4mRXMt/ESxIrla85H6p/oZCZniTNBrBI+RysClI08MJVs+9wEnLROCOqpyb Jn1TmvykqT9/NSs+MRgRY0QXQ17uTNN1H1f8d4+NBCy8YRrg4px6e0SGs X-Gm-Gg: ASbGncuO/kco3bAvnOkeWW0lZ44KpVKDxxFsw5ufN9SJCHlDVSaiDU7sCUK3twaQOSY bam5vtND8xR6F73uA9bUSeCu50hd6wyXRtjmEEQayRKMeO2jR7lqH9f8BFqfMTK1S0TAsG01Tw2 RhOXykUyUPUSpeiKgF1OzunNGDuzxSMEc1MbXg2b6ZnNozhbnmltNWw1pvkBlRjKcsnIxY5Og4R w9Y0eOJZbXtI+IMIRW6YOpMftb9LoW5kFKvqvTfgXMSsYX6MVvCqkEsMHgkzo5/uX17+1ypzzOd 7wm0mTMt3upyalcU2ejSy9uodHerMfiCbXHx X-Google-Smtp-Source: AGHT+IE664gjTrJHVsLE0VEWKzhvf0uWCzD7maNiaUxJZpFmJnYLsgXz9BSZfu+W6UX3pZSH6Eqlm7NNV8NY X-Received: by 2002:a17:902:dace:b0:22d:e575:9eb2 with SMTP id d9443c01a7336-22e10357051mr60079655ad.34.1746203639372; Fri, 02 May 2025 09:33:59 -0700 (PDT) Received: from postal.iol.unh.edu (postal.iol.unh.edu. [2606:4100:3880:1234::84]) by smtp-relay.gmail.com with ESMTPS id d9443c01a7336-22e151e9e4dsm1056395ad.47.2025.05.02.09.33.59 (version=TLS1_2 cipher=ECDHE-ECDSA-AES128-GCM-SHA256 bits=128/128); Fri, 02 May 2025 09:33:59 -0700 (PDT) X-Relaying-Domain: iol.unh.edu Date: Fri, 02 May 2025 09:33:59 -0700 (PDT) Message-ID: <6814f3f7.170a0220.26bac7.29c2SMTPIN_ADDED_MISSING@mx.google.com> Received: from [172.17.0.3] (unknown [172.18.0.74]) by postal.iol.unh.edu (Postfix) with ESMTP id CACBB6052471; Fri, 2 May 2025 12:33:58 -0400 (EDT) Subject: |SUCCESS| pw153224-153227 [PATCH] [v3,4/4] eal: add option for auto- From: dpdklab@iol.unh.edu To: Test Report Cc: dpdk-test-reports@iol.unh.edu In-Reply-To: <20250502151134.536799-5-bruce.richardson@intel.com> References: <20250502151134.536799-5-bruce.richardson@intel.com> Content-Type: text/plain X-BeenThere: test-report@dpdk.org X-Mailman-Version: 2.1.29 Precedence: list List-Id: automatic DPDK test reports List-Unsubscribe: , List-Archive: List-Post: List-Help: List-Subscribe: , Errors-To: test-report-bounces@dpdk.org Test-Label: iol-unit-arm64-testing Test-Status: SUCCESS http://dpdk.org/patch/153227 _Testing PASS_ Submitter: Bruce Richardson Date: Friday, May 02 2025 15:11:34 DPDK git baseline: Repo:dpdk Branch: master CommitID:ca1690ebd224f148268285b15b97441ccdbdd07e 153224-153227 --> testing pass Upstream job id: Generic-Unit-Test-DPDK#334865 Test environment and result as below: +------------------------+----------------+------------------------------+--------------+---------------------------+ | Environment | dpdk_unit_test | cryptodev_sw_snow3g_autotest | lpm_autotest | cryptodev_sw_zuc_autotest | +========================+================+==============================+==============+===========================+ | CentOS Stream 10 (ARM) | PASS | SKIPPED | SKIPPED | SKIPPED | +------------------------+----------------+------------------------------+--------------+---------------------------+ | CentOS Stream 9 (ARM) | PASS | SKIPPED | SKIPPED | SKIPPED | +------------------------+----------------+------------------------------+--------------+---------------------------+ | Fedora 41 (ARM) | PASS | SKIPPED | SKIPPED | SKIPPED | +------------------------+----------------+------------------------------+--------------+---------------------------+ | Fedora 41 (ARM Clang) | PASS | SKIPPED | SKIPPED | SKIPPED | +------------------------+----------------+------------------------------+--------------+---------------------------+ | Fedora 40 (ARM Clang) | PASS | SKIPPED | SKIPPED | SKIPPED | +------------------------+----------------+------------------------------+--------------+---------------------------+ | Debian 12 (arm) | PASS | PASS | SKIPPED | PASS | +------------------------+----------------+------------------------------+--------------+---------------------------+ | RHEL9 (ARM) | PASS | SKIPPED | SKIPPED | SKIPPED | +------------------------+----------------+------------------------------+--------------+---------------------------+ | Ubuntu 24.04 (ARM) | PASS | SKIPPED | SKIPPED | SKIPPED | +------------------------+----------------+------------------------------+--------------+---------------------------+ | Fedora 40 (ARM) | PASS | SKIPPED | SKIPPED | SKIPPED | +------------------------+----------------+------------------------------+--------------+---------------------------+ | Ubuntu 22.04 (ARM) | PASS | SKIPPED | SKIPPED | SKIPPED | +------------------------+----------------+------------------------------+--------------+---------------------------+ | Ubuntu 20.04 (ARM) | PASS | SKIPPED | SKIPPED | SKIPPED | +------------------------+----------------+------------------------------+--------------+---------------------------+ | Ubuntu 20.04 ARM SVE | SKIPPED | SKIPPED | PASS | SKIPPED | +------------------------+----------------+------------------------------+--------------+---------------------------+ CentOS Stream 10 (ARM) Kernel: Depends on container host Compiler: gcc 14.2.1 20241104 (Red Hat 14.2.1-6) CentOS Stream 9 (ARM) Kernel: Depends on container host Compiler: gcc 11.5.0 20240719 (Red Hat 11.5.0-2) Fedora 41 (ARM) Kernel: Depends on container host Compiler: gcc 14.2.1 20240912 (Red Hat 14.2.1-3) Fedora 41 (ARM Clang) Kernel: Depends on container host Compiler: clang 19.1.5 (Fedora 19.1.5-1.fc41) Fedora 40 (ARM Clang) Kernel: Depends on container host Compiler: clang 18.1.8 (Fedora 18.1.8-1.fc40) Debian 12 (arm) Kernel: Depends on container host Compiler: gcc (Debian 12.2.0-14) 12.2.0 RHEL9 (ARM) Kernel: Depends on container host Compiler: gcc 11.5.0 20240719 (Red Hat 11.5.0-2) Ubuntu 24.04 (ARM) Kernel: Depends on container host Compiler: gcc (Ubuntu 13.3.0-6ubuntu2~24.04) 13.3.0 Fedora 40 (ARM) Kernel: Depends on container host Compiler: gcc 14.2.1 20240912 (Red Hat 14.2.1-3) Ubuntu 22.04 (ARM) Kernel: Depends on container host Compiler: gcc (Ubuntu 11.4.0-1ubuntu1~22.04) 11.4.0 Ubuntu 20.04 (ARM) Kernel: Depends on container host Compiler: gcc (Ubuntu 9.4.0-1ubuntu1~20.04.2) 9.4.0 Ubuntu 20.04 ARM SVE Kernel: Depends on container host Compiler: gcc (Ubuntu 10.5.0-1ubuntu1~20.04) 10.5.0 To view detailed results, visit: https://lab.dpdk.org/results/dashboard/patchsets/33097/ UNH-IOL DPDK Community Lab To manage your email subscriptions, visit: https://lab.dpdk.org/results/dashboard/preferences/subscriptions/