From mboxrd@z Thu Jan 1 00:00:00 1970 Return-Path: Received: from mails.dpdk.org (mails.dpdk.org [217.70.189.124]) by inbox.dpdk.org (Postfix) with ESMTP id 46090466A0 for ; Fri, 2 May 2025 18:36:32 +0200 (CEST) Received: from mails.dpdk.org (localhost [127.0.0.1]) by mails.dpdk.org (Postfix) with ESMTP id 381EA402F0; Fri, 2 May 2025 18:36:31 +0200 (CEST) Received: from mail-qk1-f226.google.com (mail-qk1-f226.google.com [209.85.222.226]) by mails.dpdk.org (Postfix) with ESMTP id 53E5C402E6 for ; Fri, 2 May 2025 18:36:29 +0200 (CEST) Received: by mail-qk1-f226.google.com with SMTP id af79cd13be357-7c56a3def84so220380185a.0 for ; Fri, 02 May 2025 09:36:29 -0700 (PDT) DKIM-Signature: v=1; a=rsa-sha256; c=relaxed/relaxed; d=iol.unh.edu; s=unh-iol; t=1746203788; x=1746808588; darn=dpdk.org; h=references:in-reply-to:cc:to:from:subject:message-id:date:from:to :cc:subject:date:message-id:reply-to; bh=yeFgVwVqt3e5hmTCAgO5bCMwJ62LF2Zo8YnKz9shZkA=; b=BVVJbyHusngUoPdFUeD1cVx4wtHJ3o1ianODqwA/iqdqRfJOw138SYTgAWF8Lb955t tM9zLie9AdEJrzheT04CX5rN777tuDvgElL3eF/tuqAfCPhPvVafgFBKov2bzDdFLPoi r0oJGc7P9S8E2Qgc+wsNuiKtMQGWFkm3TrNkY= X-Google-DKIM-Signature: v=1; a=rsa-sha256; c=relaxed/relaxed; d=1e100.net; s=20230601; t=1746203788; x=1746808588; h=references:in-reply-to:cc:to:from:subject:message-id:date :x-gm-message-state:from:to:cc:subject:date:message-id:reply-to; bh=yeFgVwVqt3e5hmTCAgO5bCMwJ62LF2Zo8YnKz9shZkA=; b=hlaIifoUUiC7kkX/Z03LjydoaDd2L7OzOP8teocfeOZWQdQ82/DOIfbkuPmd6cYuGx qaSUeoM7r8zxBtbOlVGrRhBB1SXa3m8DvW/h37RnJcYlyncqeDssgvHWrmKqX9kwmn6Z hcxdMD46+54JMAt8yRVxW8MuUfXARWpZ52SVmxFvP0EubFI6oxXFUB3HqPv2z1kazYTg P41hIU4cS4nXWUHmyTOIsuUmHGqc111Fyg+q/8ghvBoYd0NztIYZ4fpZSVJlYo+wMe2S y8c6eU8LT8mXDjrPQ2hJZWumYtNu4m3YPa1p+YKRy3rEl64ERCtawSdNGQ9+Rn2eG3pv mFkA== X-Gm-Message-State: AOJu0YxUdu2Oc36rX3mCBdbtCYxYtO2kAQrlecHFEMtA9hY1XATxnSQt UTB/OVMi15QSQSAqw9CahJXO+VG4R+9yRkTOqA9nv2zluJIaZI1bECQ4U9LEyM7xJhEg3ck3139 mp+LeVLpV6FksT1q91Q+RtbiZNldl+3SQtBCWwY2joawJ1p+ljqlHl9sb X-Gm-Gg: ASbGnct3+LQc2LW3V66nl/KR2Z8YbeIU/EsKjK43/AzFxqqEbPpnr2BssPaTqLfeDK+ jGq66traImA5xI/jiSTDKAYWqP3sReEzG7twAqF4nikwbmNswSXF0PF7dEqNaTYAIToiQOvLvTP sX4pYyLeFoG48WcUTpr7ncB2VRkcTfn5pVCwHkTml5UypxOgAmqMEIMGIrYRWaRgGu+i5ZJAOqA 6/9hqV47dQ6dsAkxGbOH6G/v+2R5Qc5SyV/fprfqv3YbdkJUg0XMxl5GXefsqDgf1+owlw0q4r0 9d0MhrIRRWrfdDHjfppibb61lWSXDDr3pRNc X-Google-Smtp-Source: AGHT+IFX/iz/HvWno7LqxIcpeFth5SYH2bVwqj4YGQnI2F3m1MGpfn79hSnGBKTyr+bA10kEPTgjn2iq9V3J X-Received: by 2002:a05:620a:17a7:b0:7c5:3d60:7f8f with SMTP id af79cd13be357-7cad5b412efmr518124785a.18.1746203788565; Fri, 02 May 2025 09:36:28 -0700 (PDT) Received: from postal.iol.unh.edu (postal.iol.unh.edu. [2606:4100:3880:1234::84]) by smtp-relay.gmail.com with ESMTPS id 6a1803df08f44-6f50f3abe07sm6790236d6.6.2025.05.02.09.36.28 (version=TLS1_2 cipher=ECDHE-ECDSA-AES128-GCM-SHA256 bits=128/128); Fri, 02 May 2025 09:36:28 -0700 (PDT) X-Relaying-Domain: iol.unh.edu Date: Fri, 02 May 2025 09:36:28 -0700 (PDT) Message-ID: <6814f48c.d40a0220.160532.757bSMTPIN_ADDED_MISSING@mx.google.com> Received: from [172.17.0.3] (unknown [172.18.0.74]) by postal.iol.unh.edu (Postfix) with ESMTP id 45A2C6052471; Fri, 2 May 2025 12:36:28 -0400 (EDT) Subject: |SUCCESS| pw153224-153227 [PATCH] [v3,4/4] eal: add option for auto- From: dpdklab@iol.unh.edu To: Test Report Cc: dpdk-test-reports@iol.unh.edu In-Reply-To: <20250502151134.536799-5-bruce.richardson@intel.com> References: <20250502151134.536799-5-bruce.richardson@intel.com> Content-Type: text/plain X-BeenThere: test-report@dpdk.org X-Mailman-Version: 2.1.29 Precedence: list List-Id: automatic DPDK test reports List-Unsubscribe: , List-Archive: List-Post: List-Help: List-Subscribe: , Errors-To: test-report-bounces@dpdk.org Test-Label: iol-abi-testing Test-Status: SUCCESS http://dpdk.org/patch/153227 _Testing PASS_ Submitter: Bruce Richardson Date: Friday, May 02 2025 15:11:34 DPDK git baseline: Repo:dpdk Branch: master CommitID:ca1690ebd224f148268285b15b97441ccdbdd07e 153224-153227 --> testing pass Upstream job id: Generic-DPDK-Compile-ABI#125027 Test environment and result as below: +-------------------+----------+ | Environment | abi_test | +===================+==========+ | CentOS Stream 9 | PASS | +-------------------+----------+ | Fedora 40 (Clang) | PASS | +-------------------+----------+ | Debian 12 | PASS | +-------------------+----------+ | Fedora 41 (Clang) | PASS | +-------------------+----------+ | Fedora 40 | PASS | +-------------------+----------+ | Fedora 41 | PASS | +-------------------+----------+ | openSUSE Leap 15 | PASS | +-------------------+----------+ | RHEL8 | PASS | +-------------------+----------+ | Ubuntu 22.04 | PASS | +-------------------+----------+ | Ubuntu 24.04 | PASS | +-------------------+----------+ | RHEL9 | PASS | +-------------------+----------+ | CentOS Stream 10 | PASS | +-------------------+----------+ CentOS Stream 9 Kernel: Depends on container host Compiler: gcc 11.5.0 20240719 (Red Hat 11.5.0-2) Fedora 40 (Clang) Kernel: Depends on container host Compiler: clang 18.1.8 (Fedora 18.1.8-1.fc40) Debian 12 Kernel: Depends on container host Compiler: gcc (Debian 12.2.0-14) 12.2.0 Fedora 41 (Clang) Kernel: Depends on container host Compiler: clang 19.1.5 (Fedora 19.1.5-1.fc41) Fedora 40 Kernel: Depends on container host Compiler: gcc 14.2.1 20240912 (Red Hat 14.2.1-3) Fedora 41 Kernel: Depends on container host Compiler: gcc 14.2.1 20240912 (Red Hat 14.2.1-3) openSUSE Leap 15 Kernel: Depends on container host Compiler: gcc (SUSE Linux) 7.5.0 RHEL8 Kernel: Depends on container host Compiler: gcc 8.5.0 20210514 (Red Hat 8.5.0-22) Ubuntu 22.04 Kernel: Depends on container host Compiler: gcc (Ubuntu 11.4.0-1ubuntu1~22.04) 11.4.0 Ubuntu 24.04 Kernel: Depends on container host Compiler: gcc (Ubuntu 13.3.0-6ubuntu2~24.04) 13.3.0 RHEL9 Kernel: Depends on container host Compiler: gcc 11.5.0 20240719 (Red Hat 11.5.0-2) CentOS Stream 10 Kernel: Depends on container host Compiler: gcc 14.2.1 20241104 (Red Hat 14.2.1-6) To view detailed results, visit: https://lab.dpdk.org/results/dashboard/patchsets/33097/ UNH-IOL DPDK Community Lab To manage your email subscriptions, visit: https://lab.dpdk.org/results/dashboard/preferences/subscriptions/