From mboxrd@z Thu Jan 1 00:00:00 1970 Return-Path: Received: from mails.dpdk.org (mails.dpdk.org [217.70.189.124]) by inbox.dpdk.org (Postfix) with ESMTP id F2856466A0 for ; Fri, 2 May 2025 18:43:51 +0200 (CEST) Received: from mails.dpdk.org (localhost [127.0.0.1]) by mails.dpdk.org (Postfix) with ESMTP id EEEDA402F0; Fri, 2 May 2025 18:43:51 +0200 (CEST) Received: from mail-pf1-f228.google.com (mail-pf1-f228.google.com [209.85.210.228]) by mails.dpdk.org (Postfix) with ESMTP id BE52E402E6 for ; Fri, 2 May 2025 18:43:49 +0200 (CEST) Received: by mail-pf1-f228.google.com with SMTP id d2e1a72fcca58-736c277331eso3311037b3a.1 for ; Fri, 02 May 2025 09:43:49 -0700 (PDT) DKIM-Signature: v=1; a=rsa-sha256; c=relaxed/relaxed; d=iol.unh.edu; s=unh-iol; t=1746204229; x=1746809029; darn=dpdk.org; h=references:in-reply-to:cc:to:from:subject:message-id:date:from:to :cc:subject:date:message-id:reply-to; bh=xT8phvyFOXN1ZIC7iWw9ZagWQYmPRtKwiC4FmHM+jUk=; b=SS0KvLnhj78yV3yoLSLw6IfDRqRb29ErUSd9idb2mGO42AR1iz+LQu3ri1UX8Lr0N7 ol0dS3N1wm7E81SX8Eme7D86KLpbWfN2OUurpY2D0Xd/hDWNgd3+GqmvD9x4kfXt699p THS4aOedO9Tvvjd7N7qP+rjCJRjKRUOYL/MfQ= X-Google-DKIM-Signature: v=1; a=rsa-sha256; c=relaxed/relaxed; d=1e100.net; s=20230601; t=1746204229; x=1746809029; h=references:in-reply-to:cc:to:from:subject:message-id:date :x-gm-message-state:from:to:cc:subject:date:message-id:reply-to; bh=xT8phvyFOXN1ZIC7iWw9ZagWQYmPRtKwiC4FmHM+jUk=; b=pqd1oHznjHCEoFHWOLT7haA5dZnkvUYPQwovqNcvhVF5qOphVSZ5/eGbuUdtojFSjg pblL1GOAgGsshwXxf07+Ue7Ip7zXPEND1TdJtZ9D5wSkvNs67qLUAFYCLBxFkFzdmoia lUPcKbdqI2OKrIxw2PHWfFqU1AO+lMxDt3jnte3VCCcf241dEqbcS5JFwBgAX7NXrZBp M6uTM6phCLOJujr4Jx/yW6P6Un9dN5Vri1yyVobS9Cp6OEVBVTm3PYiGtPQjLOeCYvx2 9MQqP8wpYF/5bWQ7bDryZrwIoGxSqplVKxEbSX9f+9e13buCfGqWLiI2xYSjg+RJmTfH u1sg== X-Gm-Message-State: AOJu0YzGWYdEDPrUH3YsKXZgYyjjqXIe9v2D3i8RrU54YtTlZOjMWBpY NTYYJM8KbPxOwHmklmUcLsNEPQ8DhcqhiU5jBq/Plga5y+MK5npleL5pDw1K54/N1ioqGBakPX8 369J4VuZrL8JMHAKv6PP+jFTonplL7jSkD5S30h074p2Sm5X0p96IkgZD X-Gm-Gg: ASbGnctk/+j2uECqrRhZOVAbFVwSavMWGUslsGwdJMghefmmcViRdUsH9KLry+Pne4P MokHkz50JcWnjD9DFGUoV+yVfuXv7DKnll+mJMv35w9dANP5CfZO4TMZB2Axm+Zdrv6YpgHQB2y CWZ6OwZl+sogZJBVxkSRSLoCtnRf08YSSkvbg5+TpYCKRAFWaigomW+Rq2UAo/Z3gtQj0bgeFj1 LKXTYnKvyQRiFZhxxJI7KCD0vGFkEbjZzOEBtzhGSf+Gs8yssctZJA14MeiDKqy/+5Ndxw7cIKb Z0KsGCEuNITn9vmt5sr3N8LBjhAUFOHA7fXZ X-Google-Smtp-Source: AGHT+IHzEZj7BZEeOub/XoR2R15VCQyvSUW0BMf3R9ziZnIvMcKg5CXAnMDoP6rYtQlVIrlV9QXAIz0FbdeF X-Received: by 2002:a05:6a20:9c88:b0:1f3:1ebc:ea4a with SMTP id adf61e73a8af0-20ccd881e4amr6000132637.20.1746204228985; Fri, 02 May 2025 09:43:48 -0700 (PDT) Received: from postal.iol.unh.edu (postal.iol.unh.edu. [2606:4100:3880:1234::84]) by smtp-relay.gmail.com with ESMTPS id 41be03b00d2f7-b1fb3b96fedsm88088a12.14.2025.05.02.09.43.48 (version=TLS1_2 cipher=ECDHE-ECDSA-AES128-GCM-SHA256 bits=128/128); Fri, 02 May 2025 09:43:48 -0700 (PDT) X-Relaying-Domain: iol.unh.edu Date: Fri, 02 May 2025 09:43:48 -0700 (PDT) Message-ID: <6814f644.630a0220.1417ad.2c58SMTPIN_ADDED_MISSING@mx.google.com> Received: from [172.17.0.3] (unknown [172.18.0.74]) by postal.iol.unh.edu (Postfix) with ESMTP id 389EB6052471; Fri, 2 May 2025 12:43:48 -0400 (EDT) Subject: |SUCCESS| pw153224-153227 [PATCH] [v3,4/4] eal: add option for auto- From: dpdklab@iol.unh.edu To: Test Report Cc: dpdk-test-reports@iol.unh.edu In-Reply-To: <20250502151134.536799-5-bruce.richardson@intel.com> References: <20250502151134.536799-5-bruce.richardson@intel.com> Content-Type: text/plain X-BeenThere: test-report@dpdk.org X-Mailman-Version: 2.1.29 Precedence: list List-Id: automatic DPDK test reports List-Unsubscribe: , List-Archive: List-Post: List-Help: List-Subscribe: , Errors-To: test-report-bounces@dpdk.org Test-Label: iol-unit-amd64-testing Test-Status: SUCCESS http://dpdk.org/patch/153227 _Testing PASS_ Submitter: Bruce Richardson Date: Friday, May 02 2025 15:11:34 DPDK git baseline: Repo:dpdk Branch: master CommitID:ca1690ebd224f148268285b15b97441ccdbdd07e 153224-153227 --> testing pass Upstream job id: Generic-VM-Unit-Test-DPDK#28286 Test environment and result as below: +---------------------+----------------+ | Environment | dpdk_unit_test | +=====================+================+ | CentOS Stream 9 | PASS | +---------------------+----------------+ | CentOS Stream 10 | PASS | +---------------------+----------------+ | Fedora 41 | PASS | +---------------------+----------------+ | Fedora 40 (Clang) | PASS | +---------------------+----------------+ | Fedora 40 | PASS | +---------------------+----------------+ | Fedora 41 (Clang) | PASS | +---------------------+----------------+ | Ubuntu 20.04 | PASS | +---------------------+----------------+ | Debian 12 | PASS | +---------------------+----------------+ | Ubuntu 22.04 | PASS | +---------------------+----------------+ | RHEL8 | PASS | +---------------------+----------------+ | RHEL9 | PASS | +---------------------+----------------+ | Ubuntu 24.04 | PASS | +---------------------+----------------+ | Windows Server 2022 | PASS | +---------------------+----------------+ CentOS Stream 9 Kernel: Depends on container host Compiler: gcc 11.5.0 20240719 (Red Hat 11.5.0-2) CentOS Stream 10 Kernel: Depends on container host Compiler: gcc 14.2.1 20241104 (Red Hat 14.2.1-6) Fedora 41 Kernel: Depends on container host Compiler: gcc 14.2.1 20240912 (Red Hat 14.2.1-3) Fedora 40 (Clang) Kernel: Depends on container host Compiler: clang 18.1.8 (Fedora 18.1.8-1.fc40) Fedora 40 Kernel: Depends on container host Compiler: gcc 14.2.1 20240912 (Red Hat 14.2.1-3) Fedora 41 (Clang) Kernel: Depends on container host Compiler: clang 19.1.5 (Fedora 19.1.5-1.fc41) Ubuntu 20.04 Kernel: Depends on container host Compiler: gcc (Ubuntu 9.4.0-1ubuntu1~20.04.2) 9.4.0 Debian 12 Kernel: Depends on container host Compiler: gcc (Debian 12.2.0-14) 12.2.0 Ubuntu 22.04 Kernel: Depends on container host Compiler: gcc (Ubuntu 11.4.0-1ubuntu1~22.04) 11.4.0 RHEL8 Kernel: Depends on container host Compiler: gcc 8.5.0 20210514 (Red Hat 8.5.0-22) RHEL9 Kernel: Depends on container host Compiler: gcc 11.5.0 20240719 (Red Hat 11.5.0-2) Ubuntu 24.04 Kernel: Depends on container host Compiler: gcc (Ubuntu 13.3.0-6ubuntu2~24.04) 13.3.0 Windows Server 2022 Kernel: 10.0.20348.2031 Compiler: clang 15.0.7, gcc 14.1.0 (MinGW), and MSVC VS 19.39.33521 To view detailed results, visit: https://lab.dpdk.org/results/dashboard/patchsets/33097/ UNH-IOL DPDK Community Lab To manage your email subscriptions, visit: https://lab.dpdk.org/results/dashboard/preferences/subscriptions/