From mboxrd@z Thu Jan 1 00:00:00 1970 Return-Path: Received: from mails.dpdk.org (mails.dpdk.org [217.70.189.124]) by inbox.dpdk.org (Postfix) with ESMTP id 6C7FC466A0 for ; Fri, 2 May 2025 18:57:02 +0200 (CEST) Received: from mails.dpdk.org (localhost [127.0.0.1]) by mails.dpdk.org (Postfix) with ESMTP id 20F2E402F0; Fri, 2 May 2025 18:57:02 +0200 (CEST) Received: from mail-io1-f100.google.com (mail-io1-f100.google.com [209.85.166.100]) by mails.dpdk.org (Postfix) with ESMTP id 3CAE5402E6 for ; Fri, 2 May 2025 18:57:01 +0200 (CEST) Received: by mail-io1-f100.google.com with SMTP id ca18e2360f4ac-864687c830aso206598639f.0 for ; Fri, 02 May 2025 09:57:01 -0700 (PDT) DKIM-Signature: v=1; a=rsa-sha256; c=relaxed/relaxed; d=iol.unh.edu; s=unh-iol; t=1746205020; x=1746809820; darn=dpdk.org; h=references:in-reply-to:cc:to:from:subject:message-id:date:from:to :cc:subject:date:message-id:reply-to; bh=IEvqo9x9BieQn+ZYGg+/uQxPr9YnGJLIlcjTQFLewfE=; b=J2W3e1SDeQkKAiQv0/2094l+i+HWZVzckExwm6bBVjDQNc0YlVBXbCtpkgqvoP6MGm 9EIqum7ASAMcLa9YrgayCsoSonhguhCqVjww2WJ82WkWLZbiE5neJVDNU4AFMLD4esxN q+8vsjrbcUZ66ygsoPj5+OBsaf5ulYvpd5W4c= X-Google-DKIM-Signature: v=1; a=rsa-sha256; c=relaxed/relaxed; d=1e100.net; s=20230601; t=1746205020; x=1746809820; h=references:in-reply-to:cc:to:from:subject:message-id:date :x-gm-message-state:from:to:cc:subject:date:message-id:reply-to; bh=IEvqo9x9BieQn+ZYGg+/uQxPr9YnGJLIlcjTQFLewfE=; b=D1Zk5MQC3Cfl4IjFYSKRc8nvxdGDWL25yuuoyVRYIGMOpYL2qX+RA8AOiiTJvvq/GC 99pkftlTZ7YYxfOtR9C9U+ukSgYWal2FipkZRf8JYe8Ba9GkytS0oPz7XVFPgqsC6PnI +RODOD7S5gd7UOYxcL75xfy8EDlstiLPnTKyp+owj1hhE+jWyl8gu9HpNSap9i33SHA9 1Mud20S1t4Dyzd6k3aJ3n9S5EzuLTWFoMXwoQqKYs97BAirHpCF0+Q+D7UHZNyOxcPSw 6YiHVARhrA2Tc1evGgrghleDSOl/yYjkLBmBI/FFj4xFcM0BuCj7IoUDZs+/BAy4ugrv X5TA== X-Gm-Message-State: AOJu0YzpLjgdtPMeoLqxLak2Ztjohdxg1JrEkw9OPeKGo0eDf3pu5/cn 1g2mgyNTQQhW1iLHHyx790WQZUfHBU90+n5eQ6o3lrf3qqy3gmssoJDFfhvecjN3zaL0HkBzA85 QstJgTqvg3BRtr4SSI3jp5CJCQKS/JnUBaYz3Fnom X-Gm-Gg: ASbGncs6CL/8xJA0PgCQRXXBgW/+BpcD2WJOF3vxlEMaqA4zppG9XNrzsJvJMC8SXW/ kjGrFJG6zqLNwOiOqDhb5mzvWPj5XRX0IT9ozBMXIGnFkcdrdtH3I3sk6sOH8wzfP0rYNxJO0xw +iM1Jt1zKEBpPn8lFNH37lkA9s848dKEeVCfWyA2vL6WIajyhlaIdoqiEWPHEa2xeLm9SfxYq+U 8UCRGhu5sWLI8QtSBJ09BdrNovQz5sBNcBAiQ6xS7nmu3QRZNfpljs6G78LqZrWvy8JA5hxg7Kn rRntAaEuHji8mdIgt1pweDDo90zCNo+HaSj0PEMQ3GGGEFZ55DbEizOQJ1g= X-Google-Smtp-Source: AGHT+IG08VAHogGIXLQjBZZaQtz8/Uwuo9/hXUr94eJ8klg7UKAycpuiwG/hLz4zDVzmLG4kyNCx2jYkaymw X-Received: by 2002:a05:6e02:1845:b0:3d2:b72d:a502 with SMTP id e9e14a558f8ab-3d97c2dc136mr44732705ab.22.1746205020364; Fri, 02 May 2025 09:57:00 -0700 (PDT) Received: from postal.iol.unh.edu (postal.iol.unh.edu. [132.177.123.84]) by smtp-relay.gmail.com with ESMTPS id 8926c6da1cb9f-4f88a9149b8sm390021173.25.2025.05.02.09.57.00 (version=TLS1_2 cipher=ECDHE-ECDSA-AES128-GCM-SHA256 bits=128/128); Fri, 02 May 2025 09:57:00 -0700 (PDT) X-Relaying-Domain: iol.unh.edu Date: Fri, 02 May 2025 09:57:00 -0700 (PDT) Message-ID: <6814f95c.050a0220.131896.524aSMTPIN_ADDED_MISSING@mx.google.com> Received: from [172.17.0.3] (unknown [172.18.0.76]) by postal.iol.unh.edu (Postfix) with ESMTP id E50586052471; Fri, 2 May 2025 12:56:59 -0400 (EDT) Subject: |SUCCESS| pw153224-153227 [PATCH] [v3,4/4] eal: add option for auto- From: dpdklab@iol.unh.edu To: Test Report Cc: dpdk-test-reports@iol.unh.edu In-Reply-To: <20250502151134.536799-5-bruce.richardson@intel.com> References: <20250502151134.536799-5-bruce.richardson@intel.com> Content-Type: text/plain X-BeenThere: test-report@dpdk.org X-Mailman-Version: 2.1.29 Precedence: list List-Id: automatic DPDK test reports List-Unsubscribe: , List-Archive: List-Post: List-Help: List-Subscribe: , Errors-To: test-report-bounces@dpdk.org Test-Label: iol-unit-arm64-testing Test-Status: SUCCESS http://dpdk.org/patch/153227 _Testing PASS_ Submitter: Bruce Richardson Date: Friday, May 02 2025 15:11:34 DPDK git baseline: Repo:dpdk Branch: master CommitID:ca1690ebd224f148268285b15b97441ccdbdd07e 153224-153227 --> testing pass Upstream job id: Aarch32-Unit-Test#6114 Test environment and result as below: +-----------------------------+----------------+------------------------------+--------------+---------------------------+ | Environment | dpdk_unit_test | cryptodev_sw_snow3g_autotest | lpm_autotest | cryptodev_sw_zuc_autotest | +=============================+================+==============================+==============+===========================+ | CentOS Stream 10 (ARM) | PASS | SKIPPED | SKIPPED | SKIPPED | +-----------------------------+----------------+------------------------------+--------------+---------------------------+ | CentOS Stream 9 (ARM) | PASS | SKIPPED | SKIPPED | SKIPPED | +-----------------------------+----------------+------------------------------+--------------+---------------------------+ | Fedora 41 (ARM) | PASS | SKIPPED | SKIPPED | SKIPPED | +-----------------------------+----------------+------------------------------+--------------+---------------------------+ | Fedora 41 (ARM Clang) | PASS | SKIPPED | SKIPPED | SKIPPED | +-----------------------------+----------------+------------------------------+--------------+---------------------------+ | Fedora 40 (ARM Clang) | PASS | SKIPPED | SKIPPED | SKIPPED | +-----------------------------+----------------+------------------------------+--------------+---------------------------+ | Debian 12 (arm) | PASS | PASS | SKIPPED | PASS | +-----------------------------+----------------+------------------------------+--------------+---------------------------+ | RHEL9 (ARM) | PASS | SKIPPED | SKIPPED | SKIPPED | +-----------------------------+----------------+------------------------------+--------------+---------------------------+ | Ubuntu 24.04 (ARM) | PASS | SKIPPED | SKIPPED | SKIPPED | +-----------------------------+----------------+------------------------------+--------------+---------------------------+ | Fedora 40 (ARM) | PASS | SKIPPED | SKIPPED | SKIPPED | +-----------------------------+----------------+------------------------------+--------------+---------------------------+ | Ubuntu 22.04 (ARM) | PASS | SKIPPED | SKIPPED | SKIPPED | +-----------------------------+----------------+------------------------------+--------------+---------------------------+ | Ubuntu 20.04 (ARM) | PASS | SKIPPED | SKIPPED | SKIPPED | +-----------------------------+----------------+------------------------------+--------------+---------------------------+ | 32-bit Ubuntu 22.04.4 (ARM) | PASS | SKIPPED | SKIPPED | SKIPPED | +-----------------------------+----------------+------------------------------+--------------+---------------------------+ | Ubuntu 20.04 ARM SVE | SKIPPED | SKIPPED | PASS | SKIPPED | +-----------------------------+----------------+------------------------------+--------------+---------------------------+ CentOS Stream 10 (ARM) Kernel: Depends on container host Compiler: gcc 14.2.1 20241104 (Red Hat 14.2.1-6) CentOS Stream 9 (ARM) Kernel: Depends on container host Compiler: gcc 11.5.0 20240719 (Red Hat 11.5.0-2) Fedora 41 (ARM) Kernel: Depends on container host Compiler: gcc 14.2.1 20240912 (Red Hat 14.2.1-3) Fedora 41 (ARM Clang) Kernel: Depends on container host Compiler: clang 19.1.5 (Fedora 19.1.5-1.fc41) Fedora 40 (ARM Clang) Kernel: Depends on container host Compiler: clang 18.1.8 (Fedora 18.1.8-1.fc40) Debian 12 (arm) Kernel: Depends on container host Compiler: gcc (Debian 12.2.0-14) 12.2.0 RHEL9 (ARM) Kernel: Depends on container host Compiler: gcc 11.5.0 20240719 (Red Hat 11.5.0-2) Ubuntu 24.04 (ARM) Kernel: Depends on container host Compiler: gcc (Ubuntu 13.3.0-6ubuntu2~24.04) 13.3.0 Fedora 40 (ARM) Kernel: Depends on container host Compiler: gcc 14.2.1 20240912 (Red Hat 14.2.1-3) Ubuntu 22.04 (ARM) Kernel: Depends on container host Compiler: gcc (Ubuntu 11.4.0-1ubuntu1~22.04) 11.4.0 Ubuntu 20.04 (ARM) Kernel: Depends on container host Compiler: gcc (Ubuntu 9.4.0-1ubuntu1~20.04.2) 9.4.0 32-bit Ubuntu 22.04.4 (ARM) Kernel: 5.15.83+ aarch64 Compiler: gcc (Ubuntu 11.4.0-1ubuntu1~22.04) 11.4.0 Ubuntu 20.04 ARM SVE Kernel: Depends on container host Compiler: gcc (Ubuntu 10.5.0-1ubuntu1~20.04) 10.5.0 To view detailed results, visit: https://lab.dpdk.org/results/dashboard/patchsets/33097/ UNH-IOL DPDK Community Lab To manage your email subscriptions, visit: https://lab.dpdk.org/results/dashboard/preferences/subscriptions/