From mboxrd@z Thu Jan 1 00:00:00 1970 Return-Path: Received: from mails.dpdk.org (mails.dpdk.org [217.70.189.124]) by inbox.dpdk.org (Postfix) with ESMTP id 1B21C466A0 for ; Fri, 2 May 2025 19:32:45 +0200 (CEST) Received: from mails.dpdk.org (localhost [127.0.0.1]) by mails.dpdk.org (Postfix) with ESMTP id E1D83402F0; Fri, 2 May 2025 19:32:44 +0200 (CEST) Received: from mail-pf1-f225.google.com (mail-pf1-f225.google.com [209.85.210.225]) by mails.dpdk.org (Postfix) with ESMTP id 29287402E6 for ; Fri, 2 May 2025 19:32:44 +0200 (CEST) Received: by mail-pf1-f225.google.com with SMTP id d2e1a72fcca58-7376dd56eccso2761275b3a.0 for ; Fri, 02 May 2025 10:32:44 -0700 (PDT) DKIM-Signature: v=1; a=rsa-sha256; c=relaxed/relaxed; d=iol.unh.edu; s=unh-iol; t=1746207163; x=1746811963; darn=dpdk.org; h=references:in-reply-to:cc:to:from:subject:message-id:date:from:to :cc:subject:date:message-id:reply-to; bh=ZOsHHhXb2GSe5NBqqD45VuzDqVSFilf66RTQvBgr13g=; b=PdR621yEFlIQM96kAUa69HKeEm5UapRAf4fFE+JBp5t6psmrYCKQrM+ZzslvocV4X5 zZpUFtnYAt8zQn4nadhBdsUgyZo4MImg2DVt/nu1JBJ7A5I8rGH8Khy169kL6AdumUBD bPJrniIlpITEjHDujWO9KV7XQ3/v9+YLVErD0= X-Google-DKIM-Signature: v=1; a=rsa-sha256; c=relaxed/relaxed; d=1e100.net; s=20230601; t=1746207163; x=1746811963; h=references:in-reply-to:cc:to:from:subject:message-id:date :x-gm-message-state:from:to:cc:subject:date:message-id:reply-to; bh=ZOsHHhXb2GSe5NBqqD45VuzDqVSFilf66RTQvBgr13g=; b=nwe4B151JCokjZJbDS1MZqs9lEA+0PufXPjisqtHCGi2arlN6ZiJ/Ywebc7XwbyCb5 k42ePLI5geDh8gYJgiP7mgdUXSwqCLkFCHMpw1ff2Q/9q9zZU4BFkTxx+ZtPqm2ufWpt VQD5jRNz9lWhhGGOW5n6wHaQ6YJONRx57t/k8e+kBvm54J9mUkXZ/KWg6iV3d0mD7YQQ usIiydvrv8dNGQo02tS4yQVBX1cWLJc7exqiGzNC8CwVFINq64bLFMOWFxL9vox6gg/w rlFtg7/WATt5xuFSNwAxm/x1udl8eK+woRXrJR+ZOC4pfYyc89VrfHG/VOXghbMv2RAC dC2Q== X-Gm-Message-State: AOJu0Yz1FPbnMhyhsoverB0IUtTxzufUNNsAxHTo5ayGE2MfQyJ9VWJL NrNRAx229BMGk5qkwzJJO9MFq/EH5XeBzcKj1Q2+Hkfk/Djhe8XJFevoFJmYTMhCLo9rFS6rb0j HvICpR0IKUV4Q/ezEjcqlSxqbKVDoruFNe9dWI394gQt8XaPbNxGSWGT3 X-Gm-Gg: ASbGncveogq5Ozh+syVfgztOoM5HniiFnnaLTeCK85ERkfFNxcoLl4tGkmNybQ3OZls 7IDT9epUV7qy/hIqfeggf9tKrEb7BGdlZ7vKhbHbOYkqdEmKTkXlU5s2xfI19GpoNZmSXWN9qKZ 2jWd/dkMgYAYE++Rs9SXlMFdPnji383cu4moiiRDRrBxSzbFA4Vn40DAdkeNWf5SGWNg5uHwSKl tRQxSLEwkJ2iaYZ6wtWcNk1vbcFB2QzLc7pN3GIbUV8Dq7p1Gw4h7ozAICLgDh2RhbHz8kn/wcO CkGTKVf9/NjY/jD9AdHaoEZIcrnaag1Q/K4D X-Google-Smtp-Source: AGHT+IF2HIJfq/FLpgkoeIAkvMbVKDlL/BAB+4oV8N+HF4qRLjx5ao/93droGhPPtrmL6u6WeOoDGFBxI2aw X-Received: by 2002:a05:6a21:1fc8:b0:1f5:86f2:ba57 with SMTP id adf61e73a8af0-20cdfdf4e04mr7167204637.30.1746207163022; Fri, 02 May 2025 10:32:43 -0700 (PDT) Received: from postal.iol.unh.edu (postal.iol.unh.edu. [2606:4100:3880:1234::84]) by smtp-relay.gmail.com with ESMTPS id 41be03b00d2f7-b1fb3b96fe1sm92931a12.15.2025.05.02.10.32.42 (version=TLS1_2 cipher=ECDHE-ECDSA-AES128-GCM-SHA256 bits=128/128); Fri, 02 May 2025 10:32:43 -0700 (PDT) X-Relaying-Domain: iol.unh.edu Date: Fri, 02 May 2025 10:32:43 -0700 (PDT) Message-ID: <681501bb.630a0220.26d2d9.2fdeSMTPIN_ADDED_MISSING@mx.google.com> Received: from [172.17.0.2] (unknown [172.18.0.74]) by postal.iol.unh.edu (Postfix) with ESMTP id 3B1DE6052471; Fri, 2 May 2025 13:32:42 -0400 (EDT) Subject: |SUCCESS| pw153224-153227 [PATCH] [v3,4/4] eal: add option for auto- From: dpdklab@iol.unh.edu To: Test Report Cc: dpdk-test-reports@iol.unh.edu In-Reply-To: <20250502151134.536799-5-bruce.richardson@intel.com> References: <20250502151134.536799-5-bruce.richardson@intel.com> Content-Type: text/plain X-BeenThere: test-report@dpdk.org X-Mailman-Version: 2.1.29 Precedence: list List-Id: automatic DPDK test reports List-Unsubscribe: , List-Archive: List-Post: List-Help: List-Subscribe: , Errors-To: test-report-bounces@dpdk.org Test-Label: iol-compile-arm64-testing Test-Status: SUCCESS http://dpdk.org/patch/153227 _Testing PASS_ Submitter: Bruce Richardson Date: Friday, May 02 2025 15:11:34 DPDK git baseline: Repo:dpdk Branch: master CommitID:ca1690ebd224f148268285b15b97441ccdbdd07e 153224-153227 --> testing pass Upstream job id: Generic-DPDK-Compile-Meson#384511 Test environment and result as below: +--------------------------------------+--------------------+ | Environment | dpdk_meson_compile | +======================================+====================+ | RHEL9 (ARM) | PASS | +--------------------------------------+--------------------+ | Ubuntu 20.04 ARM GCC Cross Compile | PASS | +--------------------------------------+--------------------+ | Ubuntu 20.04 ARM SVE | PASS | +--------------------------------------+--------------------+ | Fedora 40 (ARM) | PASS | +--------------------------------------+--------------------+ | Debian 12 with MUSDK | PASS | +--------------------------------------+--------------------+ | Fedora 40 (ARM Clang) | PASS | +--------------------------------------+--------------------+ | Ubuntu 22.04 (ARM) | PASS | +--------------------------------------+--------------------+ | Ubuntu 24.04 (ARM) | PASS | +--------------------------------------+--------------------+ | Fedora 41 (ARM) | PASS | +--------------------------------------+--------------------+ | Fedora 41 (ARM Clang) | PASS | +--------------------------------------+--------------------+ | Ubuntu 20.04 (ARM) | PASS | +--------------------------------------+--------------------+ | Debian 12 (arm) | PASS | +--------------------------------------+--------------------+ | CentOS Stream 10 (ARM) | PASS | +--------------------------------------+--------------------+ | Ubuntu 20.04 ARM Clang Cross Compile | PASS | +--------------------------------------+--------------------+ | CentOS Stream 9 (ARM) | PASS | +--------------------------------------+--------------------+ RHEL9 (ARM) Kernel: Depends on container host Compiler: gcc 11.5.0 20240719 (Red Hat 11.5.0-2) Ubuntu 20.04 ARM GCC Cross Compile Kernel: Depends on container host Compiler: aarch64-linux-gnu-gcc (Ubuntu 9.4.0-1ubuntu1~20.04.2) 9.4.0 Ubuntu 20.04 ARM SVE Kernel: Depends on container host Compiler: gcc (Ubuntu 10.5.0-1ubuntu1~20.04) 10.5.0 Fedora 40 (ARM) Kernel: Depends on container host Compiler: gcc 14.2.1 20240912 (Red Hat 14.2.1-3) Debian 12 with MUSDK Kernel: Depends on container host Compiler: gcc (Debian 12.2.0-14) 12.2.0 Fedora 40 (ARM Clang) Kernel: Depends on container host Compiler: clang 18.1.8 (Fedora 18.1.8-1.fc40) Ubuntu 22.04 (ARM) Kernel: Depends on container host Compiler: gcc (Ubuntu 11.4.0-1ubuntu1~22.04) 11.4.0 Ubuntu 24.04 (ARM) Kernel: Depends on container host Compiler: gcc (Ubuntu 13.3.0-6ubuntu2~24.04) 13.3.0 Fedora 41 (ARM) Kernel: Depends on container host Compiler: gcc 14.2.1 20240912 (Red Hat 14.2.1-3) Fedora 41 (ARM Clang) Kernel: Depends on container host Compiler: clang 19.1.5 (Fedora 19.1.5-1.fc41) Ubuntu 20.04 (ARM) Kernel: Depends on container host Compiler: gcc (Ubuntu 9.4.0-1ubuntu1~20.04.2) 9.4.0 Debian 12 (arm) Kernel: Depends on container host Compiler: gcc (Debian 12.2.0-14) 12.2.0 CentOS Stream 10 (ARM) Kernel: Depends on container host Compiler: gcc 14.2.1 20241104 (Red Hat 14.2.1-6) Ubuntu 20.04 ARM Clang Cross Compile Kernel: Depends on container host Compiler: clang 10.0.0-4ubuntu1 CentOS Stream 9 (ARM) Kernel: Depends on container host Compiler: gcc 11.5.0 20240719 (Red Hat 11.5.0-2) To view detailed results, visit: https://lab.dpdk.org/results/dashboard/patchsets/33097/ UNH-IOL DPDK Community Lab To manage your email subscriptions, visit: https://lab.dpdk.org/results/dashboard/preferences/subscriptions/