From mboxrd@z Thu Jan 1 00:00:00 1970 Return-Path: Received: from mails.dpdk.org (mails.dpdk.org [217.70.189.124]) by inbox.dpdk.org (Postfix) with ESMTP id 8366F466A5 for ; Sat, 3 May 2025 07:06:52 +0200 (CEST) Received: from mails.dpdk.org (localhost [127.0.0.1]) by mails.dpdk.org (Postfix) with ESMTP id 7FB8D40261; Sat, 3 May 2025 07:06:52 +0200 (CEST) Received: from mail-pl1-f226.google.com (mail-pl1-f226.google.com [209.85.214.226]) by mails.dpdk.org (Postfix) with ESMTP id A80354025D for ; Sat, 3 May 2025 07:06:51 +0200 (CEST) Received: by mail-pl1-f226.google.com with SMTP id d9443c01a7336-22e15aea506so13900745ad.1 for ; Fri, 02 May 2025 22:06:51 -0700 (PDT) DKIM-Signature: v=1; a=rsa-sha256; c=relaxed/relaxed; d=iol.unh.edu; s=unh-iol; t=1746248810; x=1746853610; darn=dpdk.org; h=cc:to:from:subject:message-id:date:from:to:cc:subject:date :message-id:reply-to; bh=aTYKwqaa8EfPKsVfoA0JDc/tuH+OVZ4zFWSNXwAvafo=; b=hnbgGb9PCr0p01qyPlgQlr9uQ/vZ/Rmuz6oxP7F8FfOK6CocKA3PwzkoPZCpRKXfPA X9X4jyDZmiOCc/jWF3WfWXUQwU2aZXsXppu6Ip9HCxdpPcYewapST+WDDxIxCzMX3+lw PrWsxDm9HqGL7AW33KjC2Ywc5jegNcCI6F3Ck= X-Google-DKIM-Signature: v=1; a=rsa-sha256; c=relaxed/relaxed; d=1e100.net; s=20230601; t=1746248810; x=1746853610; h=cc:to:from:subject:message-id:date:x-gm-message-state:from:to:cc :subject:date:message-id:reply-to; bh=aTYKwqaa8EfPKsVfoA0JDc/tuH+OVZ4zFWSNXwAvafo=; b=Wq0GXXiDt9ghk5tB9Hpq+r9W61ylNZ7iMnrxxgcVAyTe42UkCZ+0qTQf0rEuMhnctz 79QFKsa0VugBezk1M0lnhH5cvM7ZWdH/EqSnzTbkfX6a3nNKORWddGb2/SBZU+pdszM2 +z4xnOXN0/KdiPdtD8zYYuPFNT7ur1XCgWD6xKPTef5nw5BLIQpOQmlJQ53DF2sgAIKq XzjBzipsjuWbIDZSrs/WeGeKWm/sbbaWngV7a2wyfWpDckQD5ZDFJty46/C3BD4XdQcx I8pt1rRENtY2ULy82RPDbPnqQpERJl6JZ8vR7/34GEMKxJ8su00Dn1y0vlu3nrPObAjD wQWw== X-Gm-Message-State: AOJu0Yym3FNeVk+A6WiSNTqO0uYEbkXogRwqJYX0gXb3eOc+Dl7pj8Uy zFe+2NOqWGJdME44G12nrMVXuvOBQDHSc66zqdUflXiTKvzu+HNcyp2tDoWHoHIPNzkLRfT/vcc TB4M8tN+6fFs8uGg7xZCa6wae7Q1xzBleJvQMzHOjTslOEF2W X-Gm-Gg: ASbGnctyoWX2k3Keag9ExOXDXqDrJZOuCSqjk2Jc7hz+n78/iU9iqflPOrSAutL9S4Z FDg7ufTqVcTzEwxatgs2BoZtg3YDA7nVUzjrSB8jMrygbJthQHP/fzM0KDdbb74vW7Ii+ORrkm4 jqARZld75XK8YSYhLSQNrCxqHG8zjDh5YXvQvIn6atT492U+evWqzc15WGhYMg0wZUp58ZHzBN6 qittRd4kGvNz3rEUyJsR3uXIkcsvHV5ncV4gKC/x8jO25PxztAlah4Fz6BVxmEZeOF151pp5V+2 OMDDnqSJllj2tEPf5RQQSLGQjm/0DQ9WQpJW X-Google-Smtp-Source: AGHT+IFPfTu/drJYY4bvpgMq9dqgMZc8P6rJEUwbHcDp0s3DdvvbSBxceBEbxrdkpNDsAutwjefoq4OcL5q7 X-Received: by 2002:a17:903:1b2d:b0:223:f408:c3f7 with SMTP id d9443c01a7336-22e102cd9bbmr87323075ad.16.1746248810700; Fri, 02 May 2025 22:06:50 -0700 (PDT) Received: from postal.iol.unh.edu (postal.iol.unh.edu. [2606:4100:3880:1234::84]) by smtp-relay.gmail.com with ESMTPS id d9443c01a7336-22e1522b52dsm3063745ad.82.2025.05.02.22.06.50 (version=TLS1_2 cipher=ECDHE-ECDSA-AES128-GCM-SHA256 bits=128/128); Fri, 02 May 2025 22:06:50 -0700 (PDT) X-Relaying-Domain: iol.unh.edu Date: Fri, 02 May 2025 22:06:50 -0700 (PDT) Message-ID: <6815a46a.170a0220.2c8f4f.5520SMTPIN_ADDED_MISSING@mx.google.com> Received: from [172.21.0.7] (unknown [172.18.0.240]) by postal.iol.unh.edu (Postfix) with ESMTP id D06146052471; Sat, 3 May 2025 01:06:49 -0400 (EDT) Subject: |SUCCESS| [GIT MASTER] 4c5634de9f933555bab9c64a533d3dca999071cd From: dpdklab@iol.unh.edu To: Test Report Cc: dpdk-test-reports@iol.unh.edu, Xueming Li , Christian Ehrhardt , Kevin Traynor , Luca Boccassi Content-Type: text/plain X-BeenThere: test-report@dpdk.org X-Mailman-Version: 2.1.29 Precedence: list List-Id: automatic DPDK test reports List-Unsubscribe: , List-Archive: List-Post: List-Help: List-Subscribe: , Errors-To: test-report-bounces@dpdk.org _Testing PASS_ Branch: tags/v24.11 4c5634de9f933555bab9c64a533d3dca999071cd --> testing pass Upstream job id: Generic-DPDK-Compile-ABI#125044 Test environment and result as below: +-------------------+----------+ | Environment | abi_test | +===================+==========+ | CentOS Stream 9 | PASS | +-------------------+----------+ | CentOS Stream 10 | PASS | +-------------------+----------+ | Debian 12 | PASS | +-------------------+----------+ | openSUSE Leap 15 | PASS | +-------------------+----------+ | Fedora 40 (Clang) | PASS | +-------------------+----------+ | Fedora 40 | PASS | +-------------------+----------+ | Fedora 41 (Clang) | PASS | +-------------------+----------+ | Fedora 41 | PASS | +-------------------+----------+ | RHEL8 | PASS | +-------------------+----------+ | RHEL9 | PASS | +-------------------+----------+ | Ubuntu 22.04 | PASS | +-------------------+----------+ | Ubuntu 24.04 | PASS | +-------------------+----------+ CentOS Stream 9 Kernel: Depends on container host Compiler: gcc 11.5.0 20240719 (Red Hat 11.5.0-2) CentOS Stream 10 Kernel: Depends on container host Compiler: gcc 14.2.1 20241104 (Red Hat 14.2.1-6) Debian 12 Kernel: Depends on container host Compiler: gcc (Debian 12.2.0-14) 12.2.0 openSUSE Leap 15 Kernel: Depends on container host Compiler: gcc (SUSE Linux) 7.5.0 Fedora 40 (Clang) Kernel: Depends on container host Compiler: clang 18.1.8 (Fedora 18.1.8-1.fc40) Fedora 40 Kernel: Depends on container host Compiler: gcc 14.2.1 20240912 (Red Hat 14.2.1-3) Fedora 41 (Clang) Kernel: Depends on container host Compiler: clang 19.1.5 (Fedora 19.1.5-1.fc41) Fedora 41 Kernel: Depends on container host Compiler: gcc 14.2.1 20240912 (Red Hat 14.2.1-3) RHEL8 Kernel: Depends on container host Compiler: gcc 8.5.0 20210514 (Red Hat 8.5.0-22) RHEL9 Kernel: Depends on container host Compiler: gcc 11.5.0 20240719 (Red Hat 11.5.0-2) Ubuntu 22.04 Kernel: Depends on container host Compiler: gcc (Ubuntu 11.4.0-1ubuntu1~22.04) 11.4.0 Ubuntu 24.04 Kernel: Depends on container host Compiler: gcc (Ubuntu 13.3.0-6ubuntu2~24.04) 13.3.0 To view detailed results, visit: https://lab.dpdk.org/results/dashboard/tarballs/33414/ UNH-IOL DPDK Community Lab To manage your email subscriptions, visit: https://lab.dpdk.org/results/dashboard/preferences/subscriptions/