From mboxrd@z Thu Jan 1 00:00:00 1970 Return-Path: Received: from mails.dpdk.org (mails.dpdk.org [217.70.189.124]) by inbox.dpdk.org (Postfix) with ESMTP id 1D277466A5 for ; Sat, 3 May 2025 07:27:47 +0200 (CEST) Received: from mails.dpdk.org (localhost [127.0.0.1]) by mails.dpdk.org (Postfix) with ESMTP id EE2BC40261; Sat, 3 May 2025 07:27:46 +0200 (CEST) Received: from mail-oa1-f98.google.com (mail-oa1-f98.google.com [209.85.160.98]) by mails.dpdk.org (Postfix) with ESMTP id 2BDB54025D for ; Sat, 3 May 2025 07:27:45 +0200 (CEST) Received: by mail-oa1-f98.google.com with SMTP id 586e51a60fabf-2c76a1b574cso922013fac.2 for ; Fri, 02 May 2025 22:27:45 -0700 (PDT) DKIM-Signature: v=1; a=rsa-sha256; c=relaxed/relaxed; d=iol.unh.edu; s=unh-iol; t=1746250064; x=1746854864; darn=dpdk.org; h=cc:to:from:subject:message-id:date:from:to:cc:subject:date :message-id:reply-to; bh=9Mj0UiG8Llc9f9aDa07KNL6p4Oueb28SxU2lw7ECJ9s=; b=O2tiXGWC4rdMSUu7NfMezIASGXWulBhVpBeO9S+EXj8CRWS60l5Xv4vIFxlG8ZXL14 jUgQAdktZo7P3umCsnxVu6TPC7PziU1dBeSmXtntXCnslrVYMf58ugRxS6y9uPHfgp7e h7YlD2eOeKNfDgUhiVsva+nN1PSrWnlXJeY5o= X-Google-DKIM-Signature: v=1; a=rsa-sha256; c=relaxed/relaxed; d=1e100.net; s=20230601; t=1746250064; x=1746854864; h=cc:to:from:subject:message-id:date:x-gm-message-state:from:to:cc :subject:date:message-id:reply-to; bh=9Mj0UiG8Llc9f9aDa07KNL6p4Oueb28SxU2lw7ECJ9s=; b=AOj3H9SalBhSijPQvLGozd9Q5uCTMqItqxuKrbaRBdopjD5EDF8zIb3PVvqZc17Z1j vAmwqmEvcaSrfJ8l+s5QaKriG29KnTdB5ch7dq0vxykB7Qk+ftutoYu3anMEzNf/X+lU 7FqJQTC/ED3QLhXX4u6C225oE6Yo8CEOui7VIk9NWKKrhcIQu5OnlhhLZprUGt/uGV2Z enG9gvY1+su0qbYFdOJ4xHMHtQs2f8o15G3SL2xVSa7QO8qvpw5iYft872QNNFMbCBux jYp03NkTAWxZ44cZR+K1wRusmUjtsxOgPjJWDruiah6jffm3F3SsrEwX1AHqCOk6fmu5 c4SA== X-Gm-Message-State: AOJu0YwvlGqapfZQZilmyAbHmfZfiwme4WLSxgEiLrvcqiL5ovijAG8Z 0bMQsMuGQ0VzMy0OXKqYuAFvrS3HW9w9Sr3T3sER6R1wfL+l+hUVNsvv8cHfQ9Hr2g1aLX8Sdsn UB/McYVr7Zb8MOeJ8WXVNrRW7ny/H3VnG X-Gm-Gg: ASbGncv1UOZrhUbrOQ+jPuhlGb3Z67Ad274DKNf2rY6DGscBYowZMKCLqFbkUu9jce/ 9xJ+UTTK/SJqZ5OwoXLizIfaWQFOtqF5ah+A0JcQr59a7v11Auc3v6+GLPJrVc+WxKMSDNGW27y luiEmdZgWf1GNmeZPY9tGGWdsS4E9oox0wuAs3dT3b5ORq854YVACMIYhrWNg5ESEpe3kOpPJeD g1u8wDqMfP6gVNUejvKFwt7Te/6NPKy2C4qcGRAj+wnfyGeiDF4gEzvkaiy9gp6fUBImBGQcbyO 2Z7r8/MxWEIElNd0Af8ZaxREXDtE8NxHjdEsKUspiFAj5yPHO6IzBLInTIU= X-Google-Smtp-Source: AGHT+IGPbaVk25FuiNJ33+OLLQzg9lgUDvnd+fwyCIlXQ8bYALYSiXiwlhFu2nS/WCS7KowDlbDfGeCEsiOY X-Received: by 2002:a05:6870:b004:b0:29f:97af:a1a0 with SMTP id 586e51a60fabf-2dab3301a9cmr3025982fac.24.1746250064279; Fri, 02 May 2025 22:27:44 -0700 (PDT) Received: from postal.iol.unh.edu (postal.iol.unh.edu. [132.177.123.84]) by smtp-relay.gmail.com with ESMTPS id 586e51a60fabf-2daa0ee361fsm862280fac.12.2025.05.02.22.27.44 (version=TLS1_2 cipher=ECDHE-ECDSA-AES128-GCM-SHA256 bits=128/128); Fri, 02 May 2025 22:27:44 -0700 (PDT) X-Relaying-Domain: iol.unh.edu Date: Fri, 02 May 2025 22:27:44 -0700 (PDT) Message-ID: <6815a950.050a0220.17e1ac.a28aSMTPIN_ADDED_MISSING@mx.google.com> Received: from [172.21.0.6] (unknown [172.18.0.240]) by postal.iol.unh.edu (Postfix) with ESMTP id 64AA46052471; Sat, 3 May 2025 01:27:43 -0400 (EDT) Subject: |SUCCESS| [GIT MASTER] 83a7a648344674c0269fcaeb71d8d16468421a0e From: dpdklab@iol.unh.edu To: Test Report Cc: dpdk-test-reports@iol.unh.edu, Xueming Li , Christian Ehrhardt , Kevin Traynor , Luca Boccassi Content-Type: text/plain X-BeenThere: test-report@dpdk.org X-Mailman-Version: 2.1.29 Precedence: list List-Id: automatic DPDK test reports List-Unsubscribe: , List-Archive: List-Post: List-Help: List-Subscribe: , Errors-To: test-report-bounces@dpdk.org _Testing PASS_ Branch: tags/v23.11 83a7a648344674c0269fcaeb71d8d16468421a0e --> testing pass Upstream job id: Generic-DPDK-Compile-ABI#125066 Test environment and result as below: +-------------------+----------+ | Environment | abi_test | +===================+==========+ | CentOS Stream 9 | PASS | +-------------------+----------+ | CentOS Stream 10 | PASS | +-------------------+----------+ | Debian 12 | PASS | +-------------------+----------+ | Fedora 40 (Clang) | PASS | +-------------------+----------+ | Fedora 40 | PASS | +-------------------+----------+ | Fedora 41 (Clang) | PASS | +-------------------+----------+ | Fedora 41 | PASS | +-------------------+----------+ | openSUSE Leap 15 | PASS | +-------------------+----------+ | RHEL8 | PASS | +-------------------+----------+ | RHEL9 | PASS | +-------------------+----------+ | Ubuntu 22.04 | PASS | +-------------------+----------+ | Ubuntu 24.04 | PASS | +-------------------+----------+ CentOS Stream 9 Kernel: Depends on container host Compiler: gcc 11.5.0 20240719 (Red Hat 11.5.0-2) CentOS Stream 10 Kernel: Depends on container host Compiler: gcc 14.2.1 20241104 (Red Hat 14.2.1-6) Debian 12 Kernel: Depends on container host Compiler: gcc (Debian 12.2.0-14) 12.2.0 Fedora 40 (Clang) Kernel: Depends on container host Compiler: clang 18.1.8 (Fedora 18.1.8-1.fc40) Fedora 40 Kernel: Depends on container host Compiler: gcc 14.2.1 20240912 (Red Hat 14.2.1-3) Fedora 41 (Clang) Kernel: Depends on container host Compiler: clang 19.1.5 (Fedora 19.1.5-1.fc41) Fedora 41 Kernel: Depends on container host Compiler: gcc 14.2.1 20240912 (Red Hat 14.2.1-3) openSUSE Leap 15 Kernel: Depends on container host Compiler: gcc (SUSE Linux) 7.5.0 RHEL8 Kernel: Depends on container host Compiler: gcc 8.5.0 20210514 (Red Hat 8.5.0-22) RHEL9 Kernel: Depends on container host Compiler: gcc 11.5.0 20240719 (Red Hat 11.5.0-2) Ubuntu 22.04 Kernel: Depends on container host Compiler: gcc (Ubuntu 11.4.0-1ubuntu1~22.04) 11.4.0 Ubuntu 24.04 Kernel: Depends on container host Compiler: gcc (Ubuntu 13.3.0-6ubuntu2~24.04) 13.3.0 To view detailed results, visit: https://lab.dpdk.org/results/dashboard/tarballs/33415/ UNH-IOL DPDK Community Lab To manage your email subscriptions, visit: https://lab.dpdk.org/results/dashboard/preferences/subscriptions/