From mboxrd@z Thu Jan 1 00:00:00 1970 Return-Path: Received: from mails.dpdk.org (mails.dpdk.org [217.70.189.124]) by inbox.dpdk.org (Postfix) with ESMTP id B3D75466A8 for ; Sat, 3 May 2025 08:16:01 +0200 (CEST) Received: from mails.dpdk.org (localhost [127.0.0.1]) by mails.dpdk.org (Postfix) with ESMTP id 84AFE40261; Sat, 3 May 2025 08:16:01 +0200 (CEST) Received: from mail-io1-f100.google.com (mail-io1-f100.google.com [209.85.166.100]) by mails.dpdk.org (Postfix) with ESMTP id CA1454025D for ; Sat, 3 May 2025 08:15:59 +0200 (CEST) Received: by mail-io1-f100.google.com with SMTP id ca18e2360f4ac-86192b6946eso86052639f.1 for ; Fri, 02 May 2025 23:15:59 -0700 (PDT) DKIM-Signature: v=1; a=rsa-sha256; c=relaxed/relaxed; d=iol.unh.edu; s=unh-iol; t=1746252959; x=1746857759; darn=dpdk.org; h=cc:to:from:subject:message-id:date:from:to:cc:subject:date :message-id:reply-to; bh=Yc1upEJ5yWTrs2mm1mnuxSpiXDOvnxruPwmCl6rsodE=; b=HP/OVCC6NqVUQYwTa//T2Bo4yvawL2P6NbE02Fva+HQeLhMCdjD1z3CGsmFbdXO+kS CFqS8BfZ+8Ib2NYYK1rB+CDMt1GkXLT7Mf6Tfsvf4lyNIhtrzd+ea4LYQpRwte8nWRol ZkANrs9LfHIQK7PVuUEHOzuyMDPtsg0JtoUhg= X-Google-DKIM-Signature: v=1; a=rsa-sha256; c=relaxed/relaxed; d=1e100.net; s=20230601; t=1746252959; x=1746857759; h=cc:to:from:subject:message-id:date:x-gm-message-state:from:to:cc :subject:date:message-id:reply-to; bh=Yc1upEJ5yWTrs2mm1mnuxSpiXDOvnxruPwmCl6rsodE=; b=krjBrwpsu11I03lAqqt1YCmfeXjxsbxBki9Gfocuxby0+w+MehBIVQhdQYds+1SJqq Ov1Ft3RzOVZFkKaAhEEbSGrWfOP5Yr0wgNN0O77Ax2N6HQhZ/rqg22pw13uwlHM4GlGG ArlUqlnSN4pXk19KlFkIvdSsT7JdJ8MWJv/S8B2empbPb05zrGcI5cUoo5CjgVk+R52a OeM59i2legZRwjo5A9ObJ3d6w9FHKn68zQNvk9VuJiIBcB108akj+NC5qv+2fAxp8l5T z1+f6/86EWCisDEu3uxCmSnN0+3pVRQhEixNtdZbQCDJ8xSOH30wTGF3Dau9UNpZEVwY PCJg== X-Gm-Message-State: AOJu0YyHEDMTMyw9b+VyjpBgoavvZlASWcKiD2hWB7CmOv5Edw8nVl+S qyz+wCkxvqsKEoGQ3UB+J8QyZlTepH1RP1uJHyYHJ5kc+aT6lDqQc7m60DejmFrj67uNDdGXAnT yhjxzFH/X4ncwOc1BAe9c6j0WmTQlO/iD X-Gm-Gg: ASbGncs0pON/yF2b4dxdk77kmXH60rtCrqjFdmNJka1tTWR4SkpV5csnmrMmvsmeBMv jP/tSTudjxTsn4bzpQWlpU7sjfwKtdk8NuoTHzUaQ6egU0hoVeU9ZatAggf1iYJG4V8vjLHwLKT YnRo2IKqn7Us5W6ATEyUeQ6qmfeBVuPUo8JbNMbyqpLtx5an8mHwVTcpo6qVYKZbXDO6UGVvZNx Bl/aRx456VIZAKWoRn5SgZq6L4vNlIDY5ws5gmZA8z5mN/lEC65debfKmicgtAsU8FkpavcSETO XUEFqAc4daJyyJ1XpJPp3wvwC7yqZT4RYsyNyKXpNFQ70A3IUYOrO5eVbJM= X-Google-Smtp-Source: AGHT+IEUbwTCUM4kgndPFkuS2kINZBVdIEiKhhtSUl47q+7efrN32WtC/kDZQ4z26YUzmQ9gvmaWPik+e+VJ X-Received: by 2002:a05:6e02:1f81:b0:3d9:36bd:8c5f with SMTP id e9e14a558f8ab-3da5b2a02dcmr840995ab.11.1746252959058; Fri, 02 May 2025 23:15:59 -0700 (PDT) Received: from postal.iol.unh.edu (postal.iol.unh.edu. [132.177.123.84]) by smtp-relay.gmail.com with ESMTPS id e9e14a558f8ab-3d975ecd6a2sm8358315ab.38.2025.05.02.23.15.58 (version=TLS1_2 cipher=ECDHE-ECDSA-AES128-GCM-SHA256 bits=128/128); Fri, 02 May 2025 23:15:59 -0700 (PDT) X-Relaying-Domain: iol.unh.edu Date: Fri, 02 May 2025 23:15:59 -0700 (PDT) Message-ID: <6815b49f.920a0220.3a22b5.ac9fSMTPIN_ADDED_MISSING@mx.google.com> Received: from [172.21.0.5] (unknown [172.18.0.240]) by postal.iol.unh.edu (Postfix) with ESMTP id 83DA46052471; Sat, 3 May 2025 02:15:58 -0400 (EDT) Subject: |SUCCESS| [GIT MASTER] 4c5634de9f933555bab9c64a533d3dca999071cd From: dpdklab@iol.unh.edu To: Test Report Cc: dpdk-test-reports@iol.unh.edu, Xueming Li , Christian Ehrhardt , Kevin Traynor , Luca Boccassi Content-Type: text/plain X-BeenThere: test-report@dpdk.org X-Mailman-Version: 2.1.29 Precedence: list List-Id: automatic DPDK test reports List-Unsubscribe: , List-Archive: List-Post: List-Help: List-Subscribe: , Errors-To: test-report-bounces@dpdk.org _Testing PASS_ Branch: tags/v24.11 4c5634de9f933555bab9c64a533d3dca999071cd --> testing pass Upstream job id: Generic-Unit-Test-DPDK#334893 Test environment and result as below: +-----------------------------+----------------+--------------+------------------------------+---------------------------+ | Environment | dpdk_unit_test | lpm_autotest | cryptodev_sw_snow3g_autotest | cryptodev_sw_zuc_autotest | +=============================+================+==============+==============================+===========================+ | CentOS Stream 9 (ARM) | PASS | SKIPPED | SKIPPED | SKIPPED | +-----------------------------+----------------+--------------+------------------------------+---------------------------+ | Fedora 40 (ARM) | PASS | SKIPPED | SKIPPED | SKIPPED | +-----------------------------+----------------+--------------+------------------------------+---------------------------+ | Debian 12 (arm) | PASS | SKIPPED | PASS | PASS | +-----------------------------+----------------+--------------+------------------------------+---------------------------+ | Fedora 40 (ARM Clang) | PASS | SKIPPED | SKIPPED | SKIPPED | +-----------------------------+----------------+--------------+------------------------------+---------------------------+ | CentOS Stream 10 (ARM) | PASS | SKIPPED | SKIPPED | SKIPPED | +-----------------------------+----------------+--------------+------------------------------+---------------------------+ | RHEL9 (ARM) | PASS | SKIPPED | SKIPPED | SKIPPED | +-----------------------------+----------------+--------------+------------------------------+---------------------------+ | Fedora 41 (ARM) | PASS | SKIPPED | SKIPPED | SKIPPED | +-----------------------------+----------------+--------------+------------------------------+---------------------------+ | Ubuntu 20.04 (ARM) | PASS | SKIPPED | SKIPPED | SKIPPED | +-----------------------------+----------------+--------------+------------------------------+---------------------------+ | Ubuntu 24.04 (ARM) | PASS | SKIPPED | SKIPPED | SKIPPED | +-----------------------------+----------------+--------------+------------------------------+---------------------------+ | Ubuntu 22.04 (ARM) | PASS | SKIPPED | SKIPPED | SKIPPED | +-----------------------------+----------------+--------------+------------------------------+---------------------------+ | Fedora 41 (ARM Clang) | PASS | SKIPPED | SKIPPED | SKIPPED | +-----------------------------+----------------+--------------+------------------------------+---------------------------+ | 32-bit Ubuntu 22.04.4 (ARM) | PASS | SKIPPED | SKIPPED | SKIPPED | +-----------------------------+----------------+--------------+------------------------------+---------------------------+ | Ubuntu 20.04 ARM SVE | SKIPPED | PASS | SKIPPED | SKIPPED | +-----------------------------+----------------+--------------+------------------------------+---------------------------+ CentOS Stream 9 (ARM) Kernel: Depends on container host Compiler: gcc 11.5.0 20240719 (Red Hat 11.5.0-2) Fedora 40 (ARM) Kernel: Depends on container host Compiler: gcc 14.2.1 20240912 (Red Hat 14.2.1-3) Debian 12 (arm) Kernel: Depends on container host Compiler: gcc (Debian 12.2.0-14) 12.2.0 Fedora 40 (ARM Clang) Kernel: Depends on container host Compiler: clang 18.1.8 (Fedora 18.1.8-1.fc40) CentOS Stream 10 (ARM) Kernel: Depends on container host Compiler: gcc 14.2.1 20241104 (Red Hat 14.2.1-6) RHEL9 (ARM) Kernel: Depends on container host Compiler: gcc 11.5.0 20240719 (Red Hat 11.5.0-2) Fedora 41 (ARM) Kernel: Depends on container host Compiler: gcc 14.2.1 20240912 (Red Hat 14.2.1-3) Ubuntu 20.04 (ARM) Kernel: Depends on container host Compiler: gcc (Ubuntu 9.4.0-1ubuntu1~20.04.2) 9.4.0 Ubuntu 24.04 (ARM) Kernel: Depends on container host Compiler: gcc (Ubuntu 13.3.0-6ubuntu2~24.04) 13.3.0 Ubuntu 22.04 (ARM) Kernel: Depends on container host Compiler: gcc (Ubuntu 11.4.0-1ubuntu1~22.04) 11.4.0 Fedora 41 (ARM Clang) Kernel: Depends on container host Compiler: clang 19.1.5 (Fedora 19.1.5-1.fc41) 32-bit Ubuntu 22.04.4 (ARM) Kernel: 5.15.83+ aarch64 Compiler: gcc (Ubuntu 11.4.0-1ubuntu1~22.04) 11.4.0 Ubuntu 20.04 ARM SVE Kernel: Depends on container host Compiler: gcc (Ubuntu 10.5.0-1ubuntu1~20.04) 10.5.0 To view detailed results, visit: https://lab.dpdk.org/results/dashboard/tarballs/33414/ UNH-IOL DPDK Community Lab To manage your email subscriptions, visit: https://lab.dpdk.org/results/dashboard/preferences/subscriptions/