From mboxrd@z Thu Jan 1 00:00:00 1970 Return-Path: Received: from mails.dpdk.org (mails.dpdk.org [217.70.189.124]) by inbox.dpdk.org (Postfix) with ESMTP id C60AB466A8 for ; Sat, 3 May 2025 08:28:21 +0200 (CEST) Received: from mails.dpdk.org (localhost [127.0.0.1]) by mails.dpdk.org (Postfix) with ESMTP id A2B2640261; Sat, 3 May 2025 08:28:21 +0200 (CEST) Received: from mail-il1-f228.google.com (mail-il1-f228.google.com [209.85.166.228]) by mails.dpdk.org (Postfix) with ESMTP id DFA644025D for ; Sat, 3 May 2025 08:28:19 +0200 (CEST) Received: by mail-il1-f228.google.com with SMTP id e9e14a558f8ab-3d965c64d53so10493485ab.1 for ; Fri, 02 May 2025 23:28:19 -0700 (PDT) DKIM-Signature: v=1; a=rsa-sha256; c=relaxed/relaxed; d=iol.unh.edu; s=unh-iol; t=1746253699; x=1746858499; darn=dpdk.org; h=cc:to:from:subject:message-id:date:from:to:cc:subject:date :message-id:reply-to; bh=HF94Iu0N0i+7Se4Tsh1nu+mcDth4rJj5bD7RaF6U33Q=; b=iEhJE92OBWAh9oB8/rhCrxWioOyfrDT0jEOEfnB1Dir+CuNmlXsRg+2hCDTyQtb+cV yCX50/GyGPt6v58TrZ5XQkpihUsXUJUL56TlAcHq/7CxSJ5Z712jLq3AaM2Xt6+osIxY hW0Gg87Bhfe19Aw54SwZ46orQO1Wo59gijGf8= X-Google-DKIM-Signature: v=1; a=rsa-sha256; c=relaxed/relaxed; d=1e100.net; s=20230601; t=1746253699; x=1746858499; h=cc:to:from:subject:message-id:date:x-gm-message-state:from:to:cc :subject:date:message-id:reply-to; bh=HF94Iu0N0i+7Se4Tsh1nu+mcDth4rJj5bD7RaF6U33Q=; b=JtSf9s7jIL0HYz8SdJM3RJGXITRExyttUMxXn5HCxCnxT5pwwoq399xbQxidUhct0J 0RRDCk0n3M1iXuDSE4CgCzoyu+tyv/aKUgPFzxKgyELfIrNHC8MGemQe7y4+EZNRZY9h vRnX+5BHppD+oZuebk21uRcVte9ExUBJ6lg45CCQFmmvyplalJeKKUkgux4ykvlZwu3a vAJOL3BiP2AZHOTS5Yak12ZDnX/hhiBSeRqOqbzOTDwGHrOyReoFR0aTa1ekNDMMVk5K LVUuLC/Yl25/CXoQoPaZX3kr0Uivws5HHWkQY5TfPl2dBPmdyC7l2gPlpnCmgHvqCa7M oZHw== X-Gm-Message-State: AOJu0YzeKXw6xjRw9NzbLEiyBi6se9rQtSTb8IrmIGnQpuc1NXoP3BTR FepS1VfNnDYpc32TBNQffanp6kasNnmk9XPqlv5RtpGVIDkt0htMQBSZrKrhh4T/HtgQq3nnrlH tz70W1oM985nJ8M9qsEf7U55YoiYecmXoiivc5Pa4PPM47k1/ X-Gm-Gg: ASbGnctSNxXaRavpzsMbWYShIvzTAzVnXRD1QKtWKxCS6xzU73MmwqCRf/Mkflxqg/M 2LCPpd8qc0OtNCuwt+DeXZkaAK8unPVrDxeLaaG1klCXPxqHTM2TC7oLoFybIICUcfHC/FFh6YA MDVAGD0Amib29ZuZj4Ng0RtwO/DOrNa4RfCKZPxY76d4irn6j9r0QzOBYUf3kQs5LmHctvFbD0C zztObzxhEvs6w/23iz9MNN3VX3E5M1561R7D129jtIZq++C74gVck3FteLYsJ7s4EadNKdi6V1l iIjvddwZs5Mg4OLsKgCOtHQ9m+3/LyUR/4Q9 X-Google-Smtp-Source: AGHT+IG8+Z065GkbYCgaxeOiOWT2mLFNzrNqedfLYO2H4wdGU/S5poIAtoip4KA2aZ3BscybRy7ZoR0EOS/L X-Received: by 2002:a05:6e02:b2d:b0:3d8:2178:5c50 with SMTP id e9e14a558f8ab-3da5b323d7cmr815555ab.14.1746253699095; Fri, 02 May 2025 23:28:19 -0700 (PDT) Received: from postal.iol.unh.edu (postal.iol.unh.edu. [2606:4100:3880:1234::84]) by smtp-relay.gmail.com with ESMTPS id e9e14a558f8ab-3d975ecd528sm8471345ab.37.2025.05.02.23.28.19 (version=TLS1_2 cipher=ECDHE-ECDSA-AES128-GCM-SHA256 bits=128/128); Fri, 02 May 2025 23:28:19 -0700 (PDT) X-Relaying-Domain: iol.unh.edu Date: Fri, 02 May 2025 23:28:19 -0700 (PDT) Message-ID: <6815b783.920a0220.16641e.aabeSMTPIN_ADDED_MISSING@mx.google.com> Received: from [172.21.0.5] (unknown [172.18.0.240]) by postal.iol.unh.edu (Postfix) with ESMTP id 90EA26052471; Sat, 3 May 2025 02:28:18 -0400 (EDT) Subject: |SUCCESS| [GIT MASTER] 4c5634de9f933555bab9c64a533d3dca999071cd From: dpdklab@iol.unh.edu To: Test Report Cc: dpdk-test-reports@iol.unh.edu, Xueming Li , Christian Ehrhardt , Kevin Traynor , Luca Boccassi Content-Type: text/plain X-BeenThere: test-report@dpdk.org X-Mailman-Version: 2.1.29 Precedence: list List-Id: automatic DPDK test reports List-Unsubscribe: , List-Archive: List-Post: List-Help: List-Subscribe: , Errors-To: test-report-bounces@dpdk.org _Testing PASS_ Branch: tags/v24.11 4c5634de9f933555bab9c64a533d3dca999071cd --> testing pass Upstream job id: Generic-Unit-Test-DPDK#334891 Test environment and result as below: +---------------------+----------------+ | Environment | dpdk_unit_test | +=====================+================+ | Fedora 40 (Clang) | PASS | +---------------------+----------------+ | Debian 12 | PASS | +---------------------+----------------+ | Fedora 40 | PASS | +---------------------+----------------+ | CentOS Stream 10 | PASS | +---------------------+----------------+ | CentOS Stream 9 | PASS | +---------------------+----------------+ | Fedora 41 | PASS | +---------------------+----------------+ | Ubuntu 20.04 | PASS | +---------------------+----------------+ | RHEL8 | PASS | +---------------------+----------------+ | RHEL9 | PASS | +---------------------+----------------+ | Fedora 41 (Clang) | PASS | +---------------------+----------------+ | Ubuntu 24.04 | PASS | +---------------------+----------------+ | Ubuntu 22.04 | PASS | +---------------------+----------------+ | Windows Server 2022 | PASS | +---------------------+----------------+ Fedora 40 (Clang) Kernel: Depends on container host Compiler: clang 18.1.8 (Fedora 18.1.8-1.fc40) Debian 12 Kernel: Depends on container host Compiler: gcc (Debian 12.2.0-14) 12.2.0 Fedora 40 Kernel: Depends on container host Compiler: gcc 14.2.1 20240912 (Red Hat 14.2.1-3) CentOS Stream 10 Kernel: Depends on container host Compiler: gcc 14.2.1 20241104 (Red Hat 14.2.1-6) CentOS Stream 9 Kernel: Depends on container host Compiler: gcc 11.5.0 20240719 (Red Hat 11.5.0-2) Fedora 41 Kernel: Depends on container host Compiler: gcc 14.2.1 20240912 (Red Hat 14.2.1-3) Ubuntu 20.04 Kernel: Depends on container host Compiler: gcc (Ubuntu 9.4.0-1ubuntu1~20.04.2) 9.4.0 RHEL8 Kernel: Depends on container host Compiler: gcc 8.5.0 20210514 (Red Hat 8.5.0-22) RHEL9 Kernel: Depends on container host Compiler: gcc 11.5.0 20240719 (Red Hat 11.5.0-2) Fedora 41 (Clang) Kernel: Depends on container host Compiler: clang 19.1.5 (Fedora 19.1.5-1.fc41) Ubuntu 24.04 Kernel: Depends on container host Compiler: gcc (Ubuntu 13.3.0-6ubuntu2~24.04) 13.3.0 Ubuntu 22.04 Kernel: Depends on container host Compiler: gcc (Ubuntu 11.4.0-1ubuntu1~22.04) 11.4.0 Windows Server 2022 Kernel: 10.0.20348.2031 Compiler: clang 15.0.7, gcc 14.1.0 (MinGW), and MSVC VS 19.39.33521 To view detailed results, visit: https://lab.dpdk.org/results/dashboard/tarballs/33414/ UNH-IOL DPDK Community Lab To manage your email subscriptions, visit: https://lab.dpdk.org/results/dashboard/preferences/subscriptions/