From mboxrd@z Thu Jan 1 00:00:00 1970 Return-Path: Received: from mails.dpdk.org (mails.dpdk.org [217.70.189.124]) by inbox.dpdk.org (Postfix) with ESMTP id BFE18466A8 for ; Sat, 3 May 2025 08:47:11 +0200 (CEST) Received: from mails.dpdk.org (localhost [127.0.0.1]) by mails.dpdk.org (Postfix) with ESMTP id 91D5340261; Sat, 3 May 2025 08:47:11 +0200 (CEST) Received: from mail-vs1-f99.google.com (mail-vs1-f99.google.com [209.85.217.99]) by mails.dpdk.org (Postfix) with ESMTP id 202864025D for ; Sat, 3 May 2025 08:47:11 +0200 (CEST) Received: by mail-vs1-f99.google.com with SMTP id ada2fe7eead31-4c9cea30173so751569137.3 for ; Fri, 02 May 2025 23:47:11 -0700 (PDT) DKIM-Signature: v=1; a=rsa-sha256; c=relaxed/relaxed; d=iol.unh.edu; s=unh-iol; t=1746254830; x=1746859630; darn=dpdk.org; h=cc:to:from:subject:message-id:date:from:to:cc:subject:date :message-id:reply-to; bh=rC+gewPWcS+InDS2uPHoUZQVXeJmoMjJPMOreu17S60=; b=Pn9vxTOB0F8eIwy/22vDoQMF9Ebnxm0/lcuhiHhVeiXEWOhbIXh2LWFwg7xiIZjXu2 irBeFpaDLAJ5AP5Wl/R0aUthPj78iWqLIc6ObAOCsdY6wfqStjr63pGW2S+LoKySJFQW IIWYblY9AKH+8eF+0c3cjd4owO6iA+pd2B/l8= X-Google-DKIM-Signature: v=1; a=rsa-sha256; c=relaxed/relaxed; d=1e100.net; s=20230601; t=1746254830; x=1746859630; h=cc:to:from:subject:message-id:date:x-gm-message-state:from:to:cc :subject:date:message-id:reply-to; bh=rC+gewPWcS+InDS2uPHoUZQVXeJmoMjJPMOreu17S60=; b=mQu4WXku/ma1oaokGWSpaJ76U8pg2jJ1dLFAmow7MgmhQg3K8HglWlG6qkOT5WVP4k iRFiGKAz0++BpGaDETaaVOArnmV1rGivEOBS53qLU4GN2tAsPGwUxgPryh6941mVTGC5 gWC4ekmQWr22m8h0crij8w01TKYSDY7GcBpnPrg7sKKVfLo0B2gco2nz5TSrihtvdCuT iXILyMj0cnnjesbVSPV/Txo5s9Igmv72WBrgElEpsOD4xlC1Z3R/vGGmTad9ELZjPMz8 0fXWUG1ACc7nsuj4HRlpa1NE9EZHufo20uK+a1flis13/ni2YPSOgW+hmdEvRtPY5fsR /Jgg== X-Gm-Message-State: AOJu0YxDCVOk3xdlQ/Xz4oX/G77OJgKkAwaNJZd5jvaLZmNga+y8pVQ6 rFi52MiutcFAUOlOZmDcTGvG9PR/UKoq/WMkv1OTbbhTZVhIlnDoyjhbYXi+PSyPuwnJ/cyJoaS bBDsq8ee5wk0E6fk8WGpAgw0yYMYvMdAqtuFm9lpCrCG1Cyis X-Gm-Gg: ASbGncuB6Ug7gkpdFn+emWOHyavoBgh2DTlTyRf+TfR+h4+VafGewgqjcMKkP/2T3yb wj0s4QZb9CwMEqoaUUtaisOkOh30qqOEgEWGZ97StqDdFaLw4yWgL53hUoTQWyvIZtv5iX224Qy DgEFAPJnQ9d7e2Cv1l/jeNMHZtk2YrkvH5X/nUjkp4vzFuw6NRf9oxoXauR6DFn1lCv3rlFe+hj WhfWG/0tO2uhyfMGTFzf9+Mdm6CIlr47505ThrKDgTXzLkK3uO8vn7YGn//9BHdJox3hdl+K+cD t8gTkuUykFbnkXitDhi/aaD6fyySAYwmZioX X-Google-Smtp-Source: AGHT+IHHs1LxLUluVfXqQiTqfJkkcVZu1yCvSXKjB9WcULEVjpRiojKhosz6VhcsbqVxf04JqfsMnvQy9MBP X-Received: by 2002:a05:6102:14a5:b0:4da:e6e9:e103 with SMTP id ada2fe7eead31-4db0c04d475mr1147241137.0.1746254830360; Fri, 02 May 2025 23:47:10 -0700 (PDT) Received: from postal.iol.unh.edu (postal.iol.unh.edu. [2606:4100:3880:1234::84]) by smtp-relay.gmail.com with ESMTPS id a1e0cc1a2514c-8780b020023sm321793241.9.2025.05.02.23.47.10 (version=TLS1_2 cipher=ECDHE-ECDSA-AES128-GCM-SHA256 bits=128/128); Fri, 02 May 2025 23:47:10 -0700 (PDT) X-Relaying-Domain: iol.unh.edu Date: Fri, 02 May 2025 23:47:10 -0700 (PDT) Message-ID: <6815bbee.b00a0220.2c2eca.4602SMTPIN_ADDED_MISSING@mx.google.com> Received: from [172.21.0.5] (unknown [172.18.0.240]) by postal.iol.unh.edu (Postfix) with ESMTP id F09E36052471; Sat, 3 May 2025 02:47:09 -0400 (EDT) Subject: |SUCCESS| [GIT MASTER] 4c5634de9f933555bab9c64a533d3dca999071cd From: dpdklab@iol.unh.edu To: Test Report Cc: dpdk-test-reports@iol.unh.edu, Xueming Li , Christian Ehrhardt , Kevin Traynor , Luca Boccassi Content-Type: text/plain X-BeenThere: test-report@dpdk.org X-Mailman-Version: 2.1.29 Precedence: list List-Id: automatic DPDK test reports List-Unsubscribe: , List-Archive: List-Post: List-Help: List-Subscribe: , Errors-To: test-report-bounces@dpdk.org _Testing PASS_ Branch: tags/v24.11 4c5634de9f933555bab9c64a533d3dca999071cd --> testing pass Upstream job id: ACVP-FIPS-testing#9694 Test environment and result as below: +--------------------+----------------------+----------------------+ | Environment | compressdev_zlib_pmd | dpdk_fips_validation | +====================+======================+======================+ | Ubuntu 22.04 (ARM) | PASS | SKIPPED | +--------------------+----------------------+----------------------+ | Ubuntu 22.04 | PASS | SKIPPED | +--------------------+----------------------+----------------------+ | Ubuntu 20.04 | SKIPPED | PASS | +--------------------+----------------------+----------------------+ Ubuntu 22.04 (ARM) Kernel: 5.15.0-97-generic Compiler: gcc gcc (Ubuntu 11.4.0-1ubuntu1~22.04) 11.4.0 Ubuntu 22.04 Kernel: 5.15.0-100-generic Compiler: gcc gcc (Ubuntu 11.4.0-1ubuntu1~22.04) 11.4.0 Ubuntu 20.04 Kernel: Depends on container host Compiler: gcc (Ubuntu 9.4.0-1ubuntu1~20.04.2) 9.4.0 To view detailed results, visit: https://lab.dpdk.org/results/dashboard/tarballs/33414/ UNH-IOL DPDK Community Lab To manage your email subscriptions, visit: https://lab.dpdk.org/results/dashboard/preferences/subscriptions/