From mboxrd@z Thu Jan 1 00:00:00 1970 Return-Path: Received: from mails.dpdk.org (mails.dpdk.org [217.70.189.124]) by inbox.dpdk.org (Postfix) with ESMTP id 0A6E9466A8 for ; Sat, 3 May 2025 09:00:34 +0200 (CEST) Received: from mails.dpdk.org (localhost [127.0.0.1]) by mails.dpdk.org (Postfix) with ESMTP id C6F9C40261; Sat, 3 May 2025 09:00:33 +0200 (CEST) Received: from mail-oo1-f100.google.com (mail-oo1-f100.google.com [209.85.161.100]) by mails.dpdk.org (Postfix) with ESMTP id C66264025D for ; Sat, 3 May 2025 09:00:32 +0200 (CEST) Received: by mail-oo1-f100.google.com with SMTP id 006d021491bc7-607dceb1afdso1870040eaf.3 for ; Sat, 03 May 2025 00:00:32 -0700 (PDT) DKIM-Signature: v=1; a=rsa-sha256; c=relaxed/relaxed; d=iol.unh.edu; s=unh-iol; t=1746255632; x=1746860432; darn=dpdk.org; h=cc:to:from:subject:message-id:date:from:to:cc:subject:date :message-id:reply-to; bh=hfQJJNRNP/MvvyOmIbfo4aVlbm+WckAVQwPFWysMTPs=; b=QowCGX4W+lK4i+NTAq5BIVLmdJFIobD2bL1GZiOtfTCq/D14TKR7zDd/tXyyzN4iZo 1Frgj58dBXtTAWexqY4cbnr2p9c3dwmMDS8QFYN0/M/rp+oLuj2JbLzBHYScvseuX20j 9xH9b4oZKUuL4UgVoWgNHiD7bgS8jXW2jjT6k= X-Google-DKIM-Signature: v=1; a=rsa-sha256; c=relaxed/relaxed; d=1e100.net; s=20230601; t=1746255632; x=1746860432; h=cc:to:from:subject:message-id:date:x-gm-message-state:from:to:cc :subject:date:message-id:reply-to; bh=hfQJJNRNP/MvvyOmIbfo4aVlbm+WckAVQwPFWysMTPs=; b=O4PLUb8nIidtQJSkqLxZ4BDo7WPnTaN2qSozajN5+2GnyApEN3LNcm3ecs2AqWu8i/ UwDHaYarYQiqXZBD/nVxiaQm+YifR7WtBuHCpoNujnf6k250kMeOApAS36BR+bHfd+rN JAH9RYy9q1PC/5pcPK8MCnoBYek8EC/pMZ7WqTSM0uIytPo+4sStWlM4Gqd3qN+vxKDN yt/SFHL3m7jO1RBu6OOcavkH91tCAoMqcR1bzRdb+RdvDuBK+pBtC8FhWGH33NCLB4QL hOf9LzUzgP3tldZc/5ZC36Ohjpvrte5VrePp3fQOImY69EM4uL0kAixTxYInS8zUA5Ht Z0gA== X-Gm-Message-State: AOJu0Yx27/juLYZIfiP7Pl6WXYNKB0Jnj8Lxlzi0pJMlHjt7pUSeCNoP sCwywTPmG48abUG56EkzXf/c+sC51zHU/tSEjsX2Cf1ExNdRvq4JZwZY/fsSaihm/6A+KhWSjUR /7ha/MLeJMdxK32dpoj2HSnC/eH3L8+bsrIbhkHzP6jBbgDYX X-Gm-Gg: ASbGncsJ5NZdMc+tqSpsVU4s4GxYS5u+VX7D5CbJWK3HpdGgM273dHEg6+u4osehDUR rb4w77aY2tFzvVlfWnW3oWVZLQJksB3cNFVvwm+dbo9FlDGiOW2EBP0YFRAjD0Bc50grdADUMjL xDuFanOvJC471QRkD+8HZbexrgWwdRCcs4cj8O9xs3rRsaUTwi97n39BITuZZE7b51yXVoPHFAd dzkAFmaSQLJr/hd3ztGrVlNYKVcSB7d4opw89T9OVUntjMHpoAk9q3rgIYAn0Uwd0xp3BpScn2k Ru++vnFNYjYSgEGX9ugNdhPMztONcfG3U/8k X-Google-Smtp-Source: AGHT+IFaLJ9EEyh6I23uhLusjqALEgl3F9xFSeD5bBOn4lbuWyaFF2fTuc0h5qw0KS7sdWoel5tjUeCeqqVV X-Received: by 2002:a05:6871:687:b0:2a7:d856:94a with SMTP id 586e51a60fabf-2dae83d3f51mr44577fac.22.1746255631773; Sat, 03 May 2025 00:00:31 -0700 (PDT) Received: from postal.iol.unh.edu (postal.iol.unh.edu. [2606:4100:3880:1234::84]) by smtp-relay.gmail.com with ESMTPS id 586e51a60fabf-2daa11a7846sm900052fac.29.2025.05.03.00.00.31 (version=TLS1_2 cipher=ECDHE-ECDSA-AES128-GCM-SHA256 bits=128/128); Sat, 03 May 2025 00:00:31 -0700 (PDT) X-Relaying-Domain: iol.unh.edu Date: Sat, 03 May 2025 00:00:31 -0700 (PDT) Message-ID: <6815bf0f.050a0220.9f17b.b2fcSMTPIN_ADDED_MISSING@mx.google.com> Received: from [172.21.0.7] (unknown [172.18.0.240]) by postal.iol.unh.edu (Postfix) with ESMTP id 629CE6052471; Sat, 3 May 2025 03:00:31 -0400 (EDT) Subject: |SUCCESS| [GIT MASTER] 83a7a648344674c0269fcaeb71d8d16468421a0e From: dpdklab@iol.unh.edu To: Test Report Cc: dpdk-test-reports@iol.unh.edu, Xueming Li , Christian Ehrhardt , Kevin Traynor , Luca Boccassi Content-Type: text/plain X-BeenThere: test-report@dpdk.org X-Mailman-Version: 2.1.29 Precedence: list List-Id: automatic DPDK test reports List-Unsubscribe: , List-Archive: List-Post: List-Help: List-Subscribe: , Errors-To: test-report-bounces@dpdk.org _Testing PASS_ Branch: tags/v23.11 83a7a648344674c0269fcaeb71d8d16468421a0e --> testing pass Upstream job id: Generic-Unit-Test-DPDK#334915 Test environment and result as below: +---------------------+----------------+ | Environment | dpdk_unit_test | +=====================+================+ | CentOS Stream 9 | PASS | +---------------------+----------------+ | Fedora 41 | PASS | +---------------------+----------------+ | Debian 12 | PASS | +---------------------+----------------+ | Fedora 41 (Clang) | PASS | +---------------------+----------------+ | Fedora 40 | PASS | +---------------------+----------------+ | CentOS Stream 10 | PASS | +---------------------+----------------+ | Fedora 40 (Clang) | PASS | +---------------------+----------------+ | RHEL8 | PASS | +---------------------+----------------+ | RHEL9 | PASS | +---------------------+----------------+ | Ubuntu 20.04 | PASS | +---------------------+----------------+ | Ubuntu 24.04 | PASS | +---------------------+----------------+ | Ubuntu 22.04 | PASS | +---------------------+----------------+ | Windows Server 2022 | PASS | +---------------------+----------------+ CentOS Stream 9 Kernel: Depends on container host Compiler: gcc 11.5.0 20240719 (Red Hat 11.5.0-2) Fedora 41 Kernel: Depends on container host Compiler: gcc 14.2.1 20240912 (Red Hat 14.2.1-3) Debian 12 Kernel: Depends on container host Compiler: gcc (Debian 12.2.0-14) 12.2.0 Fedora 41 (Clang) Kernel: Depends on container host Compiler: clang 19.1.5 (Fedora 19.1.5-1.fc41) Fedora 40 Kernel: Depends on container host Compiler: gcc 14.2.1 20240912 (Red Hat 14.2.1-3) CentOS Stream 10 Kernel: Depends on container host Compiler: gcc 14.2.1 20241104 (Red Hat 14.2.1-6) Fedora 40 (Clang) Kernel: Depends on container host Compiler: clang 18.1.8 (Fedora 18.1.8-1.fc40) RHEL8 Kernel: Depends on container host Compiler: gcc 8.5.0 20210514 (Red Hat 8.5.0-22) RHEL9 Kernel: Depends on container host Compiler: gcc 11.5.0 20240719 (Red Hat 11.5.0-2) Ubuntu 20.04 Kernel: Depends on container host Compiler: gcc (Ubuntu 9.4.0-1ubuntu1~20.04.2) 9.4.0 Ubuntu 24.04 Kernel: Depends on container host Compiler: gcc (Ubuntu 13.3.0-6ubuntu2~24.04) 13.3.0 Ubuntu 22.04 Kernel: Depends on container host Compiler: gcc (Ubuntu 11.4.0-1ubuntu1~22.04) 11.4.0 Windows Server 2022 Kernel: 10.0.20348.2031 Compiler: clang 15.0.7, gcc 14.1.0 (MinGW), and MSVC VS 19.39.33521 To view detailed results, visit: https://lab.dpdk.org/results/dashboard/tarballs/33415/ UNH-IOL DPDK Community Lab To manage your email subscriptions, visit: https://lab.dpdk.org/results/dashboard/preferences/subscriptions/