From mboxrd@z Thu Jan 1 00:00:00 1970 Return-Path: Received: from mails.dpdk.org (mails.dpdk.org [217.70.189.124]) by inbox.dpdk.org (Postfix) with ESMTP id 0E10D466A8 for ; Sat, 3 May 2025 09:02:17 +0200 (CEST) Received: from mails.dpdk.org (localhost [127.0.0.1]) by mails.dpdk.org (Postfix) with ESMTP id 004F140261; Sat, 3 May 2025 09:02:17 +0200 (CEST) Received: from mail-io1-f99.google.com (mail-io1-f99.google.com [209.85.166.99]) by mails.dpdk.org (Postfix) with ESMTP id 467EB4025D for ; Sat, 3 May 2025 09:02:16 +0200 (CEST) Received: by mail-io1-f99.google.com with SMTP id ca18e2360f4ac-85e751cffbeso247911639f.0 for ; Sat, 03 May 2025 00:02:16 -0700 (PDT) DKIM-Signature: v=1; a=rsa-sha256; c=relaxed/relaxed; d=iol.unh.edu; s=unh-iol; t=1746255735; x=1746860535; darn=dpdk.org; h=cc:to:from:subject:message-id:date:from:to:cc:subject:date :message-id:reply-to; bh=A9sBHEKNgMqK3co8xEskhCIliX7Htt64FOPVKab4eZw=; b=PC/UWNGzEOulQPPTNErq6pSZHAXnM1gP+6b81MOi3RkNmaiozbK0teRX3VDYfUBvjT q86DAm7FzIy7Hgu5H9ELYXz1z0PAr0qItxh7XSApCv6lwBzPhQ7Or90/B9pFP6BoHQXC 2utG6v4KaFN3hIdmiO7J9IUG3MqJHKv06Si6E= X-Google-DKIM-Signature: v=1; a=rsa-sha256; c=relaxed/relaxed; d=1e100.net; s=20230601; t=1746255735; x=1746860535; h=cc:to:from:subject:message-id:date:x-gm-message-state:from:to:cc :subject:date:message-id:reply-to; bh=A9sBHEKNgMqK3co8xEskhCIliX7Htt64FOPVKab4eZw=; b=XMFBgR886syFS8KIbhxq0fP6gVt7QeQ4Nw7y9hF438gwR8Jk+W+I78jKf1BN1a0IAL vQQh6jFl/5iNJV15uHkG1KTdaVogI/Y0W6Pe2ELe+06bHEyRCp2RlXxDvRpHg/V4Q4uM We3srG3EIztUYHmHV9GGNQan7HVXZaAoF9M4jO+FYHGM0TSfpLTIBNRQ2G3hMLyQgn1s mEnauH7E4kammnP2H6ieemJFv33ItZe9ugNuxPtdm3Exz1mLSR9+cgtkB4BkwZOWXRPD d8+bHySon7VOq1UwbY2D5CAqzKbIcizAzBz3K0NI3auY6U/bp35Zqc9FYssOwCfAyCMI 3Fzw== X-Gm-Message-State: AOJu0YxjcB121SOSAvzrOwM1W2bEdHiBZXQf6UgJfKxnO2Yhj2YiLuUz wjvCJk4LV/X9FBDfEcSJWYDHMMh9ruxDbIgh3rihldpe7F+p//zYCvrNr0FKzcOidWDA2OvkVnQ V2FQkyS3Xc+Ii9JM2vInKQev/ydUkkX7n X-Gm-Gg: ASbGncvICEJ80reRSZ3t0EZt29vifhE/ytT9G6uWXvaTcgeEmTFA1o7uFV8iUU/OJ2A lrTOX8A5yRfFdPZyResbgQlVKkBqxwvOq5Xp6FRrHi4X9ng6VeokAbqMDrJNe6+CwyV4Uauh3JO 44anf0ymBDEFuIVRv95zP0+L/36MjdqD6hMmBEifFRUXYCFmnUffXsHB3PVA+BgryFoKnmFrcvy C0bSw4SN/7JUahENTZftYqNKG7oIKX8RsMiZGk/mVDl23gdP93PvyjNt9jAGVrM46m4Q4vNF6uv zKj3pSQDwV7Ter4dRAvfOdmq8qxjvb2e1mdu0smF0knzchLl+bC3wajpCJI= X-Google-Smtp-Source: AGHT+IG9BreAsyOa5jK/a7pEemiiTTElLf+OQCChFHFv5jckviB96yLHgTOIrBb8lv6nlinsndmny8Gdu6iy X-Received: by 2002:a05:6e02:18cb:b0:3d6:cbad:235c with SMTP id e9e14a558f8ab-3da5b25c373mr1449015ab.6.1746255735545; Sat, 03 May 2025 00:02:15 -0700 (PDT) Received: from postal.iol.unh.edu (postal.iol.unh.edu. [132.177.123.84]) by smtp-relay.gmail.com with ESMTPS id 8926c6da1cb9f-4f88aa9cc5esm640755173.70.2025.05.03.00.02.15 (version=TLS1_2 cipher=ECDHE-ECDSA-AES128-GCM-SHA256 bits=128/128); Sat, 03 May 2025 00:02:15 -0700 (PDT) X-Relaying-Domain: iol.unh.edu Date: Sat, 03 May 2025 00:02:15 -0700 (PDT) Message-ID: <6815bf77.050a0220.39c35e.8bf4SMTPIN_ADDED_MISSING@mx.google.com> Received: from [172.21.0.7] (unknown [172.18.0.240]) by postal.iol.unh.edu (Postfix) with ESMTP id 284C86052471; Sat, 3 May 2025 03:02:15 -0400 (EDT) Subject: |SUCCESS| [GIT MASTER] 83a7a648344674c0269fcaeb71d8d16468421a0e From: dpdklab@iol.unh.edu To: Test Report Cc: dpdk-test-reports@iol.unh.edu, Xueming Li , Christian Ehrhardt , Kevin Traynor , Luca Boccassi Content-Type: text/plain X-BeenThere: test-report@dpdk.org X-Mailman-Version: 2.1.29 Precedence: list List-Id: automatic DPDK test reports List-Unsubscribe: , List-Archive: List-Post: List-Help: List-Subscribe: , Errors-To: test-report-bounces@dpdk.org _Testing PASS_ Branch: tags/v23.11 83a7a648344674c0269fcaeb71d8d16468421a0e --> testing pass Upstream job id: Generic-Unit-Test-DPDK#334919 Test environment and result as below: +-----------------------------+----------------+---------------------------+------------------------------+--------------+ | Environment | dpdk_unit_test | cryptodev_sw_zuc_autotest | cryptodev_sw_snow3g_autotest | lpm_autotest | +=============================+================+===========================+==============================+==============+ | Fedora 40 (ARM) | PASS | SKIPPED | SKIPPED | SKIPPED | +-----------------------------+----------------+---------------------------+------------------------------+--------------+ | Debian 12 (arm) | PASS | PASS | PASS | SKIPPED | +-----------------------------+----------------+---------------------------+------------------------------+--------------+ | CentOS Stream 9 (ARM) | PASS | SKIPPED | SKIPPED | SKIPPED | +-----------------------------+----------------+---------------------------+------------------------------+--------------+ | CentOS Stream 10 (ARM) | PASS | SKIPPED | SKIPPED | SKIPPED | +-----------------------------+----------------+---------------------------+------------------------------+--------------+ | Fedora 41 (ARM) | PASS | SKIPPED | SKIPPED | SKIPPED | +-----------------------------+----------------+---------------------------+------------------------------+--------------+ | Fedora 41 (ARM Clang) | PASS | SKIPPED | SKIPPED | SKIPPED | +-----------------------------+----------------+---------------------------+------------------------------+--------------+ | RHEL9 (ARM) | PASS | SKIPPED | SKIPPED | SKIPPED | +-----------------------------+----------------+---------------------------+------------------------------+--------------+ | Fedora 40 (ARM Clang) | PASS | SKIPPED | SKIPPED | SKIPPED | +-----------------------------+----------------+---------------------------+------------------------------+--------------+ | Ubuntu 20.04 (ARM) | PASS | SKIPPED | SKIPPED | SKIPPED | +-----------------------------+----------------+---------------------------+------------------------------+--------------+ | Ubuntu 22.04 (ARM) | PASS | SKIPPED | SKIPPED | SKIPPED | +-----------------------------+----------------+---------------------------+------------------------------+--------------+ | Ubuntu 24.04 (ARM) | PASS | SKIPPED | SKIPPED | SKIPPED | +-----------------------------+----------------+---------------------------+------------------------------+--------------+ | 32-bit Ubuntu 22.04.4 (ARM) | PASS | SKIPPED | SKIPPED | SKIPPED | +-----------------------------+----------------+---------------------------+------------------------------+--------------+ | Ubuntu 20.04 ARM SVE | SKIPPED | SKIPPED | SKIPPED | PASS | +-----------------------------+----------------+---------------------------+------------------------------+--------------+ Fedora 40 (ARM) Kernel: Depends on container host Compiler: gcc 14.2.1 20240912 (Red Hat 14.2.1-3) Debian 12 (arm) Kernel: Depends on container host Compiler: gcc (Debian 12.2.0-14) 12.2.0 CentOS Stream 9 (ARM) Kernel: Depends on container host Compiler: gcc 11.5.0 20240719 (Red Hat 11.5.0-2) CentOS Stream 10 (ARM) Kernel: Depends on container host Compiler: gcc 14.2.1 20241104 (Red Hat 14.2.1-6) Fedora 41 (ARM) Kernel: Depends on container host Compiler: gcc 14.2.1 20240912 (Red Hat 14.2.1-3) Fedora 41 (ARM Clang) Kernel: Depends on container host Compiler: clang 19.1.5 (Fedora 19.1.5-1.fc41) RHEL9 (ARM) Kernel: Depends on container host Compiler: gcc 11.5.0 20240719 (Red Hat 11.5.0-2) Fedora 40 (ARM Clang) Kernel: Depends on container host Compiler: clang 18.1.8 (Fedora 18.1.8-1.fc40) Ubuntu 20.04 (ARM) Kernel: Depends on container host Compiler: gcc (Ubuntu 9.4.0-1ubuntu1~20.04.2) 9.4.0 Ubuntu 22.04 (ARM) Kernel: Depends on container host Compiler: gcc (Ubuntu 11.4.0-1ubuntu1~22.04) 11.4.0 Ubuntu 24.04 (ARM) Kernel: Depends on container host Compiler: gcc (Ubuntu 13.3.0-6ubuntu2~24.04) 13.3.0 32-bit Ubuntu 22.04.4 (ARM) Kernel: 5.15.83+ aarch64 Compiler: gcc (Ubuntu 11.4.0-1ubuntu1~22.04) 11.4.0 Ubuntu 20.04 ARM SVE Kernel: Depends on container host Compiler: gcc (Ubuntu 10.5.0-1ubuntu1~20.04) 10.5.0 To view detailed results, visit: https://lab.dpdk.org/results/dashboard/tarballs/33415/ UNH-IOL DPDK Community Lab To manage your email subscriptions, visit: https://lab.dpdk.org/results/dashboard/preferences/subscriptions/