From mboxrd@z Thu Jan 1 00:00:00 1970 Return-Path: Received: from mails.dpdk.org (mails.dpdk.org [217.70.189.124]) by inbox.dpdk.org (Postfix) with ESMTP id 9AD67466A8 for ; Sat, 3 May 2025 09:42:42 +0200 (CEST) Received: from mails.dpdk.org (localhost [127.0.0.1]) by mails.dpdk.org (Postfix) with ESMTP id 9576C40261; Sat, 3 May 2025 09:42:42 +0200 (CEST) Received: from mail-il1-f228.google.com (mail-il1-f228.google.com [209.85.166.228]) by mails.dpdk.org (Postfix) with ESMTP id 605E24025D for ; Sat, 3 May 2025 09:42:41 +0200 (CEST) Received: by mail-il1-f228.google.com with SMTP id e9e14a558f8ab-3d8dcc7cd17so12803265ab.1 for ; Sat, 03 May 2025 00:42:41 -0700 (PDT) DKIM-Signature: v=1; a=rsa-sha256; c=relaxed/relaxed; d=iol.unh.edu; s=unh-iol; t=1746258160; x=1746862960; darn=dpdk.org; h=cc:to:from:subject:message-id:date:from:to:cc:subject:date :message-id:reply-to; bh=aocHokeA5mtumC+hY/3umqsGIgvQ2DQKXPBG4r6Kahg=; b=iTpte9EQ5NlpvWieuJPjPsRDPZQtmQGHgokU1SrPvb2MByVSXT0fPixGPwcsY8AX4u jbKhzEfrVingqTSGLMDHDgphxmqsNUyM1ta/7QgzQMR7CVSn9hgzZVWvCCAPXKsIeAht NQ40pMkT0QoIxjyS2oaLm5UbgVhHteEBYWoHA= X-Google-DKIM-Signature: v=1; a=rsa-sha256; c=relaxed/relaxed; d=1e100.net; s=20230601; t=1746258160; x=1746862960; h=cc:to:from:subject:message-id:date:x-gm-message-state:from:to:cc :subject:date:message-id:reply-to; bh=aocHokeA5mtumC+hY/3umqsGIgvQ2DQKXPBG4r6Kahg=; b=efpcaMbum38ebPRye+lo+zNdSKoTy1p1TRIpKBRjrHNcVXIX2cb4zcxWXvrXdFzmt1 kBeNo0WPU6qhccMGTC8uRIvZmykqKh7ECxTe3BJLAhDKhFzjhXp0hR/HeSSo6wD0gM/S d9eTc4Dnqga7Iqy/lYoNbHgZzHafC+3+EU7JwoEmA0LWDPmkQx5Phd9XdBSqcyR9gUih K6yPXpUsJuB/WKZ7WGVAqD0uakWEBPKHJuTH9iOwQ+T7lYslVGma59SByRSM/E5SQorS QTuXgSq8vGoGX/9pykRizSvuR0oin9+ivvv4Y6FEnPKlcV2tA1szXp9K0oLu0n71ByZZ 5Oeg== X-Gm-Message-State: AOJu0YwZI1DLyH5Peo4pG2ALrl20Bo6N2VRmPxBbasnamxuPiw7xOkwt kaCv1Yh5m9Sj9mlIzeMyopfABBYRJXaOlAJrKyZomOTkDTbhdKHRzZ50mcsYvu7Hcswf9PO+0p+ mF/TBiKsbHfEsUbBFf8o94gDg8Sa8p66bytkBRQLybP70eiaq X-Gm-Gg: ASbGnctuyeWtbNRbf19jAEopuz/J5TOm9HST2yMsyY/wZFB6UR7GZ4zkG51yBbB1+nl cifekjEEHvq+VAmo405Uf64DX9493kXNCg3KcNV8hQLt1tkH9DmJT8b4j59oy5mFmAV/2mqpCYi OqiJBTRedCZ9eZk5EWMQTOm/E5zFnay/LEvvRD70F9WilqYI6NOGf7o9feOGS6nxwGMU6DYqv9J 1Ua05vPCliUnMAW5g085s6+8q35HI16JaRhi87ZW2cLlWTOWxhqVrbBxKtJo6xXeiwHsWLEIv2e P1Ds8vR/+G4L+1AcFzGJzqbNq619gAU8SL+2 X-Google-Smtp-Source: AGHT+IGBUMDaAqhhetLCBKaGXvYqhJetoqF98I5jvStfWwjx3bKqTUJl5O5a3zvI4gLRDTAp+OjrVMBBtgos X-Received: by 2002:a05:6e02:3a08:b0:3d6:cb49:1e5f with SMTP id e9e14a558f8ab-3d970a6e9abmr109113195ab.2.1746258160614; Sat, 03 May 2025 00:42:40 -0700 (PDT) Received: from postal.iol.unh.edu (postal.iol.unh.edu. [2606:4100:3880:1234::84]) by smtp-relay.gmail.com with ESMTPS id e9e14a558f8ab-3d976072630sm9017065ab.68.2025.05.03.00.42.40 (version=TLS1_2 cipher=ECDHE-ECDSA-AES128-GCM-SHA256 bits=128/128); Sat, 03 May 2025 00:42:40 -0700 (PDT) X-Relaying-Domain: iol.unh.edu Date: Sat, 03 May 2025 00:42:40 -0700 (PDT) Message-ID: <6815c8f0.050a0220.38b8b4.af56SMTPIN_ADDED_MISSING@mx.google.com> Received: from [172.21.0.5] (unknown [172.18.0.240]) by postal.iol.unh.edu (Postfix) with ESMTP id 457736052471; Sat, 3 May 2025 03:42:40 -0400 (EDT) Subject: |SUCCESS| [GIT MASTER] 83a7a648344674c0269fcaeb71d8d16468421a0e From: dpdklab@iol.unh.edu To: Test Report Cc: dpdk-test-reports@iol.unh.edu, Xueming Li , Christian Ehrhardt , Kevin Traynor , Luca Boccassi Content-Type: text/plain X-BeenThere: test-report@dpdk.org X-Mailman-Version: 2.1.29 Precedence: list List-Id: automatic DPDK test reports List-Unsubscribe: , List-Archive: List-Post: List-Help: List-Subscribe: , Errors-To: test-report-bounces@dpdk.org _Testing PASS_ Branch: tags/v23.11 83a7a648344674c0269fcaeb71d8d16468421a0e --> testing pass Upstream job id: Generic-DPDK-Compile-Meson#384579 Test environment and result as below: +------------------------------------+--------------------+ | Environment | dpdk_meson_compile | +====================================+====================+ | RHEL9 (ARM) | PASS | +------------------------------------+--------------------+ | Ubuntu 20.04 ARM GCC Cross Compile | PASS | +------------------------------------+--------------------+ | Debian 12 with MUSDK | PASS | +------------------------------------+--------------------+ | Fedora 40 (ARM Clang) | PASS | +------------------------------------+--------------------+ | Fedora 40 (ARM) | PASS | +------------------------------------+--------------------+ | Ubuntu 20.04 (ARM) | PASS | +------------------------------------+--------------------+ | Fedora 41 (ARM) | PASS | +------------------------------------+--------------------+ | Fedora 41 (ARM Clang) | PASS | +------------------------------------+--------------------+ | Ubuntu 20.04 ARM SVE | PASS | +------------------------------------+--------------------+ | Ubuntu 22.04 (ARM) | PASS | +------------------------------------+--------------------+ | Ubuntu 24.04 (ARM) | PASS | +------------------------------------+--------------------+ | Debian 12 (arm) | PASS | +------------------------------------+--------------------+ | CentOS Stream 9 (ARM) | PASS | +------------------------------------+--------------------+ | CentOS Stream 10 (ARM) | PASS | +------------------------------------+--------------------+ RHEL9 (ARM) Kernel: Depends on container host Compiler: gcc 11.5.0 20240719 (Red Hat 11.5.0-2) Ubuntu 20.04 ARM GCC Cross Compile Kernel: Depends on container host Compiler: aarch64-linux-gnu-gcc (Ubuntu 9.4.0-1ubuntu1~20.04.2) 9.4.0 Debian 12 with MUSDK Kernel: Depends on container host Compiler: gcc (Debian 12.2.0-14) 12.2.0 Fedora 40 (ARM Clang) Kernel: Depends on container host Compiler: clang 18.1.8 (Fedora 18.1.8-1.fc40) Fedora 40 (ARM) Kernel: Depends on container host Compiler: gcc 14.2.1 20240912 (Red Hat 14.2.1-3) Ubuntu 20.04 (ARM) Kernel: Depends on container host Compiler: gcc (Ubuntu 9.4.0-1ubuntu1~20.04.2) 9.4.0 Fedora 41 (ARM) Kernel: Depends on container host Compiler: gcc 14.2.1 20240912 (Red Hat 14.2.1-3) Fedora 41 (ARM Clang) Kernel: Depends on container host Compiler: clang 19.1.5 (Fedora 19.1.5-1.fc41) Ubuntu 20.04 ARM SVE Kernel: Depends on container host Compiler: gcc (Ubuntu 10.5.0-1ubuntu1~20.04) 10.5.0 Ubuntu 22.04 (ARM) Kernel: Depends on container host Compiler: gcc (Ubuntu 11.4.0-1ubuntu1~22.04) 11.4.0 Ubuntu 24.04 (ARM) Kernel: Depends on container host Compiler: gcc (Ubuntu 13.3.0-6ubuntu2~24.04) 13.3.0 Debian 12 (arm) Kernel: Depends on container host Compiler: gcc (Debian 12.2.0-14) 12.2.0 CentOS Stream 9 (ARM) Kernel: Depends on container host Compiler: gcc 11.5.0 20240719 (Red Hat 11.5.0-2) CentOS Stream 10 (ARM) Kernel: Depends on container host Compiler: gcc 14.2.1 20241104 (Red Hat 14.2.1-6) To view detailed results, visit: https://lab.dpdk.org/results/dashboard/tarballs/33415/ UNH-IOL DPDK Community Lab To manage your email subscriptions, visit: https://lab.dpdk.org/results/dashboard/preferences/subscriptions/